



BEGIN:VCALENDAR
VERSION:2.0
PRODID:-//COC Midden-Gelderland - ECPv6.15.17.1//NONSGML v1.0//EN
CALSCALE:GREGORIAN
METHOD:PUBLISH
X-WR-CALNAME:COC Midden-Gelderland
X-ORIGINAL-URL:https://www.cocmiddengelderland.nl
X-WR-CALDESC:Evenementen voor COC Midden-Gelderland
REFRESH-INTERVAL;VALUE=DURATION:PT1H
X-Robots-Tag:noindex
X-PUBLISHED-TTL:PT1H
BEGIN:VTIMEZONE
TZID:Europe/Amsterdam
BEGIN:DAYLIGHT
TZOFFSETFROM:+0100
TZOFFSETTO:+0200
TZNAME:CEST
DTSTART:20240331T010000
END:DAYLIGHT
BEGIN:STANDARD
TZOFFSETFROM:+0200
TZOFFSETTO:+0100
TZNAME:CET
DTSTART:20241027T010000
END:STANDARD
BEGIN:DAYLIGHT
TZOFFSETFROM:+0100
TZOFFSETTO:+0200
TZNAME:CEST
DTSTART:20250330T010000
END:DAYLIGHT
BEGIN:STANDARD
TZOFFSETFROM:+0200
TZOFFSETTO:+0100
TZNAME:CET
DTSTART:20251026T010000
END:STANDARD
BEGIN:DAYLIGHT
TZOFFSETFROM:+0100
TZOFFSETTO:+0200
TZNAME:CEST
DTSTART:20260329T010000
END:DAYLIGHT
BEGIN:STANDARD
TZOFFSETFROM:+0200
TZOFFSETTO:+0100
TZNAME:CET
DTSTART:20261025T010000
END:STANDARD
END:VTIMEZONE
BEGIN:VEVENT
DTSTART;TZID=Europe/Amsterdam:20251130T130000
DTEND;TZID=Europe/Amsterdam:20251130T180000
DTSTAMP:20260423T170510
CREATED:20251024T183212Z
LAST-MODIFIED:20251024T183214Z
UID:10000668-1764507600-1764525600@www.cocmiddengelderland.nl
SUMMARY:Jong&out
DESCRIPTION:Elke maand organiseren wij een Jong & Out-meeting voor LHTBI+-jongeren 12 tot 18 jaar.  De invulling verschilt per keer: van creatieve workshops en speurtochten tot spelmiddagen en uitstapjes naar bijvoorbeeld een museum Bekijk de Instagram van Jong&Out Arnhem voor meer informatie.
URL:https://www.cocmiddengelderland.nl/event/jongout/2025-11-30/
LOCATION:Buurtcentrum de Lommerd\, Spijkerstraat 185a\, Arnhem\, 6828DC\, Netherlands
CATEGORIES:Arnhem,Jongeren,t/m 18 jaar
ATTACH;FMTTYPE=image/jpeg:https://www.cocmiddengelderland.nl/wp-content/uploads/2024/12/jong-out-2-100.jpg
END:VEVENT
END:VCALENDAR