



BEGIN:VCALENDAR
VERSION:2.0
PRODID:-//COC Midden-Gelderland - ECPv6.15.17.1//NONSGML v1.0//EN
CALSCALE:GREGORIAN
METHOD:PUBLISH
X-ORIGINAL-URL:https://www.cocmiddengelderland.nl
X-WR-CALDESC:Evenementen voor COC Midden-Gelderland
REFRESH-INTERVAL;VALUE=DURATION:PT1H
X-Robots-Tag:noindex
X-PUBLISHED-TTL:PT1H
BEGIN:VTIMEZONE
TZID:Europe/Amsterdam
BEGIN:DAYLIGHT
TZOFFSETFROM:+0100
TZOFFSETTO:+0200
TZNAME:CEST
DTSTART:20250330T010000
END:DAYLIGHT
BEGIN:STANDARD
TZOFFSETFROM:+0200
TZOFFSETTO:+0100
TZNAME:CET
DTSTART:20251026T010000
END:STANDARD
BEGIN:DAYLIGHT
TZOFFSETFROM:+0100
TZOFFSETTO:+0200
TZNAME:CEST
DTSTART:20260329T010000
END:DAYLIGHT
BEGIN:STANDARD
TZOFFSETFROM:+0200
TZOFFSETTO:+0100
TZNAME:CET
DTSTART:20261025T010000
END:STANDARD
BEGIN:DAYLIGHT
TZOFFSETFROM:+0100
TZOFFSETTO:+0200
TZNAME:CEST
DTSTART:20270328T010000
END:DAYLIGHT
BEGIN:STANDARD
TZOFFSETFROM:+0200
TZOFFSETTO:+0100
TZNAME:CET
DTSTART:20271031T010000
END:STANDARD
END:VTIMEZONE
BEGIN:VEVENT
DTSTART;TZID=Europe/Amsterdam:20260225T180000
DTEND;TZID=Europe/Amsterdam:20260225T200000
DTSTAMP:20260420T011518
CREATED:20251209T131524Z
LAST-MODIFIED:20251209T131956Z
UID:10001620-1772042400-1772049600@www.cocmiddengelderland.nl
SUMMARY:Cocktail
DESCRIPTION:Every last Wednesday of the month\, COC Midden-Gelderland organizes a meeting of Cocktail! This activity is for LGBTQ+ refugees\, asylum seekers and status holders. Watch our social media channels for more information about the monthly activity. \n\n\n\nAre you coming? Sign yourself up by mail: cocktail@cocmiddengelderland.nl
URL:https://www.cocmiddengelderland.nl/event/cocktail-2/2026-02-25/
LOCATION:De Nieuwe Hommel\, De Wiltstraat 6\, Arnhem\, 6821 CE\, Netherlands
CATEGORIES:Arnhem,Engelstalig,Refugees,Vluchteling,Woensdag
ATTACH;FMTTYPE=image/jpeg:https://www.cocmiddengelderland.nl/wp-content/uploads/2024/12/cocktail_1-100.jpg
END:VEVENT
BEGIN:VEVENT
DTSTART;TZID=Europe/Amsterdam:20260227T190000
DTEND;TZID=Europe/Amsterdam:20260227T220000
DTSTAMP:20260420T011518
CREATED:20251024T184434Z
LAST-MODIFIED:20251203T232427Z
UID:10000736-1772218800-1772229600@www.cocmiddengelderland.nl
SUMMARY:QueerMiBo
DESCRIPTION:NL: 🎉 Zin om je week af te sluiten met een borrel? Kom naar de Queer-Mi-Bo\, elke oneven week in De Kurk! 🏳️‍🌈 Neem je studiegenoten\, collega’s en vrienden mee en geniet samen van een gezellige vrijdagmiddag 🥂 \n\n\n\nENG: 🎉 Ready to wrap up your week with a drink? Join the Queer-Mi-Bo every odd week at De Kurk! 🏳️‍🌈 Bring your classmates\, colleagues\, and friends for a fun Friday afternoon 🥂 \n\n\n\nDe KurkSteenstraat 686828 CN Arnhem
URL:https://www.cocmiddengelderland.nl/event/queer-mi-bo/2026-02-27/
LOCATION:De Kurk\, Steenstraat 68\, Arnhem\, 6828 CN\, Netherlands
CATEGORIES:Arnhem,Borrel,Engelstalig,Vrijdag
ATTACH;FMTTYPE=image/jpeg:https://www.cocmiddengelderland.nl/wp-content/uploads/2025/05/Middel-53-50.jpg
END:VEVENT
BEGIN:VEVENT
DTSTART;TZID=Europe/Amsterdam:20260228T140000
DTEND;TZID=Europe/Amsterdam:20260228T170000
DTSTAMP:20260420T011518
CREATED:20251024T182200Z
LAST-MODIFIED:20251027T132711Z
UID:10000424-1772287200-1772298000@www.cocmiddengelderland.nl
SUMMARY:Informatiespreekuur
DESCRIPTION:Ons team is er voor iedereen met vragen over seksuele oriëntatie\, genderidentiteit\, genderexpressie of seksekenmerken. Stel je vragen via chat\, mail\, telefoon of maak een afspraak om langs te komen. Let op: langskomen is alleen mogelijk wanneer er een afspraak is gemaakt. \n\n\n\n🇬🇧 \n\n\n\nOur team is here for anyone with questions about sexual orientation\, gender identity\, gender expression\, or sex characteristics. Ask your questions via chat\, email\, phone\, or schedule an appointment to visit. Note: Visiting is only possible by appointment. \n\n\n\nTelefoon: 020 623 65 65info@switchboard.nl \n\n\n\nwww.switchboard.nl
URL:https://www.cocmiddengelderland.nl/event/informatiespreekuur/2026-02-28/
LOCATION:Buurtcentrum de Lommerd\, Spijkerstraat 185a\, Arnhem\, 6828DC\, Netherlands
CATEGORIES:Arnhem,Coming-out,Seksuele oriëntatie,Veiligheid,Vragen,Zaterdag
ATTACH;FMTTYPE=image/jpeg:https://www.cocmiddengelderland.nl/wp-content/uploads/2024/12/informatiespreekuur_1-100.jpg
END:VEVENT
END:VCALENDAR