



BEGIN:VCALENDAR
VERSION:2.0
PRODID:-//COC Midden-Gelderland - ECPv6.15.17.1//NONSGML v1.0//EN
CALSCALE:GREGORIAN
METHOD:PUBLISH
X-ORIGINAL-URL:https://www.cocmiddengelderland.nl
X-WR-CALDESC:Evenementen voor COC Midden-Gelderland
REFRESH-INTERVAL;VALUE=DURATION:PT1H
X-Robots-Tag:noindex
X-PUBLISHED-TTL:PT1H
BEGIN:VTIMEZONE
TZID:Europe/Amsterdam
BEGIN:DAYLIGHT
TZOFFSETFROM:+0100
TZOFFSETTO:+0200
TZNAME:CEST
DTSTART:20250330T010000
END:DAYLIGHT
BEGIN:STANDARD
TZOFFSETFROM:+0200
TZOFFSETTO:+0100
TZNAME:CET
DTSTART:20251026T010000
END:STANDARD
BEGIN:DAYLIGHT
TZOFFSETFROM:+0100
TZOFFSETTO:+0200
TZNAME:CEST
DTSTART:20260329T010000
END:DAYLIGHT
BEGIN:STANDARD
TZOFFSETFROM:+0200
TZOFFSETTO:+0100
TZNAME:CET
DTSTART:20261025T010000
END:STANDARD
BEGIN:DAYLIGHT
TZOFFSETFROM:+0100
TZOFFSETTO:+0200
TZNAME:CEST
DTSTART:20270328T010000
END:DAYLIGHT
BEGIN:STANDARD
TZOFFSETFROM:+0200
TZOFFSETTO:+0100
TZNAME:CET
DTSTART:20271031T010000
END:STANDARD
END:VTIMEZONE
BEGIN:VEVENT
DTSTART;TZID=Europe/Amsterdam:20260903T200000
DTEND;TZID=Europe/Amsterdam:20260903T230000
DTSTAMP:20260421T020351
CREATED:20251024T185914Z
LAST-MODIFIED:20251024T190009Z
UID:10000928-1788465600-1788476400@www.cocmiddengelderland.nl
SUMMARY:Pathé Pride Night
DESCRIPTION:Ontdek de Pride Night bij Pathé \n\n\n\n✔ De mooiste LHBTIQ+ films✔ Elke eerste donderdag van de maand✔ Zie regelmatig voorpremières en events \n\n\n\nGeniet bij de Pride Night van één van de mooie LHBTIQ+ films. Elke maand maakt Pathe de nieuwe film bekend. Bekijk de actuele agenda op de website van Pathé. \n\n\n\nOp onze Instagram maak je iedere maand kans op twee gratis kaarten! \n\n\n\nPathé ArnhemOude Stationsstraat 206811 KE Arnhem
URL:https://www.cocmiddengelderland.nl/event/pathe-pride-night/2026-09-03/
LOCATION:Pathé Arnhem\, Oude Stationsstraat 20\, Arnhem\, 6811 KE\, Netherlands
CATEGORIES:Arnhem,Bioscoop,Donderdag
ATTACH;FMTTYPE=image/jpeg:https://www.cocmiddengelderland.nl/wp-content/uploads/2024/12/activiteit-template_2-100.jpg
END:VEVENT
BEGIN:VEVENT
DTSTART;TZID=Europe/Amsterdam:20260904T190000
DTEND;TZID=Europe/Amsterdam:20260904T193000
DTSTAMP:20260421T020351
CREATED:20260208T120200Z
LAST-MODIFIED:20260208T120204Z
UID:10002101-1788548400-1788550200@www.cocmiddengelderland.nl
SUMMARY:Transistor pubquiz
DESCRIPTION:Doe mee met de Transistor Pubquiz! Een gezellige avond met andere trans mensen uit de community. De pubquiz vindt plaats in Buurthuis De Lommerd. Inloop vanaf 19:00. Actuele informatie over onze activiteiten vind je op Bluesky of onze andere social media kanalen. \n\n\n\n📍Deze activiteit vindt iedere 3 maanden plaats! 🤗💜
URL:https://www.cocmiddengelderland.nl/event/transistor-pubquiz-2/2026-09-04/
LOCATION:Buurtcentrum de Lommerd\, Spijkerstraat 185a\, Arnhem\, 6828DC\, Netherlands
CATEGORIES:Arnhem,Trans,Vrijdag,Woensdag
ATTACH;FMTTYPE=image/jpeg:https://www.cocmiddengelderland.nl/wp-content/uploads/2025/05/Middel-65-50.jpg
END:VEVENT
BEGIN:VEVENT
DTSTART;TZID=Europe/Amsterdam:20260905T140000
DTEND;TZID=Europe/Amsterdam:20260905T170000
DTSTAMP:20260421T020351
CREATED:20251024T182200Z
LAST-MODIFIED:20251027T132711Z
UID:10000451-1788616800-1788627600@www.cocmiddengelderland.nl
SUMMARY:Informatiespreekuur
DESCRIPTION:Ons team is er voor iedereen met vragen over seksuele oriëntatie\, genderidentiteit\, genderexpressie of seksekenmerken. Stel je vragen via chat\, mail\, telefoon of maak een afspraak om langs te komen. Let op: langskomen is alleen mogelijk wanneer er een afspraak is gemaakt. \n\n\n\n🇬🇧 \n\n\n\nOur team is here for anyone with questions about sexual orientation\, gender identity\, gender expression\, or sex characteristics. Ask your questions via chat\, email\, phone\, or schedule an appointment to visit. Note: Visiting is only possible by appointment. \n\n\n\nTelefoon: 020 623 65 65info@switchboard.nl \n\n\n\nwww.switchboard.nl
URL:https://www.cocmiddengelderland.nl/event/informatiespreekuur/2026-09-05/
LOCATION:Buurtcentrum de Lommerd\, Spijkerstraat 185a\, Arnhem\, 6828DC\, Netherlands
CATEGORIES:Arnhem,Coming-out,Seksuele oriëntatie,Veiligheid,Vragen,Zaterdag
ATTACH;FMTTYPE=image/jpeg:https://www.cocmiddengelderland.nl/wp-content/uploads/2024/12/informatiespreekuur_1-100.jpg
END:VEVENT
BEGIN:VEVENT
DTSTART;TZID=Europe/Amsterdam:20260905T190000
DTEND;TZID=Europe/Amsterdam:20260905T230000
DTSTAMP:20260421T020351
CREATED:20260313T095602Z
LAST-MODIFIED:20260313T095716Z
UID:10002211-1788634800-1788649200@www.cocmiddengelderland.nl
SUMMARY:Transistor café-avond
DESCRIPTION:Iedere eerste zaterdag van de maand is er weer een gezellige Transistor café-avond. Kom gezellig wat drinken en kletsen in Café De Kurk. Actuele informatie over onze activiteiten vind je op Bluesky of onze andere social media kanalen. \n\n\n\n\n\n\n\n⏰ Inloop 19:00  \n\n\n\n📍Café De Kurk\, Steenstraat 68 Arnhem
URL:https://www.cocmiddengelderland.nl/event/transistor-cafe-avond-6/2026-09-05/
LOCATION:De Kurk\, Steenstraat 68\, Arnhem\, 6828 CN\, Netherlands
CATEGORIES:Arnhem,Borrel,Trans,Zaterdag
ATTACH;FMTTYPE=image/jpeg:https://www.cocmiddengelderland.nl/wp-content/uploads/2025/05/Middel-59-50.jpg
END:VEVENT
BEGIN:VEVENT
DTSTART;TZID=Europe/Amsterdam:20260906T150000
DTEND;TZID=Europe/Amsterdam:20260906T173000
DTSTAMP:20260421T020351
CREATED:20260402T151604Z
LAST-MODIFIED:20260402T154236Z
UID:10002277-1788706800-1788715800@www.cocmiddengelderland.nl
SUMMARY:EmbrAce
DESCRIPTION:Kom ook naar de volgende meetup van EmbrAce! Voor iedereen die zich verbonden voelt met aseksualiteit en/of aromantiek. Of je nu ace\, aro of gewoon nieuwsgierig bent; je bent van harte welkom! Het eerste drankje is gratis. Twijfel je\, of vind je het spannend om te komen? Laat het ons weten\, en we zorgen dat er iemand met je mee gaat. \n\n\n\n📍We zien je graag zaterdag! 🤗💜 \n\n\n\nCafé Bosch \n\n\n\nApeldoornseweg 4 \n\n\n\n6828 AB Arnhem
URL:https://www.cocmiddengelderland.nl/event/embrace-2/2026-09-06/
LOCATION:Cafe Bosch\, Apeldoornseweg 4\, Arnhem\, 6828 AB\, Netherlands
CATEGORIES:Arnhem,Aromantiek,Asekueel,Zaterdag
ATTACH;FMTTYPE=image/jpeg:https://www.cocmiddengelderland.nl/wp-content/uploads/2025/05/Middel-73-50.jpg
END:VEVENT
END:VCALENDAR