



BEGIN:VCALENDAR
VERSION:2.0
PRODID:-//COC Midden-Gelderland - ECPv6.15.17.1//NONSGML v1.0//EN
CALSCALE:GREGORIAN
METHOD:PUBLISH
X-WR-CALNAME:COC Midden-Gelderland
X-ORIGINAL-URL:https://www.cocmiddengelderland.nl
X-WR-CALDESC:Evenementen voor COC Midden-Gelderland
REFRESH-INTERVAL;VALUE=DURATION:PT1H
X-Robots-Tag:noindex
X-PUBLISHED-TTL:PT1H
BEGIN:VTIMEZONE
TZID:Europe/Amsterdam
BEGIN:DAYLIGHT
TZOFFSETFROM:+0100
TZOFFSETTO:+0200
TZNAME:CEST
DTSTART:20270328T010000
END:DAYLIGHT
BEGIN:STANDARD
TZOFFSETFROM:+0200
TZOFFSETTO:+0100
TZNAME:CET
DTSTART:20271031T010000
END:STANDARD
BEGIN:DAYLIGHT
TZOFFSETFROM:+0100
TZOFFSETTO:+0200
TZNAME:CEST
DTSTART:20280326T010000
END:DAYLIGHT
BEGIN:STANDARD
TZOFFSETFROM:+0200
TZOFFSETTO:+0100
TZNAME:CET
DTSTART:20281029T010000
END:STANDARD
BEGIN:DAYLIGHT
TZOFFSETFROM:+0100
TZOFFSETTO:+0200
TZNAME:CEST
DTSTART:20290325T010000
END:DAYLIGHT
BEGIN:STANDARD
TZOFFSETFROM:+0200
TZOFFSETTO:+0100
TZNAME:CET
DTSTART:20291028T010000
END:STANDARD
END:VTIMEZONE
BEGIN:VEVENT
DTSTART;TZID=Europe/Amsterdam:20280217T190000
DTEND;TZID=Europe/Amsterdam:20280217T230000
DTSTAMP:20260425T201636
CREATED:20260208T113532Z
LAST-MODIFIED:20260208T114607Z
UID:10002059-1834426800-1834441200@www.cocmiddengelderland.nl
SUMMARY:Transistor café-avond
DESCRIPTION:Kom gezellig een drankje doen en kletsen met andere trans mensen uit de community in Queercafé De Kurk. Inloop vanaf 19:00. Actuele informatie over onze activiteiten vind je op Bluesky of onze andere social media kanalen. \n\n\n\n📍We zien je graag de derde donderdagavond van de maand! 🤗💜
URL:https://www.cocmiddengelderland.nl/event/transistor-cafe-avond-4/2028-02-17/
LOCATION:De Kurk\, Steenstraat 68\, Arnhem\, 6828 CN\, Netherlands
CATEGORIES:Arnhem,Borrel,Donderdag,Trans
ATTACH;FMTTYPE=image/jpeg:https://www.cocmiddengelderland.nl/wp-content/uploads/2025/10/header-trans-80.jpg
END:VEVENT
BEGIN:VEVENT
DTSTART;TZID=Europe/Amsterdam:20280225T190000
DTEND;TZID=Europe/Amsterdam:20280225T220000
DTSTAMP:20260425T201636
CREATED:20251024T184434Z
LAST-MODIFIED:20251203T232427Z
UID:10000788-1835118000-1835128800@www.cocmiddengelderland.nl
SUMMARY:QueerMiBo
DESCRIPTION:NL: 🎉 Zin om je week af te sluiten met een borrel? Kom naar de Queer-Mi-Bo\, elke oneven week in De Kurk! 🏳️‍🌈 Neem je studiegenoten\, collega’s en vrienden mee en geniet samen van een gezellige vrijdagmiddag 🥂 \n\n\n\nENG: 🎉 Ready to wrap up your week with a drink? Join the Queer-Mi-Bo every odd week at De Kurk! 🏳️‍🌈 Bring your classmates\, colleagues\, and friends for a fun Friday afternoon 🥂 \n\n\n\nDe KurkSteenstraat 686828 CN Arnhem
URL:https://www.cocmiddengelderland.nl/event/queer-mi-bo/2028-02-25/
LOCATION:De Kurk\, Steenstraat 68\, Arnhem\, 6828 CN\, Netherlands
CATEGORIES:Arnhem,Borrel,Engelstalig,Vrijdag
ATTACH;FMTTYPE=image/jpeg:https://www.cocmiddengelderland.nl/wp-content/uploads/2025/05/Middel-53-50.jpg
END:VEVENT
BEGIN:VEVENT
DTSTART;TZID=Europe/Amsterdam:20280225T193000
DTEND;TZID=Europe/Amsterdam:20280225T220000
DTSTAMP:20260425T201636
CREATED:20251221T104336Z
LAST-MODIFIED:20260208T120603Z
UID:10001824-1835119800-1835128800@www.cocmiddengelderland.nl
SUMMARY:Queer Avond in Doetinchem
DESCRIPTION:✨ 𝗤𝘂𝗲𝗲𝗿 𝗔𝘃𝗼𝗻𝗱 𝗗𝗼𝗲𝘁𝗶𝗻𝗰𝗵𝗲𝗺 ✨Jouw vrijdag vol gezelligheid\, herkenning en een vleugje glitter. \n\n\n\nIedere laatste vrijdag van de maand is het weer tijd voor dé avond waar iedereen zichzelf kan zijn. Poolen? Check. Kletsen met oude en nieuwe vrienden? Zeker.Gewoon een drankje doen en lekker hangen? Absoluut. \n\n\n\n📍 @engelenbakdoetinchem\, Veemarkt 8🕢 19.30 – 22.00 uur \n\n\n\nKom solo of neem je crew mee: iedereen is welkom\, precies zoals je bent.
URL:https://www.cocmiddengelderland.nl/event/queer-avond-in-doetinchem/2028-02-25/
LOCATION:Café De Engelenbak\, Veemarkt 8\, Doetinchem\, 7001 EE\, Netherlands
CATEGORIES:Borrel,Doetinchem,Vrijdag
ATTACH;FMTTYPE=image/jpeg:https://www.cocmiddengelderland.nl/wp-content/uploads/2025/02/Middel-81-50.jpg
END:VEVENT
BEGIN:VEVENT
DTSTART;TZID=Europe/Amsterdam:20280227T150000
DTEND;TZID=Europe/Amsterdam:20280227T180000
DTSTAMP:20260425T201636
CREATED:20260313T094034Z
LAST-MODIFIED:20260313T094411Z
UID:10002170-1835276400-1835287200@www.cocmiddengelderland.nl
SUMMARY:Heerensalon
DESCRIPTION:De Heerensalon is een gezellige ontmoetingsactiviteit voor heren\, jong en oud. Kom deze zondagmiddag langs voor een gezellige borrel. Vanuit het COC is er altijd een vrijwilliger aanwezig om je te ontvangen. \n\n\n\nNjoy CaféBovenbeekstraat 56811 CV Arnhem
URL:https://www.cocmiddengelderland.nl/event/heerensalon-2/2028-02-27/
LOCATION:Njoy Café\, Bovenbeekstraat 5\, Arnhem\, 6811 CV\, Netherlands
CATEGORIES:Arnhem,Borrel,Zondag
ATTACH;FMTTYPE=image/jpeg:https://www.cocmiddengelderland.nl/wp-content/uploads/2025/05/Middel-36-50.jpg
END:VEVENT
BEGIN:VEVENT
DTSTART;TZID=Europe/Amsterdam:20280304T190000
DTEND;TZID=Europe/Amsterdam:20280304T230000
DTSTAMP:20260425T201636
CREATED:20260313T095602Z
LAST-MODIFIED:20260313T095716Z
UID:10002229-1835809200-1835823600@www.cocmiddengelderland.nl
SUMMARY:Transistor café-avond
DESCRIPTION:Iedere eerste zaterdag van de maand is er weer een gezellige Transistor café-avond. Kom gezellig wat drinken en kletsen in Café De Kurk. Actuele informatie over onze activiteiten vind je op Bluesky of onze andere social media kanalen. \n\n\n\n\n\n\n\n⏰ Inloop 19:00  \n\n\n\n📍Café De Kurk\, Steenstraat 68 Arnhem
URL:https://www.cocmiddengelderland.nl/event/transistor-cafe-avond-6/2028-03-04/
LOCATION:De Kurk\, Steenstraat 68\, Arnhem\, 6828 CN\, Netherlands
CATEGORIES:Arnhem,Borrel,Trans,Zaterdag
ATTACH;FMTTYPE=image/jpeg:https://www.cocmiddengelderland.nl/wp-content/uploads/2025/05/Middel-59-50.jpg
END:VEVENT
BEGIN:VEVENT
DTSTART;TZID=Europe/Amsterdam:20280310T190000
DTEND;TZID=Europe/Amsterdam:20280310T220000
DTSTAMP:20260425T201636
CREATED:20251024T184434Z
LAST-MODIFIED:20251203T232427Z
UID:10000789-1836327600-1836338400@www.cocmiddengelderland.nl
SUMMARY:QueerMiBo
DESCRIPTION:NL: 🎉 Zin om je week af te sluiten met een borrel? Kom naar de Queer-Mi-Bo\, elke oneven week in De Kurk! 🏳️‍🌈 Neem je studiegenoten\, collega’s en vrienden mee en geniet samen van een gezellige vrijdagmiddag 🥂 \n\n\n\nENG: 🎉 Ready to wrap up your week with a drink? Join the Queer-Mi-Bo every odd week at De Kurk! 🏳️‍🌈 Bring your classmates\, colleagues\, and friends for a fun Friday afternoon 🥂 \n\n\n\nDe KurkSteenstraat 686828 CN Arnhem
URL:https://www.cocmiddengelderland.nl/event/queer-mi-bo/2028-03-10/
LOCATION:De Kurk\, Steenstraat 68\, Arnhem\, 6828 CN\, Netherlands
CATEGORIES:Arnhem,Borrel,Engelstalig,Vrijdag
ATTACH;FMTTYPE=image/jpeg:https://www.cocmiddengelderland.nl/wp-content/uploads/2025/05/Middel-53-50.jpg
END:VEVENT
BEGIN:VEVENT
DTSTART;TZID=Europe/Amsterdam:20280316T190000
DTEND;TZID=Europe/Amsterdam:20280316T230000
DTSTAMP:20260425T201636
CREATED:20260208T113532Z
LAST-MODIFIED:20260208T114607Z
UID:10002060-1836846000-1836860400@www.cocmiddengelderland.nl
SUMMARY:Transistor café-avond
DESCRIPTION:Kom gezellig een drankje doen en kletsen met andere trans mensen uit de community in Queercafé De Kurk. Inloop vanaf 19:00. Actuele informatie over onze activiteiten vind je op Bluesky of onze andere social media kanalen. \n\n\n\n📍We zien je graag de derde donderdagavond van de maand! 🤗💜
URL:https://www.cocmiddengelderland.nl/event/transistor-cafe-avond-4/2028-03-16/
LOCATION:De Kurk\, Steenstraat 68\, Arnhem\, 6828 CN\, Netherlands
CATEGORIES:Arnhem,Borrel,Donderdag,Trans
ATTACH;FMTTYPE=image/jpeg:https://www.cocmiddengelderland.nl/wp-content/uploads/2025/10/header-trans-80.jpg
END:VEVENT
BEGIN:VEVENT
DTSTART;TZID=Europe/Amsterdam:20280324T190000
DTEND;TZID=Europe/Amsterdam:20280324T220000
DTSTAMP:20260425T201636
CREATED:20251024T184434Z
LAST-MODIFIED:20251203T232427Z
UID:10000790-1837537200-1837548000@www.cocmiddengelderland.nl
SUMMARY:QueerMiBo
DESCRIPTION:NL: 🎉 Zin om je week af te sluiten met een borrel? Kom naar de Queer-Mi-Bo\, elke oneven week in De Kurk! 🏳️‍🌈 Neem je studiegenoten\, collega’s en vrienden mee en geniet samen van een gezellige vrijdagmiddag 🥂 \n\n\n\nENG: 🎉 Ready to wrap up your week with a drink? Join the Queer-Mi-Bo every odd week at De Kurk! 🏳️‍🌈 Bring your classmates\, colleagues\, and friends for a fun Friday afternoon 🥂 \n\n\n\nDe KurkSteenstraat 686828 CN Arnhem
URL:https://www.cocmiddengelderland.nl/event/queer-mi-bo/2028-03-24/
LOCATION:De Kurk\, Steenstraat 68\, Arnhem\, 6828 CN\, Netherlands
CATEGORIES:Arnhem,Borrel,Engelstalig,Vrijdag
ATTACH;FMTTYPE=image/jpeg:https://www.cocmiddengelderland.nl/wp-content/uploads/2025/05/Middel-53-50.jpg
END:VEVENT
BEGIN:VEVENT
DTSTART;TZID=Europe/Amsterdam:20280326T150000
DTEND;TZID=Europe/Amsterdam:20280326T180000
DTSTAMP:20260425T201636
CREATED:20260313T094034Z
LAST-MODIFIED:20260313T094411Z
UID:10002171-1837695600-1837706400@www.cocmiddengelderland.nl
SUMMARY:Heerensalon
DESCRIPTION:De Heerensalon is een gezellige ontmoetingsactiviteit voor heren\, jong en oud. Kom deze zondagmiddag langs voor een gezellige borrel. Vanuit het COC is er altijd een vrijwilliger aanwezig om je te ontvangen. \n\n\n\nNjoy CaféBovenbeekstraat 56811 CV Arnhem
URL:https://www.cocmiddengelderland.nl/event/heerensalon-2/2028-03-26/
LOCATION:Njoy Café\, Bovenbeekstraat 5\, Arnhem\, 6811 CV\, Netherlands
CATEGORIES:Arnhem,Borrel,Zondag
ATTACH;FMTTYPE=image/jpeg:https://www.cocmiddengelderland.nl/wp-content/uploads/2025/05/Middel-36-50.jpg
END:VEVENT
BEGIN:VEVENT
DTSTART;TZID=Europe/Amsterdam:20280331T193000
DTEND;TZID=Europe/Amsterdam:20280331T220000
DTSTAMP:20260425T201636
CREATED:20251221T104336Z
LAST-MODIFIED:20260208T120603Z
UID:10001825-1838143800-1838152800@www.cocmiddengelderland.nl
SUMMARY:Queer Avond in Doetinchem
DESCRIPTION:✨ 𝗤𝘂𝗲𝗲𝗿 𝗔𝘃𝗼𝗻𝗱 𝗗𝗼𝗲𝘁𝗶𝗻𝗰𝗵𝗲𝗺 ✨Jouw vrijdag vol gezelligheid\, herkenning en een vleugje glitter. \n\n\n\nIedere laatste vrijdag van de maand is het weer tijd voor dé avond waar iedereen zichzelf kan zijn. Poolen? Check. Kletsen met oude en nieuwe vrienden? Zeker.Gewoon een drankje doen en lekker hangen? Absoluut. \n\n\n\n📍 @engelenbakdoetinchem\, Veemarkt 8🕢 19.30 – 22.00 uur \n\n\n\nKom solo of neem je crew mee: iedereen is welkom\, precies zoals je bent.
URL:https://www.cocmiddengelderland.nl/event/queer-avond-in-doetinchem/2028-03-31/
LOCATION:Café De Engelenbak\, Veemarkt 8\, Doetinchem\, 7001 EE\, Netherlands
CATEGORIES:Borrel,Doetinchem,Vrijdag
ATTACH;FMTTYPE=image/jpeg:https://www.cocmiddengelderland.nl/wp-content/uploads/2025/02/Middel-81-50.jpg
END:VEVENT
BEGIN:VEVENT
DTSTART;TZID=Europe/Amsterdam:20280401T190000
DTEND;TZID=Europe/Amsterdam:20280401T230000
DTSTAMP:20260425T201636
CREATED:20260313T095602Z
LAST-MODIFIED:20260313T095716Z
UID:10002230-1838228400-1838242800@www.cocmiddengelderland.nl
SUMMARY:Transistor café-avond
DESCRIPTION:Iedere eerste zaterdag van de maand is er weer een gezellige Transistor café-avond. Kom gezellig wat drinken en kletsen in Café De Kurk. Actuele informatie over onze activiteiten vind je op Bluesky of onze andere social media kanalen. \n\n\n\n\n\n\n\n⏰ Inloop 19:00  \n\n\n\n📍Café De Kurk\, Steenstraat 68 Arnhem
URL:https://www.cocmiddengelderland.nl/event/transistor-cafe-avond-6/2028-04-01/
LOCATION:De Kurk\, Steenstraat 68\, Arnhem\, 6828 CN\, Netherlands
CATEGORIES:Arnhem,Borrel,Trans,Zaterdag
ATTACH;FMTTYPE=image/jpeg:https://www.cocmiddengelderland.nl/wp-content/uploads/2025/05/Middel-59-50.jpg
END:VEVENT
BEGIN:VEVENT
DTSTART;TZID=Europe/Amsterdam:20280407T190000
DTEND;TZID=Europe/Amsterdam:20280407T220000
DTSTAMP:20260425T201636
CREATED:20251024T184434Z
LAST-MODIFIED:20251203T232427Z
UID:10000791-1838746800-1838757600@www.cocmiddengelderland.nl
SUMMARY:QueerMiBo
DESCRIPTION:NL: 🎉 Zin om je week af te sluiten met een borrel? Kom naar de Queer-Mi-Bo\, elke oneven week in De Kurk! 🏳️‍🌈 Neem je studiegenoten\, collega’s en vrienden mee en geniet samen van een gezellige vrijdagmiddag 🥂 \n\n\n\nENG: 🎉 Ready to wrap up your week with a drink? Join the Queer-Mi-Bo every odd week at De Kurk! 🏳️‍🌈 Bring your classmates\, colleagues\, and friends for a fun Friday afternoon 🥂 \n\n\n\nDe KurkSteenstraat 686828 CN Arnhem
URL:https://www.cocmiddengelderland.nl/event/queer-mi-bo/2028-04-07/
LOCATION:De Kurk\, Steenstraat 68\, Arnhem\, 6828 CN\, Netherlands
CATEGORIES:Arnhem,Borrel,Engelstalig,Vrijdag
ATTACH;FMTTYPE=image/jpeg:https://www.cocmiddengelderland.nl/wp-content/uploads/2025/05/Middel-53-50.jpg
END:VEVENT
BEGIN:VEVENT
DTSTART;TZID=Europe/Amsterdam:20280420T190000
DTEND;TZID=Europe/Amsterdam:20280420T230000
DTSTAMP:20260425T201636
CREATED:20260208T113532Z
LAST-MODIFIED:20260208T114607Z
UID:10002061-1839870000-1839884400@www.cocmiddengelderland.nl
SUMMARY:Transistor café-avond
DESCRIPTION:Kom gezellig een drankje doen en kletsen met andere trans mensen uit de community in Queercafé De Kurk. Inloop vanaf 19:00. Actuele informatie over onze activiteiten vind je op Bluesky of onze andere social media kanalen. \n\n\n\n📍We zien je graag de derde donderdagavond van de maand! 🤗💜
URL:https://www.cocmiddengelderland.nl/event/transistor-cafe-avond-4/2028-04-20/
LOCATION:De Kurk\, Steenstraat 68\, Arnhem\, 6828 CN\, Netherlands
CATEGORIES:Arnhem,Borrel,Donderdag,Trans
ATTACH;FMTTYPE=image/jpeg:https://www.cocmiddengelderland.nl/wp-content/uploads/2025/10/header-trans-80.jpg
END:VEVENT
BEGIN:VEVENT
DTSTART;TZID=Europe/Amsterdam:20280421T190000
DTEND;TZID=Europe/Amsterdam:20280421T220000
DTSTAMP:20260425T201636
CREATED:20251024T184434Z
LAST-MODIFIED:20251203T232427Z
UID:10000792-1839956400-1839967200@www.cocmiddengelderland.nl
SUMMARY:QueerMiBo
DESCRIPTION:NL: 🎉 Zin om je week af te sluiten met een borrel? Kom naar de Queer-Mi-Bo\, elke oneven week in De Kurk! 🏳️‍🌈 Neem je studiegenoten\, collega’s en vrienden mee en geniet samen van een gezellige vrijdagmiddag 🥂 \n\n\n\nENG: 🎉 Ready to wrap up your week with a drink? Join the Queer-Mi-Bo every odd week at De Kurk! 🏳️‍🌈 Bring your classmates\, colleagues\, and friends for a fun Friday afternoon 🥂 \n\n\n\nDe KurkSteenstraat 686828 CN Arnhem
URL:https://www.cocmiddengelderland.nl/event/queer-mi-bo/2028-04-21/
LOCATION:De Kurk\, Steenstraat 68\, Arnhem\, 6828 CN\, Netherlands
CATEGORIES:Arnhem,Borrel,Engelstalig,Vrijdag
ATTACH;FMTTYPE=image/jpeg:https://www.cocmiddengelderland.nl/wp-content/uploads/2025/05/Middel-53-50.jpg
END:VEVENT
BEGIN:VEVENT
DTSTART;TZID=Europe/Amsterdam:20280423T150000
DTEND;TZID=Europe/Amsterdam:20280423T180000
DTSTAMP:20260425T201636
CREATED:20260313T094034Z
LAST-MODIFIED:20260313T094411Z
UID:10002172-1840114800-1840125600@www.cocmiddengelderland.nl
SUMMARY:Heerensalon
DESCRIPTION:De Heerensalon is een gezellige ontmoetingsactiviteit voor heren\, jong en oud. Kom deze zondagmiddag langs voor een gezellige borrel. Vanuit het COC is er altijd een vrijwilliger aanwezig om je te ontvangen. \n\n\n\nNjoy CaféBovenbeekstraat 56811 CV Arnhem
URL:https://www.cocmiddengelderland.nl/event/heerensalon-2/2028-04-23/
LOCATION:Njoy Café\, Bovenbeekstraat 5\, Arnhem\, 6811 CV\, Netherlands
CATEGORIES:Arnhem,Borrel,Zondag
ATTACH;FMTTYPE=image/jpeg:https://www.cocmiddengelderland.nl/wp-content/uploads/2025/05/Middel-36-50.jpg
END:VEVENT
BEGIN:VEVENT
DTSTART;TZID=Europe/Amsterdam:20280428T193000
DTEND;TZID=Europe/Amsterdam:20280428T220000
DTSTAMP:20260425T201636
CREATED:20251221T104336Z
LAST-MODIFIED:20260208T120603Z
UID:10001826-1840563000-1840572000@www.cocmiddengelderland.nl
SUMMARY:Queer Avond in Doetinchem
DESCRIPTION:✨ 𝗤𝘂𝗲𝗲𝗿 𝗔𝘃𝗼𝗻𝗱 𝗗𝗼𝗲𝘁𝗶𝗻𝗰𝗵𝗲𝗺 ✨Jouw vrijdag vol gezelligheid\, herkenning en een vleugje glitter. \n\n\n\nIedere laatste vrijdag van de maand is het weer tijd voor dé avond waar iedereen zichzelf kan zijn. Poolen? Check. Kletsen met oude en nieuwe vrienden? Zeker.Gewoon een drankje doen en lekker hangen? Absoluut. \n\n\n\n📍 @engelenbakdoetinchem\, Veemarkt 8🕢 19.30 – 22.00 uur \n\n\n\nKom solo of neem je crew mee: iedereen is welkom\, precies zoals je bent.
URL:https://www.cocmiddengelderland.nl/event/queer-avond-in-doetinchem/2028-04-28/
LOCATION:Café De Engelenbak\, Veemarkt 8\, Doetinchem\, 7001 EE\, Netherlands
CATEGORIES:Borrel,Doetinchem,Vrijdag
ATTACH;FMTTYPE=image/jpeg:https://www.cocmiddengelderland.nl/wp-content/uploads/2025/02/Middel-81-50.jpg
END:VEVENT
BEGIN:VEVENT
DTSTART;TZID=Europe/Amsterdam:20280505T190000
DTEND;TZID=Europe/Amsterdam:20280505T220000
DTSTAMP:20260425T201636
CREATED:20251024T184434Z
LAST-MODIFIED:20251203T232427Z
UID:10000793-1841166000-1841176800@www.cocmiddengelderland.nl
SUMMARY:QueerMiBo
DESCRIPTION:NL: 🎉 Zin om je week af te sluiten met een borrel? Kom naar de Queer-Mi-Bo\, elke oneven week in De Kurk! 🏳️‍🌈 Neem je studiegenoten\, collega’s en vrienden mee en geniet samen van een gezellige vrijdagmiddag 🥂 \n\n\n\nENG: 🎉 Ready to wrap up your week with a drink? Join the Queer-Mi-Bo every odd week at De Kurk! 🏳️‍🌈 Bring your classmates\, colleagues\, and friends for a fun Friday afternoon 🥂 \n\n\n\nDe KurkSteenstraat 686828 CN Arnhem
URL:https://www.cocmiddengelderland.nl/event/queer-mi-bo/2028-05-05/
LOCATION:De Kurk\, Steenstraat 68\, Arnhem\, 6828 CN\, Netherlands
CATEGORIES:Arnhem,Borrel,Engelstalig,Vrijdag
ATTACH;FMTTYPE=image/jpeg:https://www.cocmiddengelderland.nl/wp-content/uploads/2025/05/Middel-53-50.jpg
END:VEVENT
BEGIN:VEVENT
DTSTART;TZID=Europe/Amsterdam:20280506T190000
DTEND;TZID=Europe/Amsterdam:20280506T230000
DTSTAMP:20260425T201636
CREATED:20260313T095602Z
LAST-MODIFIED:20260313T095716Z
UID:10002231-1841252400-1841266800@www.cocmiddengelderland.nl
SUMMARY:Transistor café-avond
DESCRIPTION:Iedere eerste zaterdag van de maand is er weer een gezellige Transistor café-avond. Kom gezellig wat drinken en kletsen in Café De Kurk. Actuele informatie over onze activiteiten vind je op Bluesky of onze andere social media kanalen. \n\n\n\n\n\n\n\n⏰ Inloop 19:00  \n\n\n\n📍Café De Kurk\, Steenstraat 68 Arnhem
URL:https://www.cocmiddengelderland.nl/event/transistor-cafe-avond-6/2028-05-06/
LOCATION:De Kurk\, Steenstraat 68\, Arnhem\, 6828 CN\, Netherlands
CATEGORIES:Arnhem,Borrel,Trans,Zaterdag
ATTACH;FMTTYPE=image/jpeg:https://www.cocmiddengelderland.nl/wp-content/uploads/2025/05/Middel-59-50.jpg
END:VEVENT
BEGIN:VEVENT
DTSTART;TZID=Europe/Amsterdam:20280518T190000
DTEND;TZID=Europe/Amsterdam:20280518T230000
DTSTAMP:20260425T201636
CREATED:20260208T113532Z
LAST-MODIFIED:20260208T114607Z
UID:10002062-1842289200-1842303600@www.cocmiddengelderland.nl
SUMMARY:Transistor café-avond
DESCRIPTION:Kom gezellig een drankje doen en kletsen met andere trans mensen uit de community in Queercafé De Kurk. Inloop vanaf 19:00. Actuele informatie over onze activiteiten vind je op Bluesky of onze andere social media kanalen. \n\n\n\n📍We zien je graag de derde donderdagavond van de maand! 🤗💜
URL:https://www.cocmiddengelderland.nl/event/transistor-cafe-avond-4/2028-05-18/
LOCATION:De Kurk\, Steenstraat 68\, Arnhem\, 6828 CN\, Netherlands
CATEGORIES:Arnhem,Borrel,Donderdag,Trans
ATTACH;FMTTYPE=image/jpeg:https://www.cocmiddengelderland.nl/wp-content/uploads/2025/10/header-trans-80.jpg
END:VEVENT
BEGIN:VEVENT
DTSTART;TZID=Europe/Amsterdam:20280519T190000
DTEND;TZID=Europe/Amsterdam:20280519T220000
DTSTAMP:20260425T201636
CREATED:20251024T184434Z
LAST-MODIFIED:20251203T232427Z
UID:10000794-1842375600-1842386400@www.cocmiddengelderland.nl
SUMMARY:QueerMiBo
DESCRIPTION:NL: 🎉 Zin om je week af te sluiten met een borrel? Kom naar de Queer-Mi-Bo\, elke oneven week in De Kurk! 🏳️‍🌈 Neem je studiegenoten\, collega’s en vrienden mee en geniet samen van een gezellige vrijdagmiddag 🥂 \n\n\n\nENG: 🎉 Ready to wrap up your week with a drink? Join the Queer-Mi-Bo every odd week at De Kurk! 🏳️‍🌈 Bring your classmates\, colleagues\, and friends for a fun Friday afternoon 🥂 \n\n\n\nDe KurkSteenstraat 686828 CN Arnhem
URL:https://www.cocmiddengelderland.nl/event/queer-mi-bo/2028-05-19/
LOCATION:De Kurk\, Steenstraat 68\, Arnhem\, 6828 CN\, Netherlands
CATEGORIES:Arnhem,Borrel,Engelstalig,Vrijdag
ATTACH;FMTTYPE=image/jpeg:https://www.cocmiddengelderland.nl/wp-content/uploads/2025/05/Middel-53-50.jpg
END:VEVENT
BEGIN:VEVENT
DTSTART;TZID=Europe/Amsterdam:20280526T193000
DTEND;TZID=Europe/Amsterdam:20280526T220000
DTSTAMP:20260425T201636
CREATED:20251221T104336Z
LAST-MODIFIED:20260208T120603Z
UID:10001827-1842982200-1842991200@www.cocmiddengelderland.nl
SUMMARY:Queer Avond in Doetinchem
DESCRIPTION:✨ 𝗤𝘂𝗲𝗲𝗿 𝗔𝘃𝗼𝗻𝗱 𝗗𝗼𝗲𝘁𝗶𝗻𝗰𝗵𝗲𝗺 ✨Jouw vrijdag vol gezelligheid\, herkenning en een vleugje glitter. \n\n\n\nIedere laatste vrijdag van de maand is het weer tijd voor dé avond waar iedereen zichzelf kan zijn. Poolen? Check. Kletsen met oude en nieuwe vrienden? Zeker.Gewoon een drankje doen en lekker hangen? Absoluut. \n\n\n\n📍 @engelenbakdoetinchem\, Veemarkt 8🕢 19.30 – 22.00 uur \n\n\n\nKom solo of neem je crew mee: iedereen is welkom\, precies zoals je bent.
URL:https://www.cocmiddengelderland.nl/event/queer-avond-in-doetinchem/2028-05-26/
LOCATION:Café De Engelenbak\, Veemarkt 8\, Doetinchem\, 7001 EE\, Netherlands
CATEGORIES:Borrel,Doetinchem,Vrijdag
ATTACH;FMTTYPE=image/jpeg:https://www.cocmiddengelderland.nl/wp-content/uploads/2025/02/Middel-81-50.jpg
END:VEVENT
BEGIN:VEVENT
DTSTART;TZID=Europe/Amsterdam:20280528T150000
DTEND;TZID=Europe/Amsterdam:20280528T180000
DTSTAMP:20260425T201636
CREATED:20260313T094034Z
LAST-MODIFIED:20260313T094411Z
UID:10002173-1843138800-1843149600@www.cocmiddengelderland.nl
SUMMARY:Heerensalon
DESCRIPTION:De Heerensalon is een gezellige ontmoetingsactiviteit voor heren\, jong en oud. Kom deze zondagmiddag langs voor een gezellige borrel. Vanuit het COC is er altijd een vrijwilliger aanwezig om je te ontvangen. \n\n\n\nNjoy CaféBovenbeekstraat 56811 CV Arnhem
URL:https://www.cocmiddengelderland.nl/event/heerensalon-2/2028-05-28/
LOCATION:Njoy Café\, Bovenbeekstraat 5\, Arnhem\, 6811 CV\, Netherlands
CATEGORIES:Arnhem,Borrel,Zondag
ATTACH;FMTTYPE=image/jpeg:https://www.cocmiddengelderland.nl/wp-content/uploads/2025/05/Middel-36-50.jpg
END:VEVENT
BEGIN:VEVENT
DTSTART;TZID=Europe/Amsterdam:20280602T190000
DTEND;TZID=Europe/Amsterdam:20280602T220000
DTSTAMP:20260425T201636
CREATED:20251024T184434Z
LAST-MODIFIED:20251203T232427Z
UID:10000795-1843585200-1843596000@www.cocmiddengelderland.nl
SUMMARY:QueerMiBo
DESCRIPTION:NL: 🎉 Zin om je week af te sluiten met een borrel? Kom naar de Queer-Mi-Bo\, elke oneven week in De Kurk! 🏳️‍🌈 Neem je studiegenoten\, collega’s en vrienden mee en geniet samen van een gezellige vrijdagmiddag 🥂 \n\n\n\nENG: 🎉 Ready to wrap up your week with a drink? Join the Queer-Mi-Bo every odd week at De Kurk! 🏳️‍🌈 Bring your classmates\, colleagues\, and friends for a fun Friday afternoon 🥂 \n\n\n\nDe KurkSteenstraat 686828 CN Arnhem
URL:https://www.cocmiddengelderland.nl/event/queer-mi-bo/2028-06-02/
LOCATION:De Kurk\, Steenstraat 68\, Arnhem\, 6828 CN\, Netherlands
CATEGORIES:Arnhem,Borrel,Engelstalig,Vrijdag
ATTACH;FMTTYPE=image/jpeg:https://www.cocmiddengelderland.nl/wp-content/uploads/2025/05/Middel-53-50.jpg
END:VEVENT
BEGIN:VEVENT
DTSTART;TZID=Europe/Amsterdam:20280603T190000
DTEND;TZID=Europe/Amsterdam:20280603T230000
DTSTAMP:20260425T201636
CREATED:20260313T095602Z
LAST-MODIFIED:20260313T095716Z
UID:10002232-1843671600-1843686000@www.cocmiddengelderland.nl
SUMMARY:Transistor café-avond
DESCRIPTION:Iedere eerste zaterdag van de maand is er weer een gezellige Transistor café-avond. Kom gezellig wat drinken en kletsen in Café De Kurk. Actuele informatie over onze activiteiten vind je op Bluesky of onze andere social media kanalen. \n\n\n\n\n\n\n\n⏰ Inloop 19:00  \n\n\n\n📍Café De Kurk\, Steenstraat 68 Arnhem
URL:https://www.cocmiddengelderland.nl/event/transistor-cafe-avond-6/2028-06-03/
LOCATION:De Kurk\, Steenstraat 68\, Arnhem\, 6828 CN\, Netherlands
CATEGORIES:Arnhem,Borrel,Trans,Zaterdag
ATTACH;FMTTYPE=image/jpeg:https://www.cocmiddengelderland.nl/wp-content/uploads/2025/05/Middel-59-50.jpg
END:VEVENT
BEGIN:VEVENT
DTSTART;TZID=Europe/Amsterdam:20280615T190000
DTEND;TZID=Europe/Amsterdam:20280615T230000
DTSTAMP:20260425T201636
CREATED:20260208T113532Z
LAST-MODIFIED:20260208T114607Z
UID:10002063-1844708400-1844722800@www.cocmiddengelderland.nl
SUMMARY:Transistor café-avond
DESCRIPTION:Kom gezellig een drankje doen en kletsen met andere trans mensen uit de community in Queercafé De Kurk. Inloop vanaf 19:00. Actuele informatie over onze activiteiten vind je op Bluesky of onze andere social media kanalen. \n\n\n\n📍We zien je graag de derde donderdagavond van de maand! 🤗💜
URL:https://www.cocmiddengelderland.nl/event/transistor-cafe-avond-4/2028-06-15/
LOCATION:De Kurk\, Steenstraat 68\, Arnhem\, 6828 CN\, Netherlands
CATEGORIES:Arnhem,Borrel,Donderdag,Trans
ATTACH;FMTTYPE=image/jpeg:https://www.cocmiddengelderland.nl/wp-content/uploads/2025/10/header-trans-80.jpg
END:VEVENT
BEGIN:VEVENT
DTSTART;TZID=Europe/Amsterdam:20280616T190000
DTEND;TZID=Europe/Amsterdam:20280616T220000
DTSTAMP:20260425T201636
CREATED:20251024T184434Z
LAST-MODIFIED:20251203T232427Z
UID:10000796-1844794800-1844805600@www.cocmiddengelderland.nl
SUMMARY:QueerMiBo
DESCRIPTION:NL: 🎉 Zin om je week af te sluiten met een borrel? Kom naar de Queer-Mi-Bo\, elke oneven week in De Kurk! 🏳️‍🌈 Neem je studiegenoten\, collega’s en vrienden mee en geniet samen van een gezellige vrijdagmiddag 🥂 \n\n\n\nENG: 🎉 Ready to wrap up your week with a drink? Join the Queer-Mi-Bo every odd week at De Kurk! 🏳️‍🌈 Bring your classmates\, colleagues\, and friends for a fun Friday afternoon 🥂 \n\n\n\nDe KurkSteenstraat 686828 CN Arnhem
URL:https://www.cocmiddengelderland.nl/event/queer-mi-bo/2028-06-16/
LOCATION:De Kurk\, Steenstraat 68\, Arnhem\, 6828 CN\, Netherlands
CATEGORIES:Arnhem,Borrel,Engelstalig,Vrijdag
ATTACH;FMTTYPE=image/jpeg:https://www.cocmiddengelderland.nl/wp-content/uploads/2025/05/Middel-53-50.jpg
END:VEVENT
BEGIN:VEVENT
DTSTART;TZID=Europe/Amsterdam:20280625T150000
DTEND;TZID=Europe/Amsterdam:20280625T180000
DTSTAMP:20260425T201636
CREATED:20260313T094034Z
LAST-MODIFIED:20260313T094411Z
UID:10002174-1845558000-1845568800@www.cocmiddengelderland.nl
SUMMARY:Heerensalon
DESCRIPTION:De Heerensalon is een gezellige ontmoetingsactiviteit voor heren\, jong en oud. Kom deze zondagmiddag langs voor een gezellige borrel. Vanuit het COC is er altijd een vrijwilliger aanwezig om je te ontvangen. \n\n\n\nNjoy CaféBovenbeekstraat 56811 CV Arnhem
URL:https://www.cocmiddengelderland.nl/event/heerensalon-2/2028-06-25/
LOCATION:Njoy Café\, Bovenbeekstraat 5\, Arnhem\, 6811 CV\, Netherlands
CATEGORIES:Arnhem,Borrel,Zondag
ATTACH;FMTTYPE=image/jpeg:https://www.cocmiddengelderland.nl/wp-content/uploads/2025/05/Middel-36-50.jpg
END:VEVENT
BEGIN:VEVENT
DTSTART;TZID=Europe/Amsterdam:20280630T190000
DTEND;TZID=Europe/Amsterdam:20280630T220000
DTSTAMP:20260425T201636
CREATED:20251024T184434Z
LAST-MODIFIED:20251203T232427Z
UID:10000797-1846004400-1846015200@www.cocmiddengelderland.nl
SUMMARY:QueerMiBo
DESCRIPTION:NL: 🎉 Zin om je week af te sluiten met een borrel? Kom naar de Queer-Mi-Bo\, elke oneven week in De Kurk! 🏳️‍🌈 Neem je studiegenoten\, collega’s en vrienden mee en geniet samen van een gezellige vrijdagmiddag 🥂 \n\n\n\nENG: 🎉 Ready to wrap up your week with a drink? Join the Queer-Mi-Bo every odd week at De Kurk! 🏳️‍🌈 Bring your classmates\, colleagues\, and friends for a fun Friday afternoon 🥂 \n\n\n\nDe KurkSteenstraat 686828 CN Arnhem
URL:https://www.cocmiddengelderland.nl/event/queer-mi-bo/2028-06-30/
LOCATION:De Kurk\, Steenstraat 68\, Arnhem\, 6828 CN\, Netherlands
CATEGORIES:Arnhem,Borrel,Engelstalig,Vrijdag
ATTACH;FMTTYPE=image/jpeg:https://www.cocmiddengelderland.nl/wp-content/uploads/2025/05/Middel-53-50.jpg
END:VEVENT
BEGIN:VEVENT
DTSTART;TZID=Europe/Amsterdam:20280630T193000
DTEND;TZID=Europe/Amsterdam:20280630T220000
DTSTAMP:20260425T201636
CREATED:20251221T104336Z
LAST-MODIFIED:20260208T120603Z
UID:10001828-1846006200-1846015200@www.cocmiddengelderland.nl
SUMMARY:Queer Avond in Doetinchem
DESCRIPTION:✨ 𝗤𝘂𝗲𝗲𝗿 𝗔𝘃𝗼𝗻𝗱 𝗗𝗼𝗲𝘁𝗶𝗻𝗰𝗵𝗲𝗺 ✨Jouw vrijdag vol gezelligheid\, herkenning en een vleugje glitter. \n\n\n\nIedere laatste vrijdag van de maand is het weer tijd voor dé avond waar iedereen zichzelf kan zijn. Poolen? Check. Kletsen met oude en nieuwe vrienden? Zeker.Gewoon een drankje doen en lekker hangen? Absoluut. \n\n\n\n📍 @engelenbakdoetinchem\, Veemarkt 8🕢 19.30 – 22.00 uur \n\n\n\nKom solo of neem je crew mee: iedereen is welkom\, precies zoals je bent.
URL:https://www.cocmiddengelderland.nl/event/queer-avond-in-doetinchem/2028-06-30/
LOCATION:Café De Engelenbak\, Veemarkt 8\, Doetinchem\, 7001 EE\, Netherlands
CATEGORIES:Borrel,Doetinchem,Vrijdag
ATTACH;FMTTYPE=image/jpeg:https://www.cocmiddengelderland.nl/wp-content/uploads/2025/02/Middel-81-50.jpg
END:VEVENT
BEGIN:VEVENT
DTSTART;TZID=Europe/Amsterdam:20280701T190000
DTEND;TZID=Europe/Amsterdam:20280701T230000
DTSTAMP:20260425T201636
CREATED:20260313T095602Z
LAST-MODIFIED:20260313T095716Z
UID:10002233-1846090800-1846105200@www.cocmiddengelderland.nl
SUMMARY:Transistor café-avond
DESCRIPTION:Iedere eerste zaterdag van de maand is er weer een gezellige Transistor café-avond. Kom gezellig wat drinken en kletsen in Café De Kurk. Actuele informatie over onze activiteiten vind je op Bluesky of onze andere social media kanalen. \n\n\n\n\n\n\n\n⏰ Inloop 19:00  \n\n\n\n📍Café De Kurk\, Steenstraat 68 Arnhem
URL:https://www.cocmiddengelderland.nl/event/transistor-cafe-avond-6/2028-07-01/
LOCATION:De Kurk\, Steenstraat 68\, Arnhem\, 6828 CN\, Netherlands
CATEGORIES:Arnhem,Borrel,Trans,Zaterdag
ATTACH;FMTTYPE=image/jpeg:https://www.cocmiddengelderland.nl/wp-content/uploads/2025/05/Middel-59-50.jpg
END:VEVENT
END:VCALENDAR