



BEGIN:VCALENDAR
VERSION:2.0
PRODID:-//COC Midden-Gelderland - ECPv6.15.17.1//NONSGML v1.0//EN
CALSCALE:GREGORIAN
METHOD:PUBLISH
X-WR-CALNAME:COC Midden-Gelderland
X-ORIGINAL-URL:https://www.cocmiddengelderland.nl
X-WR-CALDESC:Evenementen voor COC Midden-Gelderland
REFRESH-INTERVAL;VALUE=DURATION:PT1H
X-Robots-Tag:noindex
X-PUBLISHED-TTL:PT1H
BEGIN:VTIMEZONE
TZID:Europe/Amsterdam
BEGIN:DAYLIGHT
TZOFFSETFROM:+0100
TZOFFSETTO:+0200
TZNAME:CEST
DTSTART:20240331T010000
END:DAYLIGHT
BEGIN:STANDARD
TZOFFSETFROM:+0200
TZOFFSETTO:+0100
TZNAME:CET
DTSTART:20241027T010000
END:STANDARD
BEGIN:DAYLIGHT
TZOFFSETFROM:+0100
TZOFFSETTO:+0200
TZNAME:CEST
DTSTART:20250330T010000
END:DAYLIGHT
BEGIN:STANDARD
TZOFFSETFROM:+0200
TZOFFSETTO:+0100
TZNAME:CET
DTSTART:20251026T010000
END:STANDARD
BEGIN:DAYLIGHT
TZOFFSETFROM:+0100
TZOFFSETTO:+0200
TZNAME:CEST
DTSTART:20260329T010000
END:DAYLIGHT
BEGIN:STANDARD
TZOFFSETFROM:+0200
TZOFFSETTO:+0100
TZNAME:CET
DTSTART:20261025T010000
END:STANDARD
END:VTIMEZONE
BEGIN:VEVENT
DTSTART;TZID=Europe/Amsterdam:20251024T190000
DTEND;TZID=Europe/Amsterdam:20251024T220000
DTSTAMP:20260423T132323
CREATED:20251024T184434Z
LAST-MODIFIED:20251203T232427Z
UID:10000727-1761332400-1761343200@www.cocmiddengelderland.nl
SUMMARY:QueerMiBo
DESCRIPTION:NL: 🎉 Zin om je week af te sluiten met een borrel? Kom naar de Queer-Mi-Bo\, elke oneven week in De Kurk! 🏳️‍🌈 Neem je studiegenoten\, collega’s en vrienden mee en geniet samen van een gezellige vrijdagmiddag 🥂 \n\n\n\nENG: 🎉 Ready to wrap up your week with a drink? Join the Queer-Mi-Bo every odd week at De Kurk! 🏳️‍🌈 Bring your classmates\, colleagues\, and friends for a fun Friday afternoon 🥂 \n\n\n\nDe KurkSteenstraat 686828 CN Arnhem
URL:https://www.cocmiddengelderland.nl/event/queer-mi-bo/2025-10-24/
LOCATION:De Kurk\, Steenstraat 68\, Arnhem\, 6828 CN\, Netherlands
CATEGORIES:Arnhem,Borrel,Engelstalig,Vrijdag
ATTACH;FMTTYPE=image/jpeg:https://www.cocmiddengelderland.nl/wp-content/uploads/2025/05/Middel-53-50.jpg
END:VEVENT
BEGIN:VEVENT
DTSTART;TZID=Europe/Amsterdam:20251026T150000
DTEND;TZID=Europe/Amsterdam:20251026T180000
DTSTAMP:20260423T132324
CREATED:20251024T181121Z
LAST-MODIFIED:20251024T181123Z
UID:10000346-1761490800-1761501600@www.cocmiddengelderland.nl
SUMMARY:Heerensalon
DESCRIPTION:De Heerensalon is een gezellige ontmoetingsactiviteit voor heren\, jong en oud. Kom deze zondagmiddag langs voor een gezellige borrel. Vanuit het COC is er altijd een vrijwilliger aanwezig om je te ontvangen. \n\n\n\nNjoy CaféBovenbeekstraat 56811 CV Arnhem
URL:https://www.cocmiddengelderland.nl/event/heerensalon/2025-10-26/
LOCATION:Njoy Café\, Bovenbeekstraat 5\, Arnhem\, 6811 CV\, Netherlands
CATEGORIES:Arnhem,Borrel,Zondag
ATTACH;FMTTYPE=image/jpeg:https://www.cocmiddengelderland.nl/wp-content/uploads/2025/05/Middel-36-50.jpg
END:VEVENT
END:VCALENDAR