



BEGIN:VCALENDAR
VERSION:2.0
PRODID:-//COC Midden-Gelderland - ECPv6.15.17.1//NONSGML v1.0//EN
CALSCALE:GREGORIAN
METHOD:PUBLISH
X-ORIGINAL-URL:https://www.cocmiddengelderland.nl
X-WR-CALDESC:Evenementen voor COC Midden-Gelderland
REFRESH-INTERVAL;VALUE=DURATION:PT1H
X-Robots-Tag:noindex
X-PUBLISHED-TTL:PT1H
BEGIN:VTIMEZONE
TZID:Europe/Amsterdam
BEGIN:DAYLIGHT
TZOFFSETFROM:+0100
TZOFFSETTO:+0200
TZNAME:CEST
DTSTART:20270328T010000
END:DAYLIGHT
BEGIN:STANDARD
TZOFFSETFROM:+0200
TZOFFSETTO:+0100
TZNAME:CET
DTSTART:20271031T010000
END:STANDARD
BEGIN:DAYLIGHT
TZOFFSETFROM:+0100
TZOFFSETTO:+0200
TZNAME:CEST
DTSTART:20280326T010000
END:DAYLIGHT
BEGIN:STANDARD
TZOFFSETFROM:+0200
TZOFFSETTO:+0100
TZNAME:CET
DTSTART:20281029T010000
END:STANDARD
BEGIN:DAYLIGHT
TZOFFSETFROM:+0100
TZOFFSETTO:+0200
TZNAME:CEST
DTSTART:20290325T010000
END:DAYLIGHT
BEGIN:STANDARD
TZOFFSETFROM:+0200
TZOFFSETTO:+0100
TZNAME:CET
DTSTART:20291028T010000
END:STANDARD
BEGIN:DAYLIGHT
TZOFFSETFROM:+0100
TZOFFSETTO:+0200
TZNAME:CEST
DTSTART:20300331T010000
END:DAYLIGHT
BEGIN:STANDARD
TZOFFSETFROM:+0200
TZOFFSETTO:+0100
TZNAME:CET
DTSTART:20301027T010000
END:STANDARD
END:VTIMEZONE
BEGIN:VEVENT
DTSTART;TZID=Europe/Amsterdam:20281015T130000
DTEND;TZID=Europe/Amsterdam:20281015T180000
DTSTAMP:20260423T075446
CREATED:20251207T204807Z
LAST-MODIFIED:20251207T204819Z
UID:10001531-1855227600-1855245600@www.cocmiddengelderland.nl
SUMMARY:Jong&out
DESCRIPTION:Elke maand organiseren wij een Jong & Out-meeting voor LHTBI+-jongeren 12 tot 18 jaar.  De invulling verschilt per keer: van creatieve workshops en speurtochten tot spelmiddagen en uitstapjes naar bijvoorbeeld een museum Bekijk de Instagram van Jong&Out Arnhem voor meer informatie.
URL:https://www.cocmiddengelderland.nl/event/jongout-2/2028-10-15/
LOCATION:Buurtcentrum de Lommerd\, Spijkerstraat 185a\, Arnhem\, 6828DC\, Netherlands
CATEGORIES:Arnhem,Jongeren,t/m 18 jaar
ATTACH;FMTTYPE=image/jpeg:https://www.cocmiddengelderland.nl/wp-content/uploads/2024/12/jong-out-2-100.jpg
END:VEVENT
BEGIN:VEVENT
DTSTART;TZID=Europe/Amsterdam:20281022T130000
DTEND;TZID=Europe/Amsterdam:20281022T170000
DTSTAMP:20260423T075446
CREATED:20251025T071708Z
LAST-MODIFIED:20251025T071712Z
UID:10001315-1855832400-1855846800@www.cocmiddengelderland.nl
SUMMARY:Transistor Spellenmiddag
DESCRIPTION:Iedere 4e zondag van de maand is het tijd voor onze spellenmiddag. Kom langs om spelletjes te doen met trans mensen uit onze mooie community. Je mag ook je eigen spel meenemen. 🃏 Actuele informatie over onze activiteiten vind je op Bluesky of onze andere social media kanalen. \n\n\n\n⏰ 13:00 inloop – 13:30 start
URL:https://www.cocmiddengelderland.nl/event/transistor-spellenmiddag/2028-10-22/
LOCATION:De Kurk\, Steenstraat 68\, Arnhem\, 6828 CN\, Netherlands
CATEGORIES:Arnhem,Spelletjes,Trans,Zondag
ATTACH;FMTTYPE=image/jpeg:https://www.cocmiddengelderland.nl/wp-content/uploads/2025/02/bafkreiddgglu25ar3aqlqxaxmufzxixehpx4mqxy3bcnqcqlgbbsnm3soa.jpg
END:VEVENT
BEGIN:VEVENT
DTSTART;TZID=Europe/Amsterdam:20281105T130000
DTEND;TZID=Europe/Amsterdam:20281105T170000
DTSTAMP:20260423T075446
CREATED:20251030T202448Z
LAST-MODIFIED:20251030T202454Z
UID:10001467-1857042000-1857056400@www.cocmiddengelderland.nl
SUMMARY:Jong & Out
DESCRIPTION:Elke maand organiseren wij een Jong & Out-meeting voor LHTBI+-jongeren 12 tot 18 jaar. De invulling verschilt per keer: van creatieve workshops en speurtochten tot spelmiddagen en uitstapjes naar bijvoorbeeld een museum. Bekijk de Instagram van Jong&Out Doetinchem voor meer informatie \n\n\n\nBen jij erbij? Meld je aan via onze social media.
URL:https://www.cocmiddengelderland.nl/event/jong-out/2028-11-05/
LOCATION:JC DTC (HET JONGERENCENTRUM)\,  HOFSTRAAT 2\, Doetinchem\, 7001 CD
CATEGORIES:Doetinchem,Jongeren,t/m 18 jaar,Zondag
ATTACH;FMTTYPE=image/jpeg:https://www.cocmiddengelderland.nl/wp-content/uploads/2024/12/jong-out-100.jpg
END:VEVENT
BEGIN:VEVENT
DTSTART;TZID=Europe/Amsterdam:20281112T160000
DTEND;TZID=Europe/Amsterdam:20281112T183000
DTSTAMP:20260423T075447
CREATED:20251023T193241Z
LAST-MODIFIED:20251023T200335Z
UID:10000230-1857657600-1857666600@www.cocmiddengelderland.nl
SUMMARY:AutiRoze
DESCRIPTION:AutiRoze is de maandelijkse bijeenkomst voor lhbti+ mensen met autisme\, ADHD of een andere vorm van neurodiversiteit. Het heeft een informeel karakter en is gericht op ontmoeten\, gezelligheid en ruimte voor een goed gesprek. Onze vrijwilligers staan voor je klaar en zullen je ontvangen. We zitten in de huiskamer\, meteen bij de ingang links. \n\n\n\n  \n\n\n\nCOC Midden-Gelderland kantoor
URL:https://www.cocmiddengelderland.nl/event/autiroze/2028-11-12/
LOCATION:Buurtcentrum de Lommerd\, Spijkerstraat 185a\, Arnhem\, 6828DC\, Netherlands
CATEGORIES:Arnhem,Autisme,Neurodivergentie,Zondag
ATTACH;FMTTYPE=image/jpeg:https://www.cocmiddengelderland.nl/wp-content/uploads/2024/12/autiroze_2-100.jpg
END:VEVENT
BEGIN:VEVENT
DTSTART;TZID=Europe/Amsterdam:20281119T130000
DTEND;TZID=Europe/Amsterdam:20281119T180000
DTSTAMP:20260423T075447
CREATED:20251207T204807Z
LAST-MODIFIED:20251207T204819Z
UID:10001532-1858251600-1858269600@www.cocmiddengelderland.nl
SUMMARY:Jong&out
DESCRIPTION:Elke maand organiseren wij een Jong & Out-meeting voor LHTBI+-jongeren 12 tot 18 jaar.  De invulling verschilt per keer: van creatieve workshops en speurtochten tot spelmiddagen en uitstapjes naar bijvoorbeeld een museum Bekijk de Instagram van Jong&Out Arnhem voor meer informatie.
URL:https://www.cocmiddengelderland.nl/event/jongout-2/2028-11-19/
LOCATION:Buurtcentrum de Lommerd\, Spijkerstraat 185a\, Arnhem\, 6828DC\, Netherlands
CATEGORIES:Arnhem,Jongeren,t/m 18 jaar
ATTACH;FMTTYPE=image/jpeg:https://www.cocmiddengelderland.nl/wp-content/uploads/2024/12/jong-out-2-100.jpg
END:VEVENT
BEGIN:VEVENT
DTSTART;TZID=Europe/Amsterdam:20281126T130000
DTEND;TZID=Europe/Amsterdam:20281126T170000
DTSTAMP:20260423T075447
CREATED:20251025T071708Z
LAST-MODIFIED:20251025T071712Z
UID:10001316-1858856400-1858870800@www.cocmiddengelderland.nl
SUMMARY:Transistor Spellenmiddag
DESCRIPTION:Iedere 4e zondag van de maand is het tijd voor onze spellenmiddag. Kom langs om spelletjes te doen met trans mensen uit onze mooie community. Je mag ook je eigen spel meenemen. 🃏 Actuele informatie over onze activiteiten vind je op Bluesky of onze andere social media kanalen. \n\n\n\n⏰ 13:00 inloop – 13:30 start
URL:https://www.cocmiddengelderland.nl/event/transistor-spellenmiddag/2028-11-26/
LOCATION:De Kurk\, Steenstraat 68\, Arnhem\, 6828 CN\, Netherlands
CATEGORIES:Arnhem,Spelletjes,Trans,Zondag
ATTACH;FMTTYPE=image/jpeg:https://www.cocmiddengelderland.nl/wp-content/uploads/2025/02/bafkreiddgglu25ar3aqlqxaxmufzxixehpx4mqxy3bcnqcqlgbbsnm3soa.jpg
END:VEVENT
BEGIN:VEVENT
DTSTART;TZID=Europe/Amsterdam:20281203T130000
DTEND;TZID=Europe/Amsterdam:20281203T170000
DTSTAMP:20260423T075447
CREATED:20251030T202448Z
LAST-MODIFIED:20251030T202454Z
UID:10001468-1859461200-1859475600@www.cocmiddengelderland.nl
SUMMARY:Jong & Out
DESCRIPTION:Elke maand organiseren wij een Jong & Out-meeting voor LHTBI+-jongeren 12 tot 18 jaar. De invulling verschilt per keer: van creatieve workshops en speurtochten tot spelmiddagen en uitstapjes naar bijvoorbeeld een museum. Bekijk de Instagram van Jong&Out Doetinchem voor meer informatie \n\n\n\nBen jij erbij? Meld je aan via onze social media.
URL:https://www.cocmiddengelderland.nl/event/jong-out/2028-12-03/
LOCATION:JC DTC (HET JONGERENCENTRUM)\,  HOFSTRAAT 2\, Doetinchem\, 7001 CD
CATEGORIES:Doetinchem,Jongeren,t/m 18 jaar,Zondag
ATTACH;FMTTYPE=image/jpeg:https://www.cocmiddengelderland.nl/wp-content/uploads/2024/12/jong-out-100.jpg
END:VEVENT
BEGIN:VEVENT
DTSTART;TZID=Europe/Amsterdam:20281210T160000
DTEND;TZID=Europe/Amsterdam:20281210T183000
DTSTAMP:20260423T075447
CREATED:20251023T193241Z
LAST-MODIFIED:20251023T200335Z
UID:10000231-1860076800-1860085800@www.cocmiddengelderland.nl
SUMMARY:AutiRoze
DESCRIPTION:AutiRoze is de maandelijkse bijeenkomst voor lhbti+ mensen met autisme\, ADHD of een andere vorm van neurodiversiteit. Het heeft een informeel karakter en is gericht op ontmoeten\, gezelligheid en ruimte voor een goed gesprek. Onze vrijwilligers staan voor je klaar en zullen je ontvangen. We zitten in de huiskamer\, meteen bij de ingang links. \n\n\n\n  \n\n\n\nCOC Midden-Gelderland kantoor
URL:https://www.cocmiddengelderland.nl/event/autiroze/2028-12-10/
LOCATION:Buurtcentrum de Lommerd\, Spijkerstraat 185a\, Arnhem\, 6828DC\, Netherlands
CATEGORIES:Arnhem,Autisme,Neurodivergentie,Zondag
ATTACH;FMTTYPE=image/jpeg:https://www.cocmiddengelderland.nl/wp-content/uploads/2024/12/autiroze_2-100.jpg
END:VEVENT
BEGIN:VEVENT
DTSTART;TZID=Europe/Amsterdam:20281217T130000
DTEND;TZID=Europe/Amsterdam:20281217T180000
DTSTAMP:20260423T075447
CREATED:20251207T204807Z
LAST-MODIFIED:20251207T204819Z
UID:10001533-1860670800-1860688800@www.cocmiddengelderland.nl
SUMMARY:Jong&out
DESCRIPTION:Elke maand organiseren wij een Jong & Out-meeting voor LHTBI+-jongeren 12 tot 18 jaar.  De invulling verschilt per keer: van creatieve workshops en speurtochten tot spelmiddagen en uitstapjes naar bijvoorbeeld een museum Bekijk de Instagram van Jong&Out Arnhem voor meer informatie.
URL:https://www.cocmiddengelderland.nl/event/jongout-2/2028-12-17/
LOCATION:Buurtcentrum de Lommerd\, Spijkerstraat 185a\, Arnhem\, 6828DC\, Netherlands
CATEGORIES:Arnhem,Jongeren,t/m 18 jaar
ATTACH;FMTTYPE=image/jpeg:https://www.cocmiddengelderland.nl/wp-content/uploads/2024/12/jong-out-2-100.jpg
END:VEVENT
BEGIN:VEVENT
DTSTART;TZID=Europe/Amsterdam:20281224T130000
DTEND;TZID=Europe/Amsterdam:20281224T170000
DTSTAMP:20260423T075447
CREATED:20251025T071708Z
LAST-MODIFIED:20251025T071712Z
UID:10001317-1861275600-1861290000@www.cocmiddengelderland.nl
SUMMARY:Transistor Spellenmiddag
DESCRIPTION:Iedere 4e zondag van de maand is het tijd voor onze spellenmiddag. Kom langs om spelletjes te doen met trans mensen uit onze mooie community. Je mag ook je eigen spel meenemen. 🃏 Actuele informatie over onze activiteiten vind je op Bluesky of onze andere social media kanalen. \n\n\n\n⏰ 13:00 inloop – 13:30 start
URL:https://www.cocmiddengelderland.nl/event/transistor-spellenmiddag/2028-12-24/
LOCATION:De Kurk\, Steenstraat 68\, Arnhem\, 6828 CN\, Netherlands
CATEGORIES:Arnhem,Spelletjes,Trans,Zondag
ATTACH;FMTTYPE=image/jpeg:https://www.cocmiddengelderland.nl/wp-content/uploads/2025/02/bafkreiddgglu25ar3aqlqxaxmufzxixehpx4mqxy3bcnqcqlgbbsnm3soa.jpg
END:VEVENT
BEGIN:VEVENT
DTSTART;TZID=Europe/Amsterdam:20290107T130000
DTEND;TZID=Europe/Amsterdam:20290107T170000
DTSTAMP:20260423T075447
CREATED:20251030T202448Z
LAST-MODIFIED:20251030T202454Z
UID:10001469-1862485200-1862499600@www.cocmiddengelderland.nl
SUMMARY:Jong & Out
DESCRIPTION:Elke maand organiseren wij een Jong & Out-meeting voor LHTBI+-jongeren 12 tot 18 jaar. De invulling verschilt per keer: van creatieve workshops en speurtochten tot spelmiddagen en uitstapjes naar bijvoorbeeld een museum. Bekijk de Instagram van Jong&Out Doetinchem voor meer informatie \n\n\n\nBen jij erbij? Meld je aan via onze social media.
URL:https://www.cocmiddengelderland.nl/event/jong-out/2029-01-07/
LOCATION:JC DTC (HET JONGERENCENTRUM)\,  HOFSTRAAT 2\, Doetinchem\, 7001 CD
CATEGORIES:Doetinchem,Jongeren,t/m 18 jaar,Zondag
ATTACH;FMTTYPE=image/jpeg:https://www.cocmiddengelderland.nl/wp-content/uploads/2024/12/jong-out-100.jpg
END:VEVENT
BEGIN:VEVENT
DTSTART;TZID=Europe/Amsterdam:20290114T160000
DTEND;TZID=Europe/Amsterdam:20290114T183000
DTSTAMP:20260423T075447
CREATED:20251023T193241Z
LAST-MODIFIED:20251023T200335Z
UID:10000232-1863100800-1863109800@www.cocmiddengelderland.nl
SUMMARY:AutiRoze
DESCRIPTION:AutiRoze is de maandelijkse bijeenkomst voor lhbti+ mensen met autisme\, ADHD of een andere vorm van neurodiversiteit. Het heeft een informeel karakter en is gericht op ontmoeten\, gezelligheid en ruimte voor een goed gesprek. Onze vrijwilligers staan voor je klaar en zullen je ontvangen. We zitten in de huiskamer\, meteen bij de ingang links. \n\n\n\n  \n\n\n\nCOC Midden-Gelderland kantoor
URL:https://www.cocmiddengelderland.nl/event/autiroze/2029-01-14/
LOCATION:Buurtcentrum de Lommerd\, Spijkerstraat 185a\, Arnhem\, 6828DC\, Netherlands
CATEGORIES:Arnhem,Autisme,Neurodivergentie,Zondag
ATTACH;FMTTYPE=image/jpeg:https://www.cocmiddengelderland.nl/wp-content/uploads/2024/12/autiroze_2-100.jpg
END:VEVENT
BEGIN:VEVENT
DTSTART;TZID=Europe/Amsterdam:20290121T130000
DTEND;TZID=Europe/Amsterdam:20290121T180000
DTSTAMP:20260423T075447
CREATED:20251207T204807Z
LAST-MODIFIED:20251207T204819Z
UID:10001534-1863694800-1863712800@www.cocmiddengelderland.nl
SUMMARY:Jong&out
DESCRIPTION:Elke maand organiseren wij een Jong & Out-meeting voor LHTBI+-jongeren 12 tot 18 jaar.  De invulling verschilt per keer: van creatieve workshops en speurtochten tot spelmiddagen en uitstapjes naar bijvoorbeeld een museum Bekijk de Instagram van Jong&Out Arnhem voor meer informatie.
URL:https://www.cocmiddengelderland.nl/event/jongout-2/2029-01-21/
LOCATION:Buurtcentrum de Lommerd\, Spijkerstraat 185a\, Arnhem\, 6828DC\, Netherlands
CATEGORIES:Arnhem,Jongeren,t/m 18 jaar
ATTACH;FMTTYPE=image/jpeg:https://www.cocmiddengelderland.nl/wp-content/uploads/2024/12/jong-out-2-100.jpg
END:VEVENT
BEGIN:VEVENT
DTSTART;TZID=Europe/Amsterdam:20290128T130000
DTEND;TZID=Europe/Amsterdam:20290128T170000
DTSTAMP:20260423T075447
CREATED:20251025T071708Z
LAST-MODIFIED:20251025T071712Z
UID:10001318-1864299600-1864314000@www.cocmiddengelderland.nl
SUMMARY:Transistor Spellenmiddag
DESCRIPTION:Iedere 4e zondag van de maand is het tijd voor onze spellenmiddag. Kom langs om spelletjes te doen met trans mensen uit onze mooie community. Je mag ook je eigen spel meenemen. 🃏 Actuele informatie over onze activiteiten vind je op Bluesky of onze andere social media kanalen. \n\n\n\n⏰ 13:00 inloop – 13:30 start
URL:https://www.cocmiddengelderland.nl/event/transistor-spellenmiddag/2029-01-28/
LOCATION:De Kurk\, Steenstraat 68\, Arnhem\, 6828 CN\, Netherlands
CATEGORIES:Arnhem,Spelletjes,Trans,Zondag
ATTACH;FMTTYPE=image/jpeg:https://www.cocmiddengelderland.nl/wp-content/uploads/2025/02/bafkreiddgglu25ar3aqlqxaxmufzxixehpx4mqxy3bcnqcqlgbbsnm3soa.jpg
END:VEVENT
BEGIN:VEVENT
DTSTART;TZID=Europe/Amsterdam:20290204T130000
DTEND;TZID=Europe/Amsterdam:20290204T170000
DTSTAMP:20260423T075447
CREATED:20251030T202448Z
LAST-MODIFIED:20251030T202454Z
UID:10001470-1864904400-1864918800@www.cocmiddengelderland.nl
SUMMARY:Jong & Out
DESCRIPTION:Elke maand organiseren wij een Jong & Out-meeting voor LHTBI+-jongeren 12 tot 18 jaar. De invulling verschilt per keer: van creatieve workshops en speurtochten tot spelmiddagen en uitstapjes naar bijvoorbeeld een museum. Bekijk de Instagram van Jong&Out Doetinchem voor meer informatie \n\n\n\nBen jij erbij? Meld je aan via onze social media.
URL:https://www.cocmiddengelderland.nl/event/jong-out/2029-02-04/
LOCATION:JC DTC (HET JONGERENCENTRUM)\,  HOFSTRAAT 2\, Doetinchem\, 7001 CD
CATEGORIES:Doetinchem,Jongeren,t/m 18 jaar,Zondag
ATTACH;FMTTYPE=image/jpeg:https://www.cocmiddengelderland.nl/wp-content/uploads/2024/12/jong-out-100.jpg
END:VEVENT
BEGIN:VEVENT
DTSTART;TZID=Europe/Amsterdam:20290211T160000
DTEND;TZID=Europe/Amsterdam:20290211T183000
DTSTAMP:20260423T075447
CREATED:20251023T193241Z
LAST-MODIFIED:20251023T200335Z
UID:10000233-1865520000-1865529000@www.cocmiddengelderland.nl
SUMMARY:AutiRoze
DESCRIPTION:AutiRoze is de maandelijkse bijeenkomst voor lhbti+ mensen met autisme\, ADHD of een andere vorm van neurodiversiteit. Het heeft een informeel karakter en is gericht op ontmoeten\, gezelligheid en ruimte voor een goed gesprek. Onze vrijwilligers staan voor je klaar en zullen je ontvangen. We zitten in de huiskamer\, meteen bij de ingang links. \n\n\n\n  \n\n\n\nCOC Midden-Gelderland kantoor
URL:https://www.cocmiddengelderland.nl/event/autiroze/2029-02-11/
LOCATION:Buurtcentrum de Lommerd\, Spijkerstraat 185a\, Arnhem\, 6828DC\, Netherlands
CATEGORIES:Arnhem,Autisme,Neurodivergentie,Zondag
ATTACH;FMTTYPE=image/jpeg:https://www.cocmiddengelderland.nl/wp-content/uploads/2024/12/autiroze_2-100.jpg
END:VEVENT
BEGIN:VEVENT
DTSTART;TZID=Europe/Amsterdam:20290218T130000
DTEND;TZID=Europe/Amsterdam:20290218T180000
DTSTAMP:20260423T075447
CREATED:20251207T204807Z
LAST-MODIFIED:20251207T204819Z
UID:10001535-1866114000-1866132000@www.cocmiddengelderland.nl
SUMMARY:Jong&out
DESCRIPTION:Elke maand organiseren wij een Jong & Out-meeting voor LHTBI+-jongeren 12 tot 18 jaar.  De invulling verschilt per keer: van creatieve workshops en speurtochten tot spelmiddagen en uitstapjes naar bijvoorbeeld een museum Bekijk de Instagram van Jong&Out Arnhem voor meer informatie.
URL:https://www.cocmiddengelderland.nl/event/jongout-2/2029-02-18/
LOCATION:Buurtcentrum de Lommerd\, Spijkerstraat 185a\, Arnhem\, 6828DC\, Netherlands
CATEGORIES:Arnhem,Jongeren,t/m 18 jaar
ATTACH;FMTTYPE=image/jpeg:https://www.cocmiddengelderland.nl/wp-content/uploads/2024/12/jong-out-2-100.jpg
END:VEVENT
BEGIN:VEVENT
DTSTART;TZID=Europe/Amsterdam:20290225T130000
DTEND;TZID=Europe/Amsterdam:20290225T170000
DTSTAMP:20260423T075447
CREATED:20251025T071708Z
LAST-MODIFIED:20251025T071712Z
UID:10001319-1866718800-1866733200@www.cocmiddengelderland.nl
SUMMARY:Transistor Spellenmiddag
DESCRIPTION:Iedere 4e zondag van de maand is het tijd voor onze spellenmiddag. Kom langs om spelletjes te doen met trans mensen uit onze mooie community. Je mag ook je eigen spel meenemen. 🃏 Actuele informatie over onze activiteiten vind je op Bluesky of onze andere social media kanalen. \n\n\n\n⏰ 13:00 inloop – 13:30 start
URL:https://www.cocmiddengelderland.nl/event/transistor-spellenmiddag/2029-02-25/
LOCATION:De Kurk\, Steenstraat 68\, Arnhem\, 6828 CN\, Netherlands
CATEGORIES:Arnhem,Spelletjes,Trans,Zondag
ATTACH;FMTTYPE=image/jpeg:https://www.cocmiddengelderland.nl/wp-content/uploads/2025/02/bafkreiddgglu25ar3aqlqxaxmufzxixehpx4mqxy3bcnqcqlgbbsnm3soa.jpg
END:VEVENT
BEGIN:VEVENT
DTSTART;TZID=Europe/Amsterdam:20290304T130000
DTEND;TZID=Europe/Amsterdam:20290304T170000
DTSTAMP:20260423T075447
CREATED:20251030T202448Z
LAST-MODIFIED:20251030T202454Z
UID:10001471-1867323600-1867338000@www.cocmiddengelderland.nl
SUMMARY:Jong & Out
DESCRIPTION:Elke maand organiseren wij een Jong & Out-meeting voor LHTBI+-jongeren 12 tot 18 jaar. De invulling verschilt per keer: van creatieve workshops en speurtochten tot spelmiddagen en uitstapjes naar bijvoorbeeld een museum. Bekijk de Instagram van Jong&Out Doetinchem voor meer informatie \n\n\n\nBen jij erbij? Meld je aan via onze social media.
URL:https://www.cocmiddengelderland.nl/event/jong-out/2029-03-04/
LOCATION:JC DTC (HET JONGERENCENTRUM)\,  HOFSTRAAT 2\, Doetinchem\, 7001 CD
CATEGORIES:Doetinchem,Jongeren,t/m 18 jaar,Zondag
ATTACH;FMTTYPE=image/jpeg:https://www.cocmiddengelderland.nl/wp-content/uploads/2024/12/jong-out-100.jpg
END:VEVENT
BEGIN:VEVENT
DTSTART;TZID=Europe/Amsterdam:20290311T160000
DTEND;TZID=Europe/Amsterdam:20290311T183000
DTSTAMP:20260423T075447
CREATED:20251023T193241Z
LAST-MODIFIED:20251023T200335Z
UID:10000234-1867939200-1867948200@www.cocmiddengelderland.nl
SUMMARY:AutiRoze
DESCRIPTION:AutiRoze is de maandelijkse bijeenkomst voor lhbti+ mensen met autisme\, ADHD of een andere vorm van neurodiversiteit. Het heeft een informeel karakter en is gericht op ontmoeten\, gezelligheid en ruimte voor een goed gesprek. Onze vrijwilligers staan voor je klaar en zullen je ontvangen. We zitten in de huiskamer\, meteen bij de ingang links. \n\n\n\n  \n\n\n\nCOC Midden-Gelderland kantoor
URL:https://www.cocmiddengelderland.nl/event/autiroze/2029-03-11/
LOCATION:Buurtcentrum de Lommerd\, Spijkerstraat 185a\, Arnhem\, 6828DC\, Netherlands
CATEGORIES:Arnhem,Autisme,Neurodivergentie,Zondag
ATTACH;FMTTYPE=image/jpeg:https://www.cocmiddengelderland.nl/wp-content/uploads/2024/12/autiroze_2-100.jpg
END:VEVENT
BEGIN:VEVENT
DTSTART;TZID=Europe/Amsterdam:20290318T130000
DTEND;TZID=Europe/Amsterdam:20290318T180000
DTSTAMP:20260423T075447
CREATED:20251207T204807Z
LAST-MODIFIED:20251207T204819Z
UID:10001536-1868533200-1868551200@www.cocmiddengelderland.nl
SUMMARY:Jong&out
DESCRIPTION:Elke maand organiseren wij een Jong & Out-meeting voor LHTBI+-jongeren 12 tot 18 jaar.  De invulling verschilt per keer: van creatieve workshops en speurtochten tot spelmiddagen en uitstapjes naar bijvoorbeeld een museum Bekijk de Instagram van Jong&Out Arnhem voor meer informatie.
URL:https://www.cocmiddengelderland.nl/event/jongout-2/2029-03-18/
LOCATION:Buurtcentrum de Lommerd\, Spijkerstraat 185a\, Arnhem\, 6828DC\, Netherlands
CATEGORIES:Arnhem,Jongeren,t/m 18 jaar
ATTACH;FMTTYPE=image/jpeg:https://www.cocmiddengelderland.nl/wp-content/uploads/2024/12/jong-out-2-100.jpg
END:VEVENT
BEGIN:VEVENT
DTSTART;TZID=Europe/Amsterdam:20290325T130000
DTEND;TZID=Europe/Amsterdam:20290325T170000
DTSTAMP:20260423T075447
CREATED:20251025T071708Z
LAST-MODIFIED:20251025T071712Z
UID:10001320-1869138000-1869152400@www.cocmiddengelderland.nl
SUMMARY:Transistor Spellenmiddag
DESCRIPTION:Iedere 4e zondag van de maand is het tijd voor onze spellenmiddag. Kom langs om spelletjes te doen met trans mensen uit onze mooie community. Je mag ook je eigen spel meenemen. 🃏 Actuele informatie over onze activiteiten vind je op Bluesky of onze andere social media kanalen. \n\n\n\n⏰ 13:00 inloop – 13:30 start
URL:https://www.cocmiddengelderland.nl/event/transistor-spellenmiddag/2029-03-25/
LOCATION:De Kurk\, Steenstraat 68\, Arnhem\, 6828 CN\, Netherlands
CATEGORIES:Arnhem,Spelletjes,Trans,Zondag
ATTACH;FMTTYPE=image/jpeg:https://www.cocmiddengelderland.nl/wp-content/uploads/2025/02/bafkreiddgglu25ar3aqlqxaxmufzxixehpx4mqxy3bcnqcqlgbbsnm3soa.jpg
END:VEVENT
BEGIN:VEVENT
DTSTART;TZID=Europe/Amsterdam:20290401T130000
DTEND;TZID=Europe/Amsterdam:20290401T170000
DTSTAMP:20260423T075447
CREATED:20251030T202448Z
LAST-MODIFIED:20251030T202454Z
UID:10001472-1869742800-1869757200@www.cocmiddengelderland.nl
SUMMARY:Jong & Out
DESCRIPTION:Elke maand organiseren wij een Jong & Out-meeting voor LHTBI+-jongeren 12 tot 18 jaar. De invulling verschilt per keer: van creatieve workshops en speurtochten tot spelmiddagen en uitstapjes naar bijvoorbeeld een museum. Bekijk de Instagram van Jong&Out Doetinchem voor meer informatie \n\n\n\nBen jij erbij? Meld je aan via onze social media.
URL:https://www.cocmiddengelderland.nl/event/jong-out/2029-04-01/
LOCATION:JC DTC (HET JONGERENCENTRUM)\,  HOFSTRAAT 2\, Doetinchem\, 7001 CD
CATEGORIES:Doetinchem,Jongeren,t/m 18 jaar,Zondag
ATTACH;FMTTYPE=image/jpeg:https://www.cocmiddengelderland.nl/wp-content/uploads/2024/12/jong-out-100.jpg
END:VEVENT
BEGIN:VEVENT
DTSTART;TZID=Europe/Amsterdam:20290408T160000
DTEND;TZID=Europe/Amsterdam:20290408T183000
DTSTAMP:20260423T075447
CREATED:20251023T193241Z
LAST-MODIFIED:20251023T200335Z
UID:10000235-1870358400-1870367400@www.cocmiddengelderland.nl
SUMMARY:AutiRoze
DESCRIPTION:AutiRoze is de maandelijkse bijeenkomst voor lhbti+ mensen met autisme\, ADHD of een andere vorm van neurodiversiteit. Het heeft een informeel karakter en is gericht op ontmoeten\, gezelligheid en ruimte voor een goed gesprek. Onze vrijwilligers staan voor je klaar en zullen je ontvangen. We zitten in de huiskamer\, meteen bij de ingang links. \n\n\n\n  \n\n\n\nCOC Midden-Gelderland kantoor
URL:https://www.cocmiddengelderland.nl/event/autiroze/2029-04-08/
LOCATION:Buurtcentrum de Lommerd\, Spijkerstraat 185a\, Arnhem\, 6828DC\, Netherlands
CATEGORIES:Arnhem,Autisme,Neurodivergentie,Zondag
ATTACH;FMTTYPE=image/jpeg:https://www.cocmiddengelderland.nl/wp-content/uploads/2024/12/autiroze_2-100.jpg
END:VEVENT
BEGIN:VEVENT
DTSTART;TZID=Europe/Amsterdam:20290415T130000
DTEND;TZID=Europe/Amsterdam:20290415T180000
DTSTAMP:20260423T075447
CREATED:20251207T204807Z
LAST-MODIFIED:20251207T204819Z
UID:10001537-1870952400-1870970400@www.cocmiddengelderland.nl
SUMMARY:Jong&out
DESCRIPTION:Elke maand organiseren wij een Jong & Out-meeting voor LHTBI+-jongeren 12 tot 18 jaar.  De invulling verschilt per keer: van creatieve workshops en speurtochten tot spelmiddagen en uitstapjes naar bijvoorbeeld een museum Bekijk de Instagram van Jong&Out Arnhem voor meer informatie.
URL:https://www.cocmiddengelderland.nl/event/jongout-2/2029-04-15/
LOCATION:Buurtcentrum de Lommerd\, Spijkerstraat 185a\, Arnhem\, 6828DC\, Netherlands
CATEGORIES:Arnhem,Jongeren,t/m 18 jaar
ATTACH;FMTTYPE=image/jpeg:https://www.cocmiddengelderland.nl/wp-content/uploads/2024/12/jong-out-2-100.jpg
END:VEVENT
BEGIN:VEVENT
DTSTART;TZID=Europe/Amsterdam:20290422T130000
DTEND;TZID=Europe/Amsterdam:20290422T170000
DTSTAMP:20260423T075447
CREATED:20251025T071708Z
LAST-MODIFIED:20251025T071712Z
UID:10001321-1871557200-1871571600@www.cocmiddengelderland.nl
SUMMARY:Transistor Spellenmiddag
DESCRIPTION:Iedere 4e zondag van de maand is het tijd voor onze spellenmiddag. Kom langs om spelletjes te doen met trans mensen uit onze mooie community. Je mag ook je eigen spel meenemen. 🃏 Actuele informatie over onze activiteiten vind je op Bluesky of onze andere social media kanalen. \n\n\n\n⏰ 13:00 inloop – 13:30 start
URL:https://www.cocmiddengelderland.nl/event/transistor-spellenmiddag/2029-04-22/
LOCATION:De Kurk\, Steenstraat 68\, Arnhem\, 6828 CN\, Netherlands
CATEGORIES:Arnhem,Spelletjes,Trans,Zondag
ATTACH;FMTTYPE=image/jpeg:https://www.cocmiddengelderland.nl/wp-content/uploads/2025/02/bafkreiddgglu25ar3aqlqxaxmufzxixehpx4mqxy3bcnqcqlgbbsnm3soa.jpg
END:VEVENT
BEGIN:VEVENT
DTSTART;TZID=Europe/Amsterdam:20290506T130000
DTEND;TZID=Europe/Amsterdam:20290506T170000
DTSTAMP:20260423T075447
CREATED:20251030T202448Z
LAST-MODIFIED:20251030T202454Z
UID:10001473-1872766800-1872781200@www.cocmiddengelderland.nl
SUMMARY:Jong & Out
DESCRIPTION:Elke maand organiseren wij een Jong & Out-meeting voor LHTBI+-jongeren 12 tot 18 jaar. De invulling verschilt per keer: van creatieve workshops en speurtochten tot spelmiddagen en uitstapjes naar bijvoorbeeld een museum. Bekijk de Instagram van Jong&Out Doetinchem voor meer informatie \n\n\n\nBen jij erbij? Meld je aan via onze social media.
URL:https://www.cocmiddengelderland.nl/event/jong-out/2029-05-06/
LOCATION:JC DTC (HET JONGERENCENTRUM)\,  HOFSTRAAT 2\, Doetinchem\, 7001 CD
CATEGORIES:Doetinchem,Jongeren,t/m 18 jaar,Zondag
ATTACH;FMTTYPE=image/jpeg:https://www.cocmiddengelderland.nl/wp-content/uploads/2024/12/jong-out-100.jpg
END:VEVENT
BEGIN:VEVENT
DTSTART;TZID=Europe/Amsterdam:20290513T160000
DTEND;TZID=Europe/Amsterdam:20290513T183000
DTSTAMP:20260423T075447
CREATED:20251023T193241Z
LAST-MODIFIED:20251023T200335Z
UID:10000236-1873382400-1873391400@www.cocmiddengelderland.nl
SUMMARY:AutiRoze
DESCRIPTION:AutiRoze is de maandelijkse bijeenkomst voor lhbti+ mensen met autisme\, ADHD of een andere vorm van neurodiversiteit. Het heeft een informeel karakter en is gericht op ontmoeten\, gezelligheid en ruimte voor een goed gesprek. Onze vrijwilligers staan voor je klaar en zullen je ontvangen. We zitten in de huiskamer\, meteen bij de ingang links. \n\n\n\n  \n\n\n\nCOC Midden-Gelderland kantoor
URL:https://www.cocmiddengelderland.nl/event/autiroze/2029-05-13/
LOCATION:Buurtcentrum de Lommerd\, Spijkerstraat 185a\, Arnhem\, 6828DC\, Netherlands
CATEGORIES:Arnhem,Autisme,Neurodivergentie,Zondag
ATTACH;FMTTYPE=image/jpeg:https://www.cocmiddengelderland.nl/wp-content/uploads/2024/12/autiroze_2-100.jpg
END:VEVENT
BEGIN:VEVENT
DTSTART;TZID=Europe/Amsterdam:20290520T130000
DTEND;TZID=Europe/Amsterdam:20290520T180000
DTSTAMP:20260423T075447
CREATED:20251207T204807Z
LAST-MODIFIED:20251207T204819Z
UID:10001538-1873976400-1873994400@www.cocmiddengelderland.nl
SUMMARY:Jong&out
DESCRIPTION:Elke maand organiseren wij een Jong & Out-meeting voor LHTBI+-jongeren 12 tot 18 jaar.  De invulling verschilt per keer: van creatieve workshops en speurtochten tot spelmiddagen en uitstapjes naar bijvoorbeeld een museum Bekijk de Instagram van Jong&Out Arnhem voor meer informatie.
URL:https://www.cocmiddengelderland.nl/event/jongout-2/2029-05-20/
LOCATION:Buurtcentrum de Lommerd\, Spijkerstraat 185a\, Arnhem\, 6828DC\, Netherlands
CATEGORIES:Arnhem,Jongeren,t/m 18 jaar
ATTACH;FMTTYPE=image/jpeg:https://www.cocmiddengelderland.nl/wp-content/uploads/2024/12/jong-out-2-100.jpg
END:VEVENT
BEGIN:VEVENT
DTSTART;TZID=Europe/Amsterdam:20290527T130000
DTEND;TZID=Europe/Amsterdam:20290527T170000
DTSTAMP:20260423T075447
CREATED:20251025T071708Z
LAST-MODIFIED:20251025T071712Z
UID:10001322-1874581200-1874595600@www.cocmiddengelderland.nl
SUMMARY:Transistor Spellenmiddag
DESCRIPTION:Iedere 4e zondag van de maand is het tijd voor onze spellenmiddag. Kom langs om spelletjes te doen met trans mensen uit onze mooie community. Je mag ook je eigen spel meenemen. 🃏 Actuele informatie over onze activiteiten vind je op Bluesky of onze andere social media kanalen. \n\n\n\n⏰ 13:00 inloop – 13:30 start
URL:https://www.cocmiddengelderland.nl/event/transistor-spellenmiddag/2029-05-27/
LOCATION:De Kurk\, Steenstraat 68\, Arnhem\, 6828 CN\, Netherlands
CATEGORIES:Arnhem,Spelletjes,Trans,Zondag
ATTACH;FMTTYPE=image/jpeg:https://www.cocmiddengelderland.nl/wp-content/uploads/2025/02/bafkreiddgglu25ar3aqlqxaxmufzxixehpx4mqxy3bcnqcqlgbbsnm3soa.jpg
END:VEVENT
END:VCALENDAR