



BEGIN:VCALENDAR
VERSION:2.0
PRODID:-//COC Midden-Gelderland - ECPv6.15.17.1//NONSGML v1.0//EN
CALSCALE:GREGORIAN
METHOD:PUBLISH
X-WR-CALNAME:COC Midden-Gelderland
X-ORIGINAL-URL:https://www.cocmiddengelderland.nl
X-WR-CALDESC:Evenementen voor COC Midden-Gelderland
REFRESH-INTERVAL;VALUE=DURATION:PT1H
X-Robots-Tag:noindex
X-PUBLISHED-TTL:PT1H
BEGIN:VTIMEZONE
TZID:Europe/Amsterdam
BEGIN:DAYLIGHT
TZOFFSETFROM:+0100
TZOFFSETTO:+0200
TZNAME:CEST
DTSTART:20240331T010000
END:DAYLIGHT
BEGIN:STANDARD
TZOFFSETFROM:+0200
TZOFFSETTO:+0100
TZNAME:CET
DTSTART:20241027T010000
END:STANDARD
BEGIN:DAYLIGHT
TZOFFSETFROM:+0100
TZOFFSETTO:+0200
TZNAME:CEST
DTSTART:20250330T010000
END:DAYLIGHT
BEGIN:STANDARD
TZOFFSETFROM:+0200
TZOFFSETTO:+0100
TZNAME:CET
DTSTART:20251026T010000
END:STANDARD
BEGIN:DAYLIGHT
TZOFFSETFROM:+0100
TZOFFSETTO:+0200
TZNAME:CEST
DTSTART:20260329T010000
END:DAYLIGHT
BEGIN:STANDARD
TZOFFSETFROM:+0200
TZOFFSETTO:+0100
TZNAME:CET
DTSTART:20261025T010000
END:STANDARD
END:VTIMEZONE
BEGIN:VEVENT
DTSTART;TZID=Europe/Amsterdam:20251207T130000
DTEND;TZID=Europe/Amsterdam:20251207T170000
DTSTAMP:20260423T002151
CREATED:20251112T091351Z
LAST-MODIFIED:20251112T091410Z
UID:10001432-1765112400-1765126800@www.cocmiddengelderland.nl
SUMMARY:Jong & Out Pepernoten bakken
DESCRIPTION:Sinterklaas kapoentje\, gooi wat in mijn schoentje\, gooi wat in mijn laarsje\, dank u Sinterklaasje!”Sinterklaas is ook bij ons langs geweest. Hij is alleen wel 1 ding vergeten en dat is het bakken van de pepernoten. Wij jij ons daarbij helpen op 7 december? Aanmelden kan via deze link: https://forms.gle/UonmccXdsddDX6mV8 \n\n\n\n—– \n\n\n\nElke maand organiseren wij een Jong & Out-meeting voor LHTBI+-jongeren 12 tot 18 jaar. De invulling verschilt per keer: van creatieve workshops en speurtochten tot spelmiddagen en uitstapjes naar bijvoorbeeld een museum. Bekijk de Instagram van Jong&Out Doetinchem voor meer informatie \n\n\n\nBen jij erbij? Meld je aan via onze social media.
URL:https://www.cocmiddengelderland.nl/event/jong-out-2/
LOCATION:JC DTC (HET JONGERENCENTRUM)\,  HOFSTRAAT 2\, Doetinchem\, 7001 CD
CATEGORIES:Doetinchem,Jongeren,t/m 18 jaar,Zondag
ATTACH;FMTTYPE=image/jpeg:https://www.cocmiddengelderland.nl/wp-content/uploads/2025/10/December-alert.jpg
END:VEVENT
END:VCALENDAR