



BEGIN:VCALENDAR
VERSION:2.0
PRODID:-//COC Midden-Gelderland - ECPv6.15.17.1//NONSGML v1.0//EN
CALSCALE:GREGORIAN
METHOD:PUBLISH
X-ORIGINAL-URL:https://www.cocmiddengelderland.nl
X-WR-CALDESC:Evenementen voor COC Midden-Gelderland
REFRESH-INTERVAL;VALUE=DURATION:PT1H
X-Robots-Tag:noindex
X-PUBLISHED-TTL:PT1H
BEGIN:VTIMEZONE
TZID:Europe/Amsterdam
BEGIN:DAYLIGHT
TZOFFSETFROM:+0100
TZOFFSETTO:+0200
TZNAME:CEST
DTSTART:20240331T010000
END:DAYLIGHT
BEGIN:STANDARD
TZOFFSETFROM:+0200
TZOFFSETTO:+0100
TZNAME:CET
DTSTART:20241027T010000
END:STANDARD
BEGIN:DAYLIGHT
TZOFFSETFROM:+0100
TZOFFSETTO:+0200
TZNAME:CEST
DTSTART:20250330T010000
END:DAYLIGHT
BEGIN:STANDARD
TZOFFSETFROM:+0200
TZOFFSETTO:+0100
TZNAME:CET
DTSTART:20251026T010000
END:STANDARD
BEGIN:DAYLIGHT
TZOFFSETFROM:+0100
TZOFFSETTO:+0200
TZNAME:CEST
DTSTART:20260329T010000
END:DAYLIGHT
BEGIN:STANDARD
TZOFFSETFROM:+0200
TZOFFSETTO:+0100
TZNAME:CET
DTSTART:20261025T010000
END:STANDARD
BEGIN:DAYLIGHT
TZOFFSETFROM:+0100
TZOFFSETTO:+0200
TZNAME:CEST
DTSTART:20270328T010000
END:DAYLIGHT
BEGIN:STANDARD
TZOFFSETFROM:+0200
TZOFFSETTO:+0100
TZNAME:CET
DTSTART:20271031T010000
END:STANDARD
END:VTIMEZONE
BEGIN:VEVENT
DTSTART;TZID=Europe/Amsterdam:20260404T190000
DTEND;TZID=Europe/Amsterdam:20260404T230000
DTSTAMP:20260419T231938
CREATED:20260313T095602Z
LAST-MODIFIED:20260313T095716Z
UID:10001224-1775329200-1775343600@www.cocmiddengelderland.nl
SUMMARY:Transistor café-avond
DESCRIPTION:Iedere eerste zaterdag van de maand is er weer een gezellige Transistor café-avond. Kom gezellig wat drinken en kletsen in Café De Kurk. Actuele informatie over onze activiteiten vind je op Bluesky of onze andere social media kanalen. \n\n\n\n\n\n\n\n⏰ Inloop 19:00  \n\n\n\n📍Café De Kurk\, Steenstraat 68 Arnhem
URL:https://www.cocmiddengelderland.nl/event/transistor-cafe-avond-6/2026-04-04/
LOCATION:De Kurk\, Steenstraat 68\, Arnhem\, 6828 CN\, Netherlands
CATEGORIES:Arnhem,Borrel,Trans,Zaterdag
ATTACH;FMTTYPE=image/jpeg:https://www.cocmiddengelderland.nl/wp-content/uploads/2025/05/Middel-59-50.jpg
END:VEVENT
BEGIN:VEVENT
DTSTART;TZID=Europe/Amsterdam:20260320T190000
DTEND;TZID=Europe/Amsterdam:20260320T193000
DTSTAMP:20260419T231938
CREATED:20260208T115358Z
LAST-MODIFIED:20260208T115404Z
UID:10002096-1774033200-1774035000@www.cocmiddengelderland.nl
SUMMARY:Transistor pubquiz
DESCRIPTION:Doe mee met de Transistor Pubquiz! Een gezellige avond met andere trans mensen uit de community. De pubquiz vindt plaats in Buurthuis De Lommerd. Inloop vanaf 19:00. Actuele informatie over onze activiteiten vind je op Bluesky of onze andere social media kanalen. \n\n\n\n📍Deze activiteit vindt iedere 3 maanden plaats! 🤗💜
URL:https://www.cocmiddengelderland.nl/event/transistor-pubquiz/
LOCATION:Buurtcentrum de Lommerd\, Spijkerstraat 185a\, Arnhem\, 6828DC\, Netherlands
CATEGORIES:Arnhem,Trans,Vrijdag,Woensdag
ATTACH;FMTTYPE=image/jpeg:https://www.cocmiddengelderland.nl/wp-content/uploads/2025/05/Middel-65-50.jpg
END:VEVENT
BEGIN:VEVENT
DTSTART;TZID=Europe/Amsterdam:20260211T190000
DTEND;TZID=Europe/Amsterdam:20260211T193000
DTSTAMP:20260419T231939
CREATED:20260208T114953Z
LAST-MODIFIED:20260208T120253Z
UID:10002095-1770836400-1770838200@www.cocmiddengelderland.nl
SUMMARY:Transistor prikkelarme café-avond
DESCRIPTION:Kom gezellig een drankje doen en kletsen met andere trans mensen uit de community in Buurthuis De Lommerd. Inloop vanaf 19:00. Actuele informatie over onze activiteiten vind je op Bluesky of onze andere social media kanalen. \n\n\n\n📍Deze activiteit vindt iedere 3 maanden plaats! 🤗💜
URL:https://www.cocmiddengelderland.nl/event/transistor-prikkelarme-cafe-avond/2026-02-11/
LOCATION:Buurtcentrum de Lommerd\, Spijkerstraat 185a\, Arnhem\, 6828DC\, Netherlands
CATEGORIES:Arnhem,Trans,Woensdag
ATTACH;FMTTYPE=image/jpeg:https://www.cocmiddengelderland.nl/wp-content/uploads/2025/05/Middel-59-50.jpg
END:VEVENT
BEGIN:VEVENT
DTSTART;TZID=Europe/Amsterdam:20260312T190000
DTEND;TZID=Europe/Amsterdam:20260312T230000
DTSTAMP:20260419T231939
CREATED:20260208T113901Z
LAST-MODIFIED:20260208T113904Z
UID:10001921-1773342000-1773356400@www.cocmiddengelderland.nl
SUMMARY:Transistor café-avond
DESCRIPTION:Kom gezellig een drankje doen en kletsen met andere trans mensen uit de community in Queercafé De Kurk. Inloop vanaf 19:00. Actuele informatie over onze activiteiten vind je op Bluesky of onze andere social media kanalen. \n\n\n\n📍We zien je graag de derde donderdagavond van de maand! 🤗💜
URL:https://www.cocmiddengelderland.nl/event/transistor-cafe-avond-5/
LOCATION:De Kurk\, Steenstraat 68\, Arnhem\, 6828 CN\, Netherlands
CATEGORIES:Arnhem,Borrel,Donderdag,Trans
ATTACH;FMTTYPE=image/jpeg:https://www.cocmiddengelderland.nl/wp-content/uploads/2025/10/header-trans-80.jpg
END:VEVENT
BEGIN:VEVENT
DTSTART;TZID=Europe/Amsterdam:20260416T190000
DTEND;TZID=Europe/Amsterdam:20260416T230000
DTSTAMP:20260419T231939
CREATED:20260208T113532Z
LAST-MODIFIED:20260208T114607Z
UID:10002037-1776366000-1776380400@www.cocmiddengelderland.nl
SUMMARY:Transistor café-avond
DESCRIPTION:Kom gezellig een drankje doen en kletsen met andere trans mensen uit de community in Queercafé De Kurk. Inloop vanaf 19:00. Actuele informatie over onze activiteiten vind je op Bluesky of onze andere social media kanalen. \n\n\n\n📍We zien je graag de derde donderdagavond van de maand! 🤗💜
URL:https://www.cocmiddengelderland.nl/event/transistor-cafe-avond-4/2026-04-16/
LOCATION:De Kurk\, Steenstraat 68\, Arnhem\, 6828 CN\, Netherlands
CATEGORIES:Arnhem,Borrel,Donderdag,Trans
ATTACH;FMTTYPE=image/jpeg:https://www.cocmiddengelderland.nl/wp-content/uploads/2025/10/header-trans-80.jpg
END:VEVENT
BEGIN:VEVENT
DTSTART;TZID=Europe/Amsterdam:20251123T130000
DTEND;TZID=Europe/Amsterdam:20251123T170000
DTSTAMP:20260419T231939
CREATED:20251025T071708Z
LAST-MODIFIED:20251025T071712Z
UID:10001280-1763902800-1763917200@www.cocmiddengelderland.nl
SUMMARY:Transistor Spellenmiddag
DESCRIPTION:Iedere 4e zondag van de maand is het tijd voor onze spellenmiddag. Kom langs om spelletjes te doen met trans mensen uit onze mooie community. Je mag ook je eigen spel meenemen. 🃏 Actuele informatie over onze activiteiten vind je op Bluesky of onze andere social media kanalen. \n\n\n\n⏰ 13:00 inloop – 13:30 start
URL:https://www.cocmiddengelderland.nl/event/transistor-spellenmiddag/2025-11-23/
LOCATION:De Kurk\, Steenstraat 68\, Arnhem\, 6828 CN\, Netherlands
CATEGORIES:Arnhem,Spelletjes,Trans,Zondag
ATTACH;FMTTYPE=image/jpeg:https://www.cocmiddengelderland.nl/wp-content/uploads/2025/02/bafkreiddgglu25ar3aqlqxaxmufzxixehpx4mqxy3bcnqcqlgbbsnm3soa.jpg
END:VEVENT
BEGIN:VEVENT
DTSTART;TZID=Europe/Amsterdam:20251228T130000
DTEND;TZID=Europe/Amsterdam:20251228T170000
DTSTAMP:20260419T231939
CREATED:20251025T071708Z
LAST-MODIFIED:20251025T071712Z
UID:10001281-1766926800-1766941200@www.cocmiddengelderland.nl
SUMMARY:Transistor Spellenmiddag
DESCRIPTION:Iedere 4e zondag van de maand is het tijd voor onze spellenmiddag. Kom langs om spelletjes te doen met trans mensen uit onze mooie community. Je mag ook je eigen spel meenemen. 🃏 Actuele informatie over onze activiteiten vind je op Bluesky of onze andere social media kanalen. \n\n\n\n⏰ 13:00 inloop – 13:30 start
URL:https://www.cocmiddengelderland.nl/event/transistor-spellenmiddag/2025-12-28/
LOCATION:De Kurk\, Steenstraat 68\, Arnhem\, 6828 CN\, Netherlands
CATEGORIES:Arnhem,Spelletjes,Trans,Zondag
ATTACH;FMTTYPE=image/jpeg:https://www.cocmiddengelderland.nl/wp-content/uploads/2025/02/bafkreiddgglu25ar3aqlqxaxmufzxixehpx4mqxy3bcnqcqlgbbsnm3soa.jpg
END:VEVENT
BEGIN:VEVENT
DTSTART;TZID=Europe/Amsterdam:20260125T130000
DTEND;TZID=Europe/Amsterdam:20260125T170000
DTSTAMP:20260419T231939
CREATED:20251025T071708Z
LAST-MODIFIED:20251025T071712Z
UID:10001282-1769346000-1769360400@www.cocmiddengelderland.nl
SUMMARY:Transistor Spellenmiddag
DESCRIPTION:Iedere 4e zondag van de maand is het tijd voor onze spellenmiddag. Kom langs om spelletjes te doen met trans mensen uit onze mooie community. Je mag ook je eigen spel meenemen. 🃏 Actuele informatie over onze activiteiten vind je op Bluesky of onze andere social media kanalen. \n\n\n\n⏰ 13:00 inloop – 13:30 start
URL:https://www.cocmiddengelderland.nl/event/transistor-spellenmiddag/2026-01-25/
LOCATION:De Kurk\, Steenstraat 68\, Arnhem\, 6828 CN\, Netherlands
CATEGORIES:Arnhem,Spelletjes,Trans,Zondag
ATTACH;FMTTYPE=image/jpeg:https://www.cocmiddengelderland.nl/wp-content/uploads/2025/02/bafkreiddgglu25ar3aqlqxaxmufzxixehpx4mqxy3bcnqcqlgbbsnm3soa.jpg
END:VEVENT
BEGIN:VEVENT
DTSTART;TZID=Europe/Amsterdam:20260222T130000
DTEND;TZID=Europe/Amsterdam:20260222T170000
DTSTAMP:20260419T231939
CREATED:20251025T071708Z
LAST-MODIFIED:20251025T071712Z
UID:10001283-1771765200-1771779600@www.cocmiddengelderland.nl
SUMMARY:Transistor Spellenmiddag
DESCRIPTION:Iedere 4e zondag van de maand is het tijd voor onze spellenmiddag. Kom langs om spelletjes te doen met trans mensen uit onze mooie community. Je mag ook je eigen spel meenemen. 🃏 Actuele informatie over onze activiteiten vind je op Bluesky of onze andere social media kanalen. \n\n\n\n⏰ 13:00 inloop – 13:30 start
URL:https://www.cocmiddengelderland.nl/event/transistor-spellenmiddag/2026-02-22/
LOCATION:De Kurk\, Steenstraat 68\, Arnhem\, 6828 CN\, Netherlands
CATEGORIES:Arnhem,Spelletjes,Trans,Zondag
ATTACH;FMTTYPE=image/jpeg:https://www.cocmiddengelderland.nl/wp-content/uploads/2025/02/bafkreiddgglu25ar3aqlqxaxmufzxixehpx4mqxy3bcnqcqlgbbsnm3soa.jpg
END:VEVENT
BEGIN:VEVENT
DTSTART;TZID=Europe/Amsterdam:20260322T130000
DTEND;TZID=Europe/Amsterdam:20260322T170000
DTSTAMP:20260419T231939
CREATED:20251025T071708Z
LAST-MODIFIED:20251025T071712Z
UID:10001284-1774184400-1774198800@www.cocmiddengelderland.nl
SUMMARY:Transistor Spellenmiddag
DESCRIPTION:Iedere 4e zondag van de maand is het tijd voor onze spellenmiddag. Kom langs om spelletjes te doen met trans mensen uit onze mooie community. Je mag ook je eigen spel meenemen. 🃏 Actuele informatie over onze activiteiten vind je op Bluesky of onze andere social media kanalen. \n\n\n\n⏰ 13:00 inloop – 13:30 start
URL:https://www.cocmiddengelderland.nl/event/transistor-spellenmiddag/2026-03-22/
LOCATION:De Kurk\, Steenstraat 68\, Arnhem\, 6828 CN\, Netherlands
CATEGORIES:Arnhem,Spelletjes,Trans,Zondag
ATTACH;FMTTYPE=image/jpeg:https://www.cocmiddengelderland.nl/wp-content/uploads/2025/02/bafkreiddgglu25ar3aqlqxaxmufzxixehpx4mqxy3bcnqcqlgbbsnm3soa.jpg
END:VEVENT
BEGIN:VEVENT
DTSTART;TZID=Europe/Amsterdam:20251026T130000
DTEND;TZID=Europe/Amsterdam:20251026T170000
DTSTAMP:20260419T231939
CREATED:20251025T071708Z
LAST-MODIFIED:20251025T071712Z
UID:10001279-1761483600-1761498000@www.cocmiddengelderland.nl
SUMMARY:Transistor Spellenmiddag
DESCRIPTION:Iedere 4e zondag van de maand is het tijd voor onze spellenmiddag. Kom langs om spelletjes te doen met trans mensen uit onze mooie community. Je mag ook je eigen spel meenemen. 🃏 Actuele informatie over onze activiteiten vind je op Bluesky of onze andere social media kanalen. \n\n\n\n⏰ 13:00 inloop – 13:30 start
URL:https://www.cocmiddengelderland.nl/event/transistor-spellenmiddag/2025-10-26/
LOCATION:De Kurk\, Steenstraat 68\, Arnhem\, 6828 CN\, Netherlands
CATEGORIES:Arnhem,Spelletjes,Trans,Zondag
ATTACH;FMTTYPE=image/jpeg:https://www.cocmiddengelderland.nl/wp-content/uploads/2025/02/bafkreiddgglu25ar3aqlqxaxmufzxixehpx4mqxy3bcnqcqlgbbsnm3soa.jpg
END:VEVENT
BEGIN:VEVENT
DTSTART;TZID=Europe/Amsterdam:20251120T190000
DTEND;TZID=Europe/Amsterdam:20251120T230000
DTSTAMP:20260419T231939
CREATED:20251025T065133Z
LAST-MODIFIED:20251025T070317Z
UID:10001159-1763665200-1763679600@www.cocmiddengelderland.nl
SUMMARY:Transistor café-avond
DESCRIPTION:Kom gezellig een drankje doen en kletsen met andere trans mensen uit de community in Queercafé De Kurk. Inloop vanaf 19:00. Actuele informatie over onze activiteiten vind je op Bluesky of onze andere social media kanalen. \n\n\n\n📍We zien je graag de derde donderdagavond van de maand! 🤗💜
URL:https://www.cocmiddengelderland.nl/event/transistor-borrel/2025-11-20/
LOCATION:De Kurk\, Steenstraat 68\, Arnhem\, 6828 CN\, Netherlands
CATEGORIES:Arnhem,Borrel,Donderdag,Trans
ATTACH;FMTTYPE=image/jpeg:https://www.cocmiddengelderland.nl/wp-content/uploads/2025/10/header-trans-80.jpg
END:VEVENT
BEGIN:VEVENT
DTSTART;TZID=Europe/Amsterdam:20251218T190000
DTEND;TZID=Europe/Amsterdam:20251218T230000
DTSTAMP:20260419T231939
CREATED:20251025T065133Z
LAST-MODIFIED:20251025T070317Z
UID:10001160-1766084400-1766098800@www.cocmiddengelderland.nl
SUMMARY:Transistor café-avond
DESCRIPTION:Kom gezellig een drankje doen en kletsen met andere trans mensen uit de community in Queercafé De Kurk. Inloop vanaf 19:00. Actuele informatie over onze activiteiten vind je op Bluesky of onze andere social media kanalen. \n\n\n\n📍We zien je graag de derde donderdagavond van de maand! 🤗💜
URL:https://www.cocmiddengelderland.nl/event/transistor-borrel/2025-12-18/
LOCATION:De Kurk\, Steenstraat 68\, Arnhem\, 6828 CN\, Netherlands
CATEGORIES:Arnhem,Borrel,Donderdag,Trans
ATTACH;FMTTYPE=image/jpeg:https://www.cocmiddengelderland.nl/wp-content/uploads/2025/10/header-trans-80.jpg
END:VEVENT
BEGIN:VEVENT
DTSTART;TZID=Europe/Amsterdam:20260115T190000
DTEND;TZID=Europe/Amsterdam:20260115T230000
DTSTAMP:20260419T231939
CREATED:20251025T065133Z
LAST-MODIFIED:20251025T070317Z
UID:10001161-1768503600-1768518000@www.cocmiddengelderland.nl
SUMMARY:Transistor café-avond
DESCRIPTION:Kom gezellig een drankje doen en kletsen met andere trans mensen uit de community in Queercafé De Kurk. Inloop vanaf 19:00. Actuele informatie over onze activiteiten vind je op Bluesky of onze andere social media kanalen. \n\n\n\n📍We zien je graag de derde donderdagavond van de maand! 🤗💜
URL:https://www.cocmiddengelderland.nl/event/transistor-borrel/2026-01-15/
LOCATION:De Kurk\, Steenstraat 68\, Arnhem\, 6828 CN\, Netherlands
CATEGORIES:Arnhem,Borrel,Donderdag,Trans
ATTACH;FMTTYPE=image/jpeg:https://www.cocmiddengelderland.nl/wp-content/uploads/2025/10/header-trans-80.jpg
END:VEVENT
BEGIN:VEVENT
DTSTART;TZID=Europe/Amsterdam:20260219T190000
DTEND;TZID=Europe/Amsterdam:20260219T230000
DTSTAMP:20260419T231939
CREATED:20251025T065133Z
LAST-MODIFIED:20251025T070317Z
UID:10001162-1771527600-1771542000@www.cocmiddengelderland.nl
SUMMARY:Transistor café-avond
DESCRIPTION:Kom gezellig een drankje doen en kletsen met andere trans mensen uit de community in Queercafé De Kurk. Inloop vanaf 19:00. Actuele informatie over onze activiteiten vind je op Bluesky of onze andere social media kanalen. \n\n\n\n📍We zien je graag de derde donderdagavond van de maand! 🤗💜
URL:https://www.cocmiddengelderland.nl/event/transistor-borrel/2026-02-19/
LOCATION:De Kurk\, Steenstraat 68\, Arnhem\, 6828 CN\, Netherlands
CATEGORIES:Arnhem,Borrel,Donderdag,Trans
ATTACH;FMTTYPE=image/jpeg:https://www.cocmiddengelderland.nl/wp-content/uploads/2025/10/header-trans-80.jpg
END:VEVENT
END:VCALENDAR