



BEGIN:VCALENDAR
VERSION:2.0
PRODID:-//COC Midden-Gelderland - ECPv6.15.17.1//NONSGML v1.0//EN
CALSCALE:GREGORIAN
METHOD:PUBLISH
X-WR-CALNAME:COC Midden-Gelderland
X-ORIGINAL-URL:https://www.cocmiddengelderland.nl
X-WR-CALDESC:Evenementen voor COC Midden-Gelderland
REFRESH-INTERVAL;VALUE=DURATION:PT1H
X-Robots-Tag:noindex
X-PUBLISHED-TTL:PT1H
BEGIN:VTIMEZONE
TZID:Europe/Amsterdam
BEGIN:DAYLIGHT
TZOFFSETFROM:+0100
TZOFFSETTO:+0200
TZNAME:CEST
DTSTART:20250330T010000
END:DAYLIGHT
BEGIN:STANDARD
TZOFFSETFROM:+0200
TZOFFSETTO:+0100
TZNAME:CET
DTSTART:20251026T010000
END:STANDARD
BEGIN:DAYLIGHT
TZOFFSETFROM:+0100
TZOFFSETTO:+0200
TZNAME:CEST
DTSTART:20260329T010000
END:DAYLIGHT
BEGIN:STANDARD
TZOFFSETFROM:+0200
TZOFFSETTO:+0100
TZNAME:CET
DTSTART:20261025T010000
END:STANDARD
BEGIN:DAYLIGHT
TZOFFSETFROM:+0100
TZOFFSETTO:+0200
TZNAME:CEST
DTSTART:20270328T010000
END:DAYLIGHT
BEGIN:STANDARD
TZOFFSETFROM:+0200
TZOFFSETTO:+0100
TZNAME:CET
DTSTART:20271031T010000
END:STANDARD
BEGIN:DAYLIGHT
TZOFFSETFROM:+0100
TZOFFSETTO:+0200
TZNAME:CEST
DTSTART:20280326T010000
END:DAYLIGHT
BEGIN:STANDARD
TZOFFSETFROM:+0200
TZOFFSETTO:+0100
TZNAME:CET
DTSTART:20281029T010000
END:STANDARD
BEGIN:DAYLIGHT
TZOFFSETFROM:+0100
TZOFFSETTO:+0200
TZNAME:CEST
DTSTART:20290325T010000
END:DAYLIGHT
BEGIN:STANDARD
TZOFFSETFROM:+0200
TZOFFSETTO:+0100
TZNAME:CET
DTSTART:20291028T010000
END:STANDARD
BEGIN:DAYLIGHT
TZOFFSETFROM:+0100
TZOFFSETTO:+0200
TZNAME:CEST
DTSTART:20300331T010000
END:DAYLIGHT
BEGIN:STANDARD
TZOFFSETFROM:+0200
TZOFFSETTO:+0100
TZNAME:CET
DTSTART:20301027T010000
END:STANDARD
BEGIN:DAYLIGHT
TZOFFSETFROM:+0100
TZOFFSETTO:+0200
TZNAME:CEST
DTSTART:20310330T010000
END:DAYLIGHT
BEGIN:STANDARD
TZOFFSETFROM:+0200
TZOFFSETTO:+0100
TZNAME:CET
DTSTART:20311026T010000
END:STANDARD
END:VTIMEZONE
BEGIN:VEVENT
DTSTART;TZID=Europe/Amsterdam:20300620T190000
DTEND;TZID=Europe/Amsterdam:20300620T230000
DTSTAMP:20260424T071217
CREATED:20260208T113532Z
LAST-MODIFIED:20260208T114607Z
UID:10002087-1908212400-1908226800@www.cocmiddengelderland.nl
SUMMARY:Transistor café-avond
DESCRIPTION:Kom gezellig een drankje doen en kletsen met andere trans mensen uit de community in Queercafé De Kurk. Inloop vanaf 19:00. Actuele informatie over onze activiteiten vind je op Bluesky of onze andere social media kanalen. \n\n\n\n📍We zien je graag de derde donderdagavond van de maand! 🤗💜
URL:https://www.cocmiddengelderland.nl/event/transistor-cafe-avond-4/2030-06-20/
LOCATION:De Kurk\, Steenstraat 68\, Arnhem\, 6828 CN\, Netherlands
CATEGORIES:Arnhem,Borrel,Donderdag,Trans
ATTACH;FMTTYPE=image/jpeg:https://www.cocmiddengelderland.nl/wp-content/uploads/2025/10/header-trans-80.jpg
END:VEVENT
BEGIN:VEVENT
DTSTART;TZID=Europe/Amsterdam:20280921T190000
DTEND;TZID=Europe/Amsterdam:20280921T230000
DTSTAMP:20260424T071217
CREATED:20260208T113532Z
LAST-MODIFIED:20260208T114607Z
UID:10002066-1853175600-1853190000@www.cocmiddengelderland.nl
SUMMARY:Transistor café-avond
DESCRIPTION:Kom gezellig een drankje doen en kletsen met andere trans mensen uit de community in Queercafé De Kurk. Inloop vanaf 19:00. Actuele informatie over onze activiteiten vind je op Bluesky of onze andere social media kanalen. \n\n\n\n📍We zien je graag de derde donderdagavond van de maand! 🤗💜
URL:https://www.cocmiddengelderland.nl/event/transistor-cafe-avond-4/2028-09-21/
LOCATION:De Kurk\, Steenstraat 68\, Arnhem\, 6828 CN\, Netherlands
CATEGORIES:Arnhem,Borrel,Donderdag,Trans
ATTACH;FMTTYPE=image/jpeg:https://www.cocmiddengelderland.nl/wp-content/uploads/2025/10/header-trans-80.jpg
END:VEVENT
BEGIN:VEVENT
DTSTART;TZID=Europe/Amsterdam:20261217T190000
DTEND;TZID=Europe/Amsterdam:20261217T230000
DTSTAMP:20260424T071217
CREATED:20260208T113532Z
LAST-MODIFIED:20260208T114607Z
UID:10002045-1797534000-1797548400@www.cocmiddengelderland.nl
SUMMARY:Transistor café-avond
DESCRIPTION:Kom gezellig een drankje doen en kletsen met andere trans mensen uit de community in Queercafé De Kurk. Inloop vanaf 19:00. Actuele informatie over onze activiteiten vind je op Bluesky of onze andere social media kanalen. \n\n\n\n📍We zien je graag de derde donderdagavond van de maand! 🤗💜
URL:https://www.cocmiddengelderland.nl/event/transistor-cafe-avond-4/2026-12-17/
LOCATION:De Kurk\, Steenstraat 68\, Arnhem\, 6828 CN\, Netherlands
CATEGORIES:Arnhem,Borrel,Donderdag,Trans
ATTACH;FMTTYPE=image/jpeg:https://www.cocmiddengelderland.nl/wp-content/uploads/2025/10/header-trans-80.jpg
END:VEVENT
BEGIN:VEVENT
DTSTART;TZID=Europe/Amsterdam:20290816T190000
DTEND;TZID=Europe/Amsterdam:20290816T230000
DTSTAMP:20260424T071217
CREATED:20260208T113532Z
LAST-MODIFIED:20260208T114607Z
UID:10002077-1881601200-1881615600@www.cocmiddengelderland.nl
SUMMARY:Transistor café-avond
DESCRIPTION:Kom gezellig een drankje doen en kletsen met andere trans mensen uit de community in Queercafé De Kurk. Inloop vanaf 19:00. Actuele informatie over onze activiteiten vind je op Bluesky of onze andere social media kanalen. \n\n\n\n📍We zien je graag de derde donderdagavond van de maand! 🤗💜
URL:https://www.cocmiddengelderland.nl/event/transistor-cafe-avond-4/2029-08-16/
LOCATION:De Kurk\, Steenstraat 68\, Arnhem\, 6828 CN\, Netherlands
CATEGORIES:Arnhem,Borrel,Donderdag,Trans
ATTACH;FMTTYPE=image/jpeg:https://www.cocmiddengelderland.nl/wp-content/uploads/2025/10/header-trans-80.jpg
END:VEVENT
BEGIN:VEVENT
DTSTART;TZID=Europe/Amsterdam:20271118T190000
DTEND;TZID=Europe/Amsterdam:20271118T230000
DTSTAMP:20260424T071217
CREATED:20260208T113532Z
LAST-MODIFIED:20260208T114607Z
UID:10002056-1826564400-1826578800@www.cocmiddengelderland.nl
SUMMARY:Transistor café-avond
DESCRIPTION:Kom gezellig een drankje doen en kletsen met andere trans mensen uit de community in Queercafé De Kurk. Inloop vanaf 19:00. Actuele informatie over onze activiteiten vind je op Bluesky of onze andere social media kanalen. \n\n\n\n📍We zien je graag de derde donderdagavond van de maand! 🤗💜
URL:https://www.cocmiddengelderland.nl/event/transistor-cafe-avond-4/2027-11-18/
LOCATION:De Kurk\, Steenstraat 68\, Arnhem\, 6828 CN\, Netherlands
CATEGORIES:Arnhem,Borrel,Donderdag,Trans
ATTACH;FMTTYPE=image/jpeg:https://www.cocmiddengelderland.nl/wp-content/uploads/2025/10/header-trans-80.jpg
END:VEVENT
BEGIN:VEVENT
DTSTART;TZID=Europe/Amsterdam:20300718T190000
DTEND;TZID=Europe/Amsterdam:20300718T230000
DTSTAMP:20260424T071217
CREATED:20260208T113532Z
LAST-MODIFIED:20260208T114607Z
UID:10002088-1910631600-1910646000@www.cocmiddengelderland.nl
SUMMARY:Transistor café-avond
DESCRIPTION:Kom gezellig een drankje doen en kletsen met andere trans mensen uit de community in Queercafé De Kurk. Inloop vanaf 19:00. Actuele informatie over onze activiteiten vind je op Bluesky of onze andere social media kanalen. \n\n\n\n📍We zien je graag de derde donderdagavond van de maand! 🤗💜
URL:https://www.cocmiddengelderland.nl/event/transistor-cafe-avond-4/2030-07-18/
LOCATION:De Kurk\, Steenstraat 68\, Arnhem\, 6828 CN\, Netherlands
CATEGORIES:Arnhem,Borrel,Donderdag,Trans
ATTACH;FMTTYPE=image/jpeg:https://www.cocmiddengelderland.nl/wp-content/uploads/2025/10/header-trans-80.jpg
END:VEVENT
BEGIN:VEVENT
DTSTART;TZID=Europe/Amsterdam:20281019T190000
DTEND;TZID=Europe/Amsterdam:20281019T230000
DTSTAMP:20260424T071217
CREATED:20260208T113532Z
LAST-MODIFIED:20260208T114607Z
UID:10002067-1855594800-1855609200@www.cocmiddengelderland.nl
SUMMARY:Transistor café-avond
DESCRIPTION:Kom gezellig een drankje doen en kletsen met andere trans mensen uit de community in Queercafé De Kurk. Inloop vanaf 19:00. Actuele informatie over onze activiteiten vind je op Bluesky of onze andere social media kanalen. \n\n\n\n📍We zien je graag de derde donderdagavond van de maand! 🤗💜
URL:https://www.cocmiddengelderland.nl/event/transistor-cafe-avond-4/2028-10-19/
LOCATION:De Kurk\, Steenstraat 68\, Arnhem\, 6828 CN\, Netherlands
CATEGORIES:Arnhem,Borrel,Donderdag,Trans
ATTACH;FMTTYPE=image/jpeg:https://www.cocmiddengelderland.nl/wp-content/uploads/2025/10/header-trans-80.jpg
END:VEVENT
BEGIN:VEVENT
DTSTART;TZID=Europe/Amsterdam:20270121T190000
DTEND;TZID=Europe/Amsterdam:20270121T230000
DTSTAMP:20260424T071217
CREATED:20260208T113532Z
LAST-MODIFIED:20260208T114607Z
UID:10002046-1800558000-1800572400@www.cocmiddengelderland.nl
SUMMARY:Transistor café-avond
DESCRIPTION:Kom gezellig een drankje doen en kletsen met andere trans mensen uit de community in Queercafé De Kurk. Inloop vanaf 19:00. Actuele informatie over onze activiteiten vind je op Bluesky of onze andere social media kanalen. \n\n\n\n📍We zien je graag de derde donderdagavond van de maand! 🤗💜
URL:https://www.cocmiddengelderland.nl/event/transistor-cafe-avond-4/2027-01-21/
LOCATION:De Kurk\, Steenstraat 68\, Arnhem\, 6828 CN\, Netherlands
CATEGORIES:Arnhem,Borrel,Donderdag,Trans
ATTACH;FMTTYPE=image/jpeg:https://www.cocmiddengelderland.nl/wp-content/uploads/2025/10/header-trans-80.jpg
END:VEVENT
BEGIN:VEVENT
DTSTART;TZID=Europe/Amsterdam:20290920T190000
DTEND;TZID=Europe/Amsterdam:20290920T230000
DTSTAMP:20260424T071217
CREATED:20260208T113532Z
LAST-MODIFIED:20260208T114607Z
UID:10002078-1884625200-1884639600@www.cocmiddengelderland.nl
SUMMARY:Transistor café-avond
DESCRIPTION:Kom gezellig een drankje doen en kletsen met andere trans mensen uit de community in Queercafé De Kurk. Inloop vanaf 19:00. Actuele informatie over onze activiteiten vind je op Bluesky of onze andere social media kanalen. \n\n\n\n📍We zien je graag de derde donderdagavond van de maand! 🤗💜
URL:https://www.cocmiddengelderland.nl/event/transistor-cafe-avond-4/2029-09-20/
LOCATION:De Kurk\, Steenstraat 68\, Arnhem\, 6828 CN\, Netherlands
CATEGORIES:Arnhem,Borrel,Donderdag,Trans
ATTACH;FMTTYPE=image/jpeg:https://www.cocmiddengelderland.nl/wp-content/uploads/2025/10/header-trans-80.jpg
END:VEVENT
BEGIN:VEVENT
DTSTART;TZID=Europe/Amsterdam:20271216T190000
DTEND;TZID=Europe/Amsterdam:20271216T230000
DTSTAMP:20260424T071217
CREATED:20260208T113532Z
LAST-MODIFIED:20260208T114607Z
UID:10002057-1828983600-1828998000@www.cocmiddengelderland.nl
SUMMARY:Transistor café-avond
DESCRIPTION:Kom gezellig een drankje doen en kletsen met andere trans mensen uit de community in Queercafé De Kurk. Inloop vanaf 19:00. Actuele informatie over onze activiteiten vind je op Bluesky of onze andere social media kanalen. \n\n\n\n📍We zien je graag de derde donderdagavond van de maand! 🤗💜
URL:https://www.cocmiddengelderland.nl/event/transistor-cafe-avond-4/2027-12-16/
LOCATION:De Kurk\, Steenstraat 68\, Arnhem\, 6828 CN\, Netherlands
CATEGORIES:Arnhem,Borrel,Donderdag,Trans
ATTACH;FMTTYPE=image/jpeg:https://www.cocmiddengelderland.nl/wp-content/uploads/2025/10/header-trans-80.jpg
END:VEVENT
BEGIN:VEVENT
DTSTART;TZID=Europe/Amsterdam:20300815T190000
DTEND;TZID=Europe/Amsterdam:20300815T230000
DTSTAMP:20260424T071217
CREATED:20260208T113532Z
LAST-MODIFIED:20260208T114607Z
UID:10002089-1913050800-1913065200@www.cocmiddengelderland.nl
SUMMARY:Transistor café-avond
DESCRIPTION:Kom gezellig een drankje doen en kletsen met andere trans mensen uit de community in Queercafé De Kurk. Inloop vanaf 19:00. Actuele informatie over onze activiteiten vind je op Bluesky of onze andere social media kanalen. \n\n\n\n📍We zien je graag de derde donderdagavond van de maand! 🤗💜
URL:https://www.cocmiddengelderland.nl/event/transistor-cafe-avond-4/2030-08-15/
LOCATION:De Kurk\, Steenstraat 68\, Arnhem\, 6828 CN\, Netherlands
CATEGORIES:Arnhem,Borrel,Donderdag,Trans
ATTACH;FMTTYPE=image/jpeg:https://www.cocmiddengelderland.nl/wp-content/uploads/2025/10/header-trans-80.jpg
END:VEVENT
BEGIN:VEVENT
DTSTART;TZID=Europe/Amsterdam:20281116T190000
DTEND;TZID=Europe/Amsterdam:20281116T230000
DTSTAMP:20260424T071217
CREATED:20260208T113532Z
LAST-MODIFIED:20260208T114607Z
UID:10002068-1858014000-1858028400@www.cocmiddengelderland.nl
SUMMARY:Transistor café-avond
DESCRIPTION:Kom gezellig een drankje doen en kletsen met andere trans mensen uit de community in Queercafé De Kurk. Inloop vanaf 19:00. Actuele informatie over onze activiteiten vind je op Bluesky of onze andere social media kanalen. \n\n\n\n📍We zien je graag de derde donderdagavond van de maand! 🤗💜
URL:https://www.cocmiddengelderland.nl/event/transistor-cafe-avond-4/2028-11-16/
LOCATION:De Kurk\, Steenstraat 68\, Arnhem\, 6828 CN\, Netherlands
CATEGORIES:Arnhem,Borrel,Donderdag,Trans
ATTACH;FMTTYPE=image/jpeg:https://www.cocmiddengelderland.nl/wp-content/uploads/2025/10/header-trans-80.jpg
END:VEVENT
BEGIN:VEVENT
DTSTART;TZID=Europe/Amsterdam:20270218T190000
DTEND;TZID=Europe/Amsterdam:20270218T230000
DTSTAMP:20260424T071217
CREATED:20260208T113532Z
LAST-MODIFIED:20260208T114607Z
UID:10002047-1802977200-1802991600@www.cocmiddengelderland.nl
SUMMARY:Transistor café-avond
DESCRIPTION:Kom gezellig een drankje doen en kletsen met andere trans mensen uit de community in Queercafé De Kurk. Inloop vanaf 19:00. Actuele informatie over onze activiteiten vind je op Bluesky of onze andere social media kanalen. \n\n\n\n📍We zien je graag de derde donderdagavond van de maand! 🤗💜
URL:https://www.cocmiddengelderland.nl/event/transistor-cafe-avond-4/2027-02-18/
LOCATION:De Kurk\, Steenstraat 68\, Arnhem\, 6828 CN\, Netherlands
CATEGORIES:Arnhem,Borrel,Donderdag,Trans
ATTACH;FMTTYPE=image/jpeg:https://www.cocmiddengelderland.nl/wp-content/uploads/2025/10/header-trans-80.jpg
END:VEVENT
BEGIN:VEVENT
DTSTART;TZID=Europe/Amsterdam:20291018T190000
DTEND;TZID=Europe/Amsterdam:20291018T230000
DTSTAMP:20260424T071217
CREATED:20260208T113532Z
LAST-MODIFIED:20260208T114607Z
UID:10002079-1887044400-1887058800@www.cocmiddengelderland.nl
SUMMARY:Transistor café-avond
DESCRIPTION:Kom gezellig een drankje doen en kletsen met andere trans mensen uit de community in Queercafé De Kurk. Inloop vanaf 19:00. Actuele informatie over onze activiteiten vind je op Bluesky of onze andere social media kanalen. \n\n\n\n📍We zien je graag de derde donderdagavond van de maand! 🤗💜
URL:https://www.cocmiddengelderland.nl/event/transistor-cafe-avond-4/2029-10-18/
LOCATION:De Kurk\, Steenstraat 68\, Arnhem\, 6828 CN\, Netherlands
CATEGORIES:Arnhem,Borrel,Donderdag,Trans
ATTACH;FMTTYPE=image/jpeg:https://www.cocmiddengelderland.nl/wp-content/uploads/2025/10/header-trans-80.jpg
END:VEVENT
BEGIN:VEVENT
DTSTART;TZID=Europe/Amsterdam:20280120T190000
DTEND;TZID=Europe/Amsterdam:20280120T230000
DTSTAMP:20260424T071217
CREATED:20260208T113532Z
LAST-MODIFIED:20260208T114607Z
UID:10002058-1832007600-1832022000@www.cocmiddengelderland.nl
SUMMARY:Transistor café-avond
DESCRIPTION:Kom gezellig een drankje doen en kletsen met andere trans mensen uit de community in Queercafé De Kurk. Inloop vanaf 19:00. Actuele informatie over onze activiteiten vind je op Bluesky of onze andere social media kanalen. \n\n\n\n📍We zien je graag de derde donderdagavond van de maand! 🤗💜
URL:https://www.cocmiddengelderland.nl/event/transistor-cafe-avond-4/2028-01-20/
LOCATION:De Kurk\, Steenstraat 68\, Arnhem\, 6828 CN\, Netherlands
CATEGORIES:Arnhem,Borrel,Donderdag,Trans
ATTACH;FMTTYPE=image/jpeg:https://www.cocmiddengelderland.nl/wp-content/uploads/2025/10/header-trans-80.jpg
END:VEVENT
BEGIN:VEVENT
DTSTART;TZID=Europe/Amsterdam:20300919T190000
DTEND;TZID=Europe/Amsterdam:20300919T230000
DTSTAMP:20260424T071218
CREATED:20260208T113532Z
LAST-MODIFIED:20260208T114607Z
UID:10002090-1916074800-1916089200@www.cocmiddengelderland.nl
SUMMARY:Transistor café-avond
DESCRIPTION:Kom gezellig een drankje doen en kletsen met andere trans mensen uit de community in Queercafé De Kurk. Inloop vanaf 19:00. Actuele informatie over onze activiteiten vind je op Bluesky of onze andere social media kanalen. \n\n\n\n📍We zien je graag de derde donderdagavond van de maand! 🤗💜
URL:https://www.cocmiddengelderland.nl/event/transistor-cafe-avond-4/2030-09-19/
LOCATION:De Kurk\, Steenstraat 68\, Arnhem\, 6828 CN\, Netherlands
CATEGORIES:Arnhem,Borrel,Donderdag,Trans
ATTACH;FMTTYPE=image/jpeg:https://www.cocmiddengelderland.nl/wp-content/uploads/2025/10/header-trans-80.jpg
END:VEVENT
BEGIN:VEVENT
DTSTART;TZID=Europe/Amsterdam:20281221T190000
DTEND;TZID=Europe/Amsterdam:20281221T230000
DTSTAMP:20260424T071218
CREATED:20260208T113532Z
LAST-MODIFIED:20260208T114607Z
UID:10002069-1861038000-1861052400@www.cocmiddengelderland.nl
SUMMARY:Transistor café-avond
DESCRIPTION:Kom gezellig een drankje doen en kletsen met andere trans mensen uit de community in Queercafé De Kurk. Inloop vanaf 19:00. Actuele informatie over onze activiteiten vind je op Bluesky of onze andere social media kanalen. \n\n\n\n📍We zien je graag de derde donderdagavond van de maand! 🤗💜
URL:https://www.cocmiddengelderland.nl/event/transistor-cafe-avond-4/2028-12-21/
LOCATION:De Kurk\, Steenstraat 68\, Arnhem\, 6828 CN\, Netherlands
CATEGORIES:Arnhem,Borrel,Donderdag,Trans
ATTACH;FMTTYPE=image/jpeg:https://www.cocmiddengelderland.nl/wp-content/uploads/2025/10/header-trans-80.jpg
END:VEVENT
BEGIN:VEVENT
DTSTART;TZID=Europe/Amsterdam:20270318T190000
DTEND;TZID=Europe/Amsterdam:20270318T230000
DTSTAMP:20260424T071218
CREATED:20260208T113532Z
LAST-MODIFIED:20260208T114607Z
UID:10002048-1805396400-1805410800@www.cocmiddengelderland.nl
SUMMARY:Transistor café-avond
DESCRIPTION:Kom gezellig een drankje doen en kletsen met andere trans mensen uit de community in Queercafé De Kurk. Inloop vanaf 19:00. Actuele informatie over onze activiteiten vind je op Bluesky of onze andere social media kanalen. \n\n\n\n📍We zien je graag de derde donderdagavond van de maand! 🤗💜
URL:https://www.cocmiddengelderland.nl/event/transistor-cafe-avond-4/2027-03-18/
LOCATION:De Kurk\, Steenstraat 68\, Arnhem\, 6828 CN\, Netherlands
CATEGORIES:Arnhem,Borrel,Donderdag,Trans
ATTACH;FMTTYPE=image/jpeg:https://www.cocmiddengelderland.nl/wp-content/uploads/2025/10/header-trans-80.jpg
END:VEVENT
BEGIN:VEVENT
DTSTART;TZID=Europe/Amsterdam:20291115T190000
DTEND;TZID=Europe/Amsterdam:20291115T230000
DTSTAMP:20260424T071218
CREATED:20260208T113532Z
LAST-MODIFIED:20260208T114607Z
UID:10002080-1889463600-1889478000@www.cocmiddengelderland.nl
SUMMARY:Transistor café-avond
DESCRIPTION:Kom gezellig een drankje doen en kletsen met andere trans mensen uit de community in Queercafé De Kurk. Inloop vanaf 19:00. Actuele informatie over onze activiteiten vind je op Bluesky of onze andere social media kanalen. \n\n\n\n📍We zien je graag de derde donderdagavond van de maand! 🤗💜
URL:https://www.cocmiddengelderland.nl/event/transistor-cafe-avond-4/2029-11-15/
LOCATION:De Kurk\, Steenstraat 68\, Arnhem\, 6828 CN\, Netherlands
CATEGORIES:Arnhem,Borrel,Donderdag,Trans
ATTACH;FMTTYPE=image/jpeg:https://www.cocmiddengelderland.nl/wp-content/uploads/2025/10/header-trans-80.jpg
END:VEVENT
BEGIN:VEVENT
DTSTART;TZID=Europe/Amsterdam:20280217T190000
DTEND;TZID=Europe/Amsterdam:20280217T230000
DTSTAMP:20260424T071218
CREATED:20260208T113532Z
LAST-MODIFIED:20260208T114607Z
UID:10002059-1834426800-1834441200@www.cocmiddengelderland.nl
SUMMARY:Transistor café-avond
DESCRIPTION:Kom gezellig een drankje doen en kletsen met andere trans mensen uit de community in Queercafé De Kurk. Inloop vanaf 19:00. Actuele informatie over onze activiteiten vind je op Bluesky of onze andere social media kanalen. \n\n\n\n📍We zien je graag de derde donderdagavond van de maand! 🤗💜
URL:https://www.cocmiddengelderland.nl/event/transistor-cafe-avond-4/2028-02-17/
LOCATION:De Kurk\, Steenstraat 68\, Arnhem\, 6828 CN\, Netherlands
CATEGORIES:Arnhem,Borrel,Donderdag,Trans
ATTACH;FMTTYPE=image/jpeg:https://www.cocmiddengelderland.nl/wp-content/uploads/2025/10/header-trans-80.jpg
END:VEVENT
BEGIN:VEVENT
DTSTART;TZID=Europe/Amsterdam:20301017T190000
DTEND;TZID=Europe/Amsterdam:20301017T230000
DTSTAMP:20260424T071218
CREATED:20260208T113532Z
LAST-MODIFIED:20260208T114607Z
UID:10002091-1918494000-1918508400@www.cocmiddengelderland.nl
SUMMARY:Transistor café-avond
DESCRIPTION:Kom gezellig een drankje doen en kletsen met andere trans mensen uit de community in Queercafé De Kurk. Inloop vanaf 19:00. Actuele informatie over onze activiteiten vind je op Bluesky of onze andere social media kanalen. \n\n\n\n📍We zien je graag de derde donderdagavond van de maand! 🤗💜
URL:https://www.cocmiddengelderland.nl/event/transistor-cafe-avond-4/2030-10-17/
LOCATION:De Kurk\, Steenstraat 68\, Arnhem\, 6828 CN\, Netherlands
CATEGORIES:Arnhem,Borrel,Donderdag,Trans
ATTACH;FMTTYPE=image/jpeg:https://www.cocmiddengelderland.nl/wp-content/uploads/2025/10/header-trans-80.jpg
END:VEVENT
BEGIN:VEVENT
DTSTART;TZID=Europe/Amsterdam:20260521T190000
DTEND;TZID=Europe/Amsterdam:20260521T230000
DTSTAMP:20260424T071218
CREATED:20260208T113532Z
LAST-MODIFIED:20260208T114607Z
UID:10002038-1779390000-1779404400@www.cocmiddengelderland.nl
SUMMARY:Transistor café-avond
DESCRIPTION:Kom gezellig een drankje doen en kletsen met andere trans mensen uit de community in Queercafé De Kurk. Inloop vanaf 19:00. Actuele informatie over onze activiteiten vind je op Bluesky of onze andere social media kanalen. \n\n\n\n📍We zien je graag de derde donderdagavond van de maand! 🤗💜
URL:https://www.cocmiddengelderland.nl/event/transistor-cafe-avond-4/2026-05-21/
LOCATION:De Kurk\, Steenstraat 68\, Arnhem\, 6828 CN\, Netherlands
CATEGORIES:Arnhem,Borrel,Donderdag,Trans
ATTACH;FMTTYPE=image/jpeg:https://www.cocmiddengelderland.nl/wp-content/uploads/2025/10/header-trans-80.jpg
END:VEVENT
BEGIN:VEVENT
DTSTART;TZID=Europe/Amsterdam:20290118T190000
DTEND;TZID=Europe/Amsterdam:20290118T230000
DTSTAMP:20260424T071218
CREATED:20260208T113532Z
LAST-MODIFIED:20260208T114607Z
UID:10002070-1863457200-1863471600@www.cocmiddengelderland.nl
SUMMARY:Transistor café-avond
DESCRIPTION:Kom gezellig een drankje doen en kletsen met andere trans mensen uit de community in Queercafé De Kurk. Inloop vanaf 19:00. Actuele informatie over onze activiteiten vind je op Bluesky of onze andere social media kanalen. \n\n\n\n📍We zien je graag de derde donderdagavond van de maand! 🤗💜
URL:https://www.cocmiddengelderland.nl/event/transistor-cafe-avond-4/2029-01-18/
LOCATION:De Kurk\, Steenstraat 68\, Arnhem\, 6828 CN\, Netherlands
CATEGORIES:Arnhem,Borrel,Donderdag,Trans
ATTACH;FMTTYPE=image/jpeg:https://www.cocmiddengelderland.nl/wp-content/uploads/2025/10/header-trans-80.jpg
END:VEVENT
BEGIN:VEVENT
DTSTART;TZID=Europe/Amsterdam:20270415T190000
DTEND;TZID=Europe/Amsterdam:20270415T230000
DTSTAMP:20260424T071218
CREATED:20260208T113532Z
LAST-MODIFIED:20260208T114607Z
UID:10002049-1807815600-1807830000@www.cocmiddengelderland.nl
SUMMARY:Transistor café-avond
DESCRIPTION:Kom gezellig een drankje doen en kletsen met andere trans mensen uit de community in Queercafé De Kurk. Inloop vanaf 19:00. Actuele informatie over onze activiteiten vind je op Bluesky of onze andere social media kanalen. \n\n\n\n📍We zien je graag de derde donderdagavond van de maand! 🤗💜
URL:https://www.cocmiddengelderland.nl/event/transistor-cafe-avond-4/2027-04-15/
LOCATION:De Kurk\, Steenstraat 68\, Arnhem\, 6828 CN\, Netherlands
CATEGORIES:Arnhem,Borrel,Donderdag,Trans
ATTACH;FMTTYPE=image/jpeg:https://www.cocmiddengelderland.nl/wp-content/uploads/2025/10/header-trans-80.jpg
END:VEVENT
BEGIN:VEVENT
DTSTART;TZID=Europe/Amsterdam:20291220T190000
DTEND;TZID=Europe/Amsterdam:20291220T230000
DTSTAMP:20260424T071218
CREATED:20260208T113532Z
LAST-MODIFIED:20260208T114607Z
UID:10002081-1892487600-1892502000@www.cocmiddengelderland.nl
SUMMARY:Transistor café-avond
DESCRIPTION:Kom gezellig een drankje doen en kletsen met andere trans mensen uit de community in Queercafé De Kurk. Inloop vanaf 19:00. Actuele informatie over onze activiteiten vind je op Bluesky of onze andere social media kanalen. \n\n\n\n📍We zien je graag de derde donderdagavond van de maand! 🤗💜
URL:https://www.cocmiddengelderland.nl/event/transistor-cafe-avond-4/2029-12-20/
LOCATION:De Kurk\, Steenstraat 68\, Arnhem\, 6828 CN\, Netherlands
CATEGORIES:Arnhem,Borrel,Donderdag,Trans
ATTACH;FMTTYPE=image/jpeg:https://www.cocmiddengelderland.nl/wp-content/uploads/2025/10/header-trans-80.jpg
END:VEVENT
BEGIN:VEVENT
DTSTART;TZID=Europe/Amsterdam:20280316T190000
DTEND;TZID=Europe/Amsterdam:20280316T230000
DTSTAMP:20260424T071218
CREATED:20260208T113532Z
LAST-MODIFIED:20260208T114607Z
UID:10002060-1836846000-1836860400@www.cocmiddengelderland.nl
SUMMARY:Transistor café-avond
DESCRIPTION:Kom gezellig een drankje doen en kletsen met andere trans mensen uit de community in Queercafé De Kurk. Inloop vanaf 19:00. Actuele informatie over onze activiteiten vind je op Bluesky of onze andere social media kanalen. \n\n\n\n📍We zien je graag de derde donderdagavond van de maand! 🤗💜
URL:https://www.cocmiddengelderland.nl/event/transistor-cafe-avond-4/2028-03-16/
LOCATION:De Kurk\, Steenstraat 68\, Arnhem\, 6828 CN\, Netherlands
CATEGORIES:Arnhem,Borrel,Donderdag,Trans
ATTACH;FMTTYPE=image/jpeg:https://www.cocmiddengelderland.nl/wp-content/uploads/2025/10/header-trans-80.jpg
END:VEVENT
BEGIN:VEVENT
DTSTART;TZID=Europe/Amsterdam:20301121T190000
DTEND;TZID=Europe/Amsterdam:20301121T230000
DTSTAMP:20260424T071218
CREATED:20260208T113532Z
LAST-MODIFIED:20260208T114607Z
UID:10002092-1921518000-1921532400@www.cocmiddengelderland.nl
SUMMARY:Transistor café-avond
DESCRIPTION:Kom gezellig een drankje doen en kletsen met andere trans mensen uit de community in Queercafé De Kurk. Inloop vanaf 19:00. Actuele informatie over onze activiteiten vind je op Bluesky of onze andere social media kanalen. \n\n\n\n📍We zien je graag de derde donderdagavond van de maand! 🤗💜
URL:https://www.cocmiddengelderland.nl/event/transistor-cafe-avond-4/2030-11-21/
LOCATION:De Kurk\, Steenstraat 68\, Arnhem\, 6828 CN\, Netherlands
CATEGORIES:Arnhem,Borrel,Donderdag,Trans
ATTACH;FMTTYPE=image/jpeg:https://www.cocmiddengelderland.nl/wp-content/uploads/2025/10/header-trans-80.jpg
END:VEVENT
BEGIN:VEVENT
DTSTART;TZID=Europe/Amsterdam:20280510T190000
DTEND;TZID=Europe/Amsterdam:20280510T193000
DTSTAMP:20260424T071218
CREATED:20260208T114953Z
LAST-MODIFIED:20260208T120253Z
UID:10002127-1841598000-1841599800@www.cocmiddengelderland.nl
SUMMARY:Transistor prikkelarme café-avond
DESCRIPTION:Kom gezellig een drankje doen en kletsen met andere trans mensen uit de community in Buurthuis De Lommerd. Inloop vanaf 19:00. Actuele informatie over onze activiteiten vind je op Bluesky of onze andere social media kanalen. \n\n\n\n📍Deze activiteit vindt iedere 3 maanden plaats! 🤗💜
URL:https://www.cocmiddengelderland.nl/event/transistor-prikkelarme-cafe-avond/2028-05-10/
LOCATION:Buurtcentrum de Lommerd\, Spijkerstraat 185a\, Arnhem\, 6828DC\, Netherlands
CATEGORIES:Arnhem,Trans,Woensdag
ATTACH;FMTTYPE=image/jpeg:https://www.cocmiddengelderland.nl/wp-content/uploads/2025/05/Middel-59-50.jpg
END:VEVENT
BEGIN:VEVENT
DTSTART;TZID=Europe/Amsterdam:20280809T190000
DTEND;TZID=Europe/Amsterdam:20280809T193000
DTSTAMP:20260424T071218
CREATED:20260208T114953Z
LAST-MODIFIED:20260208T120253Z
UID:10002128-1849460400-1849462200@www.cocmiddengelderland.nl
SUMMARY:Transistor prikkelarme café-avond
DESCRIPTION:Kom gezellig een drankje doen en kletsen met andere trans mensen uit de community in Buurthuis De Lommerd. Inloop vanaf 19:00. Actuele informatie over onze activiteiten vind je op Bluesky of onze andere social media kanalen. \n\n\n\n📍Deze activiteit vindt iedere 3 maanden plaats! 🤗💜
URL:https://www.cocmiddengelderland.nl/event/transistor-prikkelarme-cafe-avond/2028-08-09/
LOCATION:Buurtcentrum de Lommerd\, Spijkerstraat 185a\, Arnhem\, 6828DC\, Netherlands
CATEGORIES:Arnhem,Trans,Woensdag
ATTACH;FMTTYPE=image/jpeg:https://www.cocmiddengelderland.nl/wp-content/uploads/2025/05/Middel-59-50.jpg
END:VEVENT
BEGIN:VEVENT
DTSTART;TZID=Europe/Amsterdam:20281108T190000
DTEND;TZID=Europe/Amsterdam:20281108T193000
DTSTAMP:20260424T071218
CREATED:20260208T114953Z
LAST-MODIFIED:20260208T120253Z
UID:10002129-1857322800-1857324600@www.cocmiddengelderland.nl
SUMMARY:Transistor prikkelarme café-avond
DESCRIPTION:Kom gezellig een drankje doen en kletsen met andere trans mensen uit de community in Buurthuis De Lommerd. Inloop vanaf 19:00. Actuele informatie over onze activiteiten vind je op Bluesky of onze andere social media kanalen. \n\n\n\n📍Deze activiteit vindt iedere 3 maanden plaats! 🤗💜
URL:https://www.cocmiddengelderland.nl/event/transistor-prikkelarme-cafe-avond/2028-11-08/
LOCATION:Buurtcentrum de Lommerd\, Spijkerstraat 185a\, Arnhem\, 6828DC\, Netherlands
CATEGORIES:Arnhem,Trans,Woensdag
ATTACH;FMTTYPE=image/jpeg:https://www.cocmiddengelderland.nl/wp-content/uploads/2025/05/Middel-59-50.jpg
END:VEVENT
END:VCALENDAR