



BEGIN:VCALENDAR
VERSION:2.0
PRODID:-//COC Midden-Gelderland - ECPv6.15.17.1//NONSGML v1.0//EN
CALSCALE:GREGORIAN
METHOD:PUBLISH
X-ORIGINAL-URL:https://www.cocmiddengelderland.nl
X-WR-CALDESC:Evenementen voor COC Midden-Gelderland
REFRESH-INTERVAL;VALUE=DURATION:PT1H
X-Robots-Tag:noindex
X-PUBLISHED-TTL:PT1H
BEGIN:VTIMEZONE
TZID:Europe/Amsterdam
BEGIN:DAYLIGHT
TZOFFSETFROM:+0100
TZOFFSETTO:+0200
TZNAME:CEST
DTSTART:20250330T010000
END:DAYLIGHT
BEGIN:STANDARD
TZOFFSETFROM:+0200
TZOFFSETTO:+0100
TZNAME:CET
DTSTART:20251026T010000
END:STANDARD
BEGIN:DAYLIGHT
TZOFFSETFROM:+0100
TZOFFSETTO:+0200
TZNAME:CEST
DTSTART:20260329T010000
END:DAYLIGHT
BEGIN:STANDARD
TZOFFSETFROM:+0200
TZOFFSETTO:+0100
TZNAME:CET
DTSTART:20261025T010000
END:STANDARD
BEGIN:DAYLIGHT
TZOFFSETFROM:+0100
TZOFFSETTO:+0200
TZNAME:CEST
DTSTART:20270328T010000
END:DAYLIGHT
BEGIN:STANDARD
TZOFFSETFROM:+0200
TZOFFSETTO:+0100
TZNAME:CET
DTSTART:20271031T010000
END:STANDARD
BEGIN:DAYLIGHT
TZOFFSETFROM:+0100
TZOFFSETTO:+0200
TZNAME:CEST
DTSTART:20280326T010000
END:DAYLIGHT
BEGIN:STANDARD
TZOFFSETFROM:+0200
TZOFFSETTO:+0100
TZNAME:CET
DTSTART:20281029T010000
END:STANDARD
BEGIN:DAYLIGHT
TZOFFSETFROM:+0100
TZOFFSETTO:+0200
TZNAME:CEST
DTSTART:20290325T010000
END:DAYLIGHT
BEGIN:STANDARD
TZOFFSETFROM:+0200
TZOFFSETTO:+0100
TZNAME:CET
DTSTART:20291028T010000
END:STANDARD
BEGIN:DAYLIGHT
TZOFFSETFROM:+0100
TZOFFSETTO:+0200
TZNAME:CEST
DTSTART:20300331T010000
END:DAYLIGHT
BEGIN:STANDARD
TZOFFSETFROM:+0200
TZOFFSETTO:+0100
TZNAME:CET
DTSTART:20301027T010000
END:STANDARD
BEGIN:DAYLIGHT
TZOFFSETFROM:+0100
TZOFFSETTO:+0200
TZNAME:CEST
DTSTART:20310330T010000
END:DAYLIGHT
BEGIN:STANDARD
TZOFFSETFROM:+0200
TZOFFSETTO:+0100
TZNAME:CET
DTSTART:20311026T010000
END:STANDARD
BEGIN:DAYLIGHT
TZOFFSETFROM:+0100
TZOFFSETTO:+0200
TZNAME:CEST
DTSTART:20320328T010000
END:DAYLIGHT
BEGIN:STANDARD
TZOFFSETFROM:+0200
TZOFFSETTO:+0100
TZNAME:CET
DTSTART:20321031T010000
END:STANDARD
END:VTIMEZONE
BEGIN:VEVENT
DTSTART;TZID=Europe/Amsterdam:20290118T190000
DTEND;TZID=Europe/Amsterdam:20290118T230000
DTSTAMP:20260421T195439
CREATED:20260208T113532Z
LAST-MODIFIED:20260208T114607Z
UID:10002070-1863457200-1863471600@www.cocmiddengelderland.nl
SUMMARY:Transistor café-avond
DESCRIPTION:Kom gezellig een drankje doen en kletsen met andere trans mensen uit de community in Queercafé De Kurk. Inloop vanaf 19:00. Actuele informatie over onze activiteiten vind je op Bluesky of onze andere social media kanalen. \n\n\n\n📍We zien je graag de derde donderdagavond van de maand! 🤗💜
URL:https://www.cocmiddengelderland.nl/event/transistor-cafe-avond-4/2029-01-18/
LOCATION:De Kurk\, Steenstraat 68\, Arnhem\, 6828 CN\, Netherlands
CATEGORIES:Arnhem,Borrel,Donderdag,Trans
ATTACH;FMTTYPE=image/jpeg:https://www.cocmiddengelderland.nl/wp-content/uploads/2025/10/header-trans-80.jpg
END:VEVENT
BEGIN:VEVENT
DTSTART;TZID=Europe/Amsterdam:20270415T190000
DTEND;TZID=Europe/Amsterdam:20270415T230000
DTSTAMP:20260421T195439
CREATED:20260208T113532Z
LAST-MODIFIED:20260208T114607Z
UID:10002049-1807815600-1807830000@www.cocmiddengelderland.nl
SUMMARY:Transistor café-avond
DESCRIPTION:Kom gezellig een drankje doen en kletsen met andere trans mensen uit de community in Queercafé De Kurk. Inloop vanaf 19:00. Actuele informatie over onze activiteiten vind je op Bluesky of onze andere social media kanalen. \n\n\n\n📍We zien je graag de derde donderdagavond van de maand! 🤗💜
URL:https://www.cocmiddengelderland.nl/event/transistor-cafe-avond-4/2027-04-15/
LOCATION:De Kurk\, Steenstraat 68\, Arnhem\, 6828 CN\, Netherlands
CATEGORIES:Arnhem,Borrel,Donderdag,Trans
ATTACH;FMTTYPE=image/jpeg:https://www.cocmiddengelderland.nl/wp-content/uploads/2025/10/header-trans-80.jpg
END:VEVENT
BEGIN:VEVENT
DTSTART;TZID=Europe/Amsterdam:20291220T190000
DTEND;TZID=Europe/Amsterdam:20291220T230000
DTSTAMP:20260421T195439
CREATED:20260208T113532Z
LAST-MODIFIED:20260208T114607Z
UID:10002081-1892487600-1892502000@www.cocmiddengelderland.nl
SUMMARY:Transistor café-avond
DESCRIPTION:Kom gezellig een drankje doen en kletsen met andere trans mensen uit de community in Queercafé De Kurk. Inloop vanaf 19:00. Actuele informatie over onze activiteiten vind je op Bluesky of onze andere social media kanalen. \n\n\n\n📍We zien je graag de derde donderdagavond van de maand! 🤗💜
URL:https://www.cocmiddengelderland.nl/event/transistor-cafe-avond-4/2029-12-20/
LOCATION:De Kurk\, Steenstraat 68\, Arnhem\, 6828 CN\, Netherlands
CATEGORIES:Arnhem,Borrel,Donderdag,Trans
ATTACH;FMTTYPE=image/jpeg:https://www.cocmiddengelderland.nl/wp-content/uploads/2025/10/header-trans-80.jpg
END:VEVENT
BEGIN:VEVENT
DTSTART;TZID=Europe/Amsterdam:20280316T190000
DTEND;TZID=Europe/Amsterdam:20280316T230000
DTSTAMP:20260421T195439
CREATED:20260208T113532Z
LAST-MODIFIED:20260208T114607Z
UID:10002060-1836846000-1836860400@www.cocmiddengelderland.nl
SUMMARY:Transistor café-avond
DESCRIPTION:Kom gezellig een drankje doen en kletsen met andere trans mensen uit de community in Queercafé De Kurk. Inloop vanaf 19:00. Actuele informatie over onze activiteiten vind je op Bluesky of onze andere social media kanalen. \n\n\n\n📍We zien je graag de derde donderdagavond van de maand! 🤗💜
URL:https://www.cocmiddengelderland.nl/event/transistor-cafe-avond-4/2028-03-16/
LOCATION:De Kurk\, Steenstraat 68\, Arnhem\, 6828 CN\, Netherlands
CATEGORIES:Arnhem,Borrel,Donderdag,Trans
ATTACH;FMTTYPE=image/jpeg:https://www.cocmiddengelderland.nl/wp-content/uploads/2025/10/header-trans-80.jpg
END:VEVENT
BEGIN:VEVENT
DTSTART;TZID=Europe/Amsterdam:20301121T190000
DTEND;TZID=Europe/Amsterdam:20301121T230000
DTSTAMP:20260421T195439
CREATED:20260208T113532Z
LAST-MODIFIED:20260208T114607Z
UID:10002092-1921518000-1921532400@www.cocmiddengelderland.nl
SUMMARY:Transistor café-avond
DESCRIPTION:Kom gezellig een drankje doen en kletsen met andere trans mensen uit de community in Queercafé De Kurk. Inloop vanaf 19:00. Actuele informatie over onze activiteiten vind je op Bluesky of onze andere social media kanalen. \n\n\n\n📍We zien je graag de derde donderdagavond van de maand! 🤗💜
URL:https://www.cocmiddengelderland.nl/event/transistor-cafe-avond-4/2030-11-21/
LOCATION:De Kurk\, Steenstraat 68\, Arnhem\, 6828 CN\, Netherlands
CATEGORIES:Arnhem,Borrel,Donderdag,Trans
ATTACH;FMTTYPE=image/jpeg:https://www.cocmiddengelderland.nl/wp-content/uploads/2025/10/header-trans-80.jpg
END:VEVENT
BEGIN:VEVENT
DTSTART;TZID=Europe/Amsterdam:20260618T190000
DTEND;TZID=Europe/Amsterdam:20260618T230000
DTSTAMP:20260421T195439
CREATED:20260208T113532Z
LAST-MODIFIED:20260208T114607Z
UID:10002039-1781809200-1781823600@www.cocmiddengelderland.nl
SUMMARY:Transistor café-avond
DESCRIPTION:Kom gezellig een drankje doen en kletsen met andere trans mensen uit de community in Queercafé De Kurk. Inloop vanaf 19:00. Actuele informatie over onze activiteiten vind je op Bluesky of onze andere social media kanalen. \n\n\n\n📍We zien je graag de derde donderdagavond van de maand! 🤗💜
URL:https://www.cocmiddengelderland.nl/event/transistor-cafe-avond-4/2026-06-18/
LOCATION:De Kurk\, Steenstraat 68\, Arnhem\, 6828 CN\, Netherlands
CATEGORIES:Arnhem,Borrel,Donderdag,Trans
ATTACH;FMTTYPE=image/jpeg:https://www.cocmiddengelderland.nl/wp-content/uploads/2025/10/header-trans-80.jpg
END:VEVENT
BEGIN:VEVENT
DTSTART;TZID=Europe/Amsterdam:20290215T190000
DTEND;TZID=Europe/Amsterdam:20290215T230000
DTSTAMP:20260421T195439
CREATED:20260208T113532Z
LAST-MODIFIED:20260208T114607Z
UID:10002071-1865876400-1865890800@www.cocmiddengelderland.nl
SUMMARY:Transistor café-avond
DESCRIPTION:Kom gezellig een drankje doen en kletsen met andere trans mensen uit de community in Queercafé De Kurk. Inloop vanaf 19:00. Actuele informatie over onze activiteiten vind je op Bluesky of onze andere social media kanalen. \n\n\n\n📍We zien je graag de derde donderdagavond van de maand! 🤗💜
URL:https://www.cocmiddengelderland.nl/event/transistor-cafe-avond-4/2029-02-15/
LOCATION:De Kurk\, Steenstraat 68\, Arnhem\, 6828 CN\, Netherlands
CATEGORIES:Arnhem,Borrel,Donderdag,Trans
ATTACH;FMTTYPE=image/jpeg:https://www.cocmiddengelderland.nl/wp-content/uploads/2025/10/header-trans-80.jpg
END:VEVENT
BEGIN:VEVENT
DTSTART;TZID=Europe/Amsterdam:20270520T190000
DTEND;TZID=Europe/Amsterdam:20270520T230000
DTSTAMP:20260421T195439
CREATED:20260208T113532Z
LAST-MODIFIED:20260208T114607Z
UID:10002050-1810839600-1810854000@www.cocmiddengelderland.nl
SUMMARY:Transistor café-avond
DESCRIPTION:Kom gezellig een drankje doen en kletsen met andere trans mensen uit de community in Queercafé De Kurk. Inloop vanaf 19:00. Actuele informatie over onze activiteiten vind je op Bluesky of onze andere social media kanalen. \n\n\n\n📍We zien je graag de derde donderdagavond van de maand! 🤗💜
URL:https://www.cocmiddengelderland.nl/event/transistor-cafe-avond-4/2027-05-20/
LOCATION:De Kurk\, Steenstraat 68\, Arnhem\, 6828 CN\, Netherlands
CATEGORIES:Arnhem,Borrel,Donderdag,Trans
ATTACH;FMTTYPE=image/jpeg:https://www.cocmiddengelderland.nl/wp-content/uploads/2025/10/header-trans-80.jpg
END:VEVENT
BEGIN:VEVENT
DTSTART;TZID=Europe/Amsterdam:20300117T190000
DTEND;TZID=Europe/Amsterdam:20300117T230000
DTSTAMP:20260421T195439
CREATED:20260208T113532Z
LAST-MODIFIED:20260208T114607Z
UID:10002082-1894906800-1894921200@www.cocmiddengelderland.nl
SUMMARY:Transistor café-avond
DESCRIPTION:Kom gezellig een drankje doen en kletsen met andere trans mensen uit de community in Queercafé De Kurk. Inloop vanaf 19:00. Actuele informatie over onze activiteiten vind je op Bluesky of onze andere social media kanalen. \n\n\n\n📍We zien je graag de derde donderdagavond van de maand! 🤗💜
URL:https://www.cocmiddengelderland.nl/event/transistor-cafe-avond-4/2030-01-17/
LOCATION:De Kurk\, Steenstraat 68\, Arnhem\, 6828 CN\, Netherlands
CATEGORIES:Arnhem,Borrel,Donderdag,Trans
ATTACH;FMTTYPE=image/jpeg:https://www.cocmiddengelderland.nl/wp-content/uploads/2025/10/header-trans-80.jpg
END:VEVENT
BEGIN:VEVENT
DTSTART;TZID=Europe/Amsterdam:20280420T190000
DTEND;TZID=Europe/Amsterdam:20280420T230000
DTSTAMP:20260421T195439
CREATED:20260208T113532Z
LAST-MODIFIED:20260208T114607Z
UID:10002061-1839870000-1839884400@www.cocmiddengelderland.nl
SUMMARY:Transistor café-avond
DESCRIPTION:Kom gezellig een drankje doen en kletsen met andere trans mensen uit de community in Queercafé De Kurk. Inloop vanaf 19:00. Actuele informatie over onze activiteiten vind je op Bluesky of onze andere social media kanalen. \n\n\n\n📍We zien je graag de derde donderdagavond van de maand! 🤗💜
URL:https://www.cocmiddengelderland.nl/event/transistor-cafe-avond-4/2028-04-20/
LOCATION:De Kurk\, Steenstraat 68\, Arnhem\, 6828 CN\, Netherlands
CATEGORIES:Arnhem,Borrel,Donderdag,Trans
ATTACH;FMTTYPE=image/jpeg:https://www.cocmiddengelderland.nl/wp-content/uploads/2025/10/header-trans-80.jpg
END:VEVENT
BEGIN:VEVENT
DTSTART;TZID=Europe/Amsterdam:20301219T190000
DTEND;TZID=Europe/Amsterdam:20301219T230000
DTSTAMP:20260421T195439
CREATED:20260208T113532Z
LAST-MODIFIED:20260208T114607Z
UID:10002093-1923937200-1923951600@www.cocmiddengelderland.nl
SUMMARY:Transistor café-avond
DESCRIPTION:Kom gezellig een drankje doen en kletsen met andere trans mensen uit de community in Queercafé De Kurk. Inloop vanaf 19:00. Actuele informatie over onze activiteiten vind je op Bluesky of onze andere social media kanalen. \n\n\n\n📍We zien je graag de derde donderdagavond van de maand! 🤗💜
URL:https://www.cocmiddengelderland.nl/event/transistor-cafe-avond-4/2030-12-19/
LOCATION:De Kurk\, Steenstraat 68\, Arnhem\, 6828 CN\, Netherlands
CATEGORIES:Arnhem,Borrel,Donderdag,Trans
ATTACH;FMTTYPE=image/jpeg:https://www.cocmiddengelderland.nl/wp-content/uploads/2025/10/header-trans-80.jpg
END:VEVENT
BEGIN:VEVENT
DTSTART;TZID=Europe/Amsterdam:20260716T190000
DTEND;TZID=Europe/Amsterdam:20260716T230000
DTSTAMP:20260421T195439
CREATED:20260208T113532Z
LAST-MODIFIED:20260208T114607Z
UID:10002040-1784228400-1784242800@www.cocmiddengelderland.nl
SUMMARY:Transistor café-avond
DESCRIPTION:Kom gezellig een drankje doen en kletsen met andere trans mensen uit de community in Queercafé De Kurk. Inloop vanaf 19:00. Actuele informatie over onze activiteiten vind je op Bluesky of onze andere social media kanalen. \n\n\n\n📍We zien je graag de derde donderdagavond van de maand! 🤗💜
URL:https://www.cocmiddengelderland.nl/event/transistor-cafe-avond-4/2026-07-16/
LOCATION:De Kurk\, Steenstraat 68\, Arnhem\, 6828 CN\, Netherlands
CATEGORIES:Arnhem,Borrel,Donderdag,Trans
ATTACH;FMTTYPE=image/jpeg:https://www.cocmiddengelderland.nl/wp-content/uploads/2025/10/header-trans-80.jpg
END:VEVENT
BEGIN:VEVENT
DTSTART;TZID=Europe/Amsterdam:20290315T190000
DTEND;TZID=Europe/Amsterdam:20290315T230000
DTSTAMP:20260421T195439
CREATED:20260208T113532Z
LAST-MODIFIED:20260208T114607Z
UID:10002072-1868295600-1868310000@www.cocmiddengelderland.nl
SUMMARY:Transistor café-avond
DESCRIPTION:Kom gezellig een drankje doen en kletsen met andere trans mensen uit de community in Queercafé De Kurk. Inloop vanaf 19:00. Actuele informatie over onze activiteiten vind je op Bluesky of onze andere social media kanalen. \n\n\n\n📍We zien je graag de derde donderdagavond van de maand! 🤗💜
URL:https://www.cocmiddengelderland.nl/event/transistor-cafe-avond-4/2029-03-15/
LOCATION:De Kurk\, Steenstraat 68\, Arnhem\, 6828 CN\, Netherlands
CATEGORIES:Arnhem,Borrel,Donderdag,Trans
ATTACH;FMTTYPE=image/jpeg:https://www.cocmiddengelderland.nl/wp-content/uploads/2025/10/header-trans-80.jpg
END:VEVENT
BEGIN:VEVENT
DTSTART;TZID=Europe/Amsterdam:20270617T190000
DTEND;TZID=Europe/Amsterdam:20270617T230000
DTSTAMP:20260421T195439
CREATED:20260208T113532Z
LAST-MODIFIED:20260208T114607Z
UID:10002051-1813258800-1813273200@www.cocmiddengelderland.nl
SUMMARY:Transistor café-avond
DESCRIPTION:Kom gezellig een drankje doen en kletsen met andere trans mensen uit de community in Queercafé De Kurk. Inloop vanaf 19:00. Actuele informatie over onze activiteiten vind je op Bluesky of onze andere social media kanalen. \n\n\n\n📍We zien je graag de derde donderdagavond van de maand! 🤗💜
URL:https://www.cocmiddengelderland.nl/event/transistor-cafe-avond-4/2027-06-17/
LOCATION:De Kurk\, Steenstraat 68\, Arnhem\, 6828 CN\, Netherlands
CATEGORIES:Arnhem,Borrel,Donderdag,Trans
ATTACH;FMTTYPE=image/jpeg:https://www.cocmiddengelderland.nl/wp-content/uploads/2025/10/header-trans-80.jpg
END:VEVENT
BEGIN:VEVENT
DTSTART;TZID=Europe/Amsterdam:20300221T190000
DTEND;TZID=Europe/Amsterdam:20300221T230000
DTSTAMP:20260421T195439
CREATED:20260208T113532Z
LAST-MODIFIED:20260208T114607Z
UID:10002083-1897930800-1897945200@www.cocmiddengelderland.nl
SUMMARY:Transistor café-avond
DESCRIPTION:Kom gezellig een drankje doen en kletsen met andere trans mensen uit de community in Queercafé De Kurk. Inloop vanaf 19:00. Actuele informatie over onze activiteiten vind je op Bluesky of onze andere social media kanalen. \n\n\n\n📍We zien je graag de derde donderdagavond van de maand! 🤗💜
URL:https://www.cocmiddengelderland.nl/event/transistor-cafe-avond-4/2030-02-21/
LOCATION:De Kurk\, Steenstraat 68\, Arnhem\, 6828 CN\, Netherlands
CATEGORIES:Arnhem,Borrel,Donderdag,Trans
ATTACH;FMTTYPE=image/jpeg:https://www.cocmiddengelderland.nl/wp-content/uploads/2025/10/header-trans-80.jpg
END:VEVENT
BEGIN:VEVENT
DTSTART;TZID=Europe/Amsterdam:20280518T190000
DTEND;TZID=Europe/Amsterdam:20280518T230000
DTSTAMP:20260421T195439
CREATED:20260208T113532Z
LAST-MODIFIED:20260208T114607Z
UID:10002062-1842289200-1842303600@www.cocmiddengelderland.nl
SUMMARY:Transistor café-avond
DESCRIPTION:Kom gezellig een drankje doen en kletsen met andere trans mensen uit de community in Queercafé De Kurk. Inloop vanaf 19:00. Actuele informatie over onze activiteiten vind je op Bluesky of onze andere social media kanalen. \n\n\n\n📍We zien je graag de derde donderdagavond van de maand! 🤗💜
URL:https://www.cocmiddengelderland.nl/event/transistor-cafe-avond-4/2028-05-18/
LOCATION:De Kurk\, Steenstraat 68\, Arnhem\, 6828 CN\, Netherlands
CATEGORIES:Arnhem,Borrel,Donderdag,Trans
ATTACH;FMTTYPE=image/jpeg:https://www.cocmiddengelderland.nl/wp-content/uploads/2025/10/header-trans-80.jpg
END:VEVENT
BEGIN:VEVENT
DTSTART;TZID=Europe/Amsterdam:20310116T190000
DTEND;TZID=Europe/Amsterdam:20310116T230000
DTSTAMP:20260421T195439
CREATED:20260208T113532Z
LAST-MODIFIED:20260208T114607Z
UID:10002094-1926356400-1926370800@www.cocmiddengelderland.nl
SUMMARY:Transistor café-avond
DESCRIPTION:Kom gezellig een drankje doen en kletsen met andere trans mensen uit de community in Queercafé De Kurk. Inloop vanaf 19:00. Actuele informatie over onze activiteiten vind je op Bluesky of onze andere social media kanalen. \n\n\n\n📍We zien je graag de derde donderdagavond van de maand! 🤗💜
URL:https://www.cocmiddengelderland.nl/event/transistor-cafe-avond-4/2031-01-16/
LOCATION:De Kurk\, Steenstraat 68\, Arnhem\, 6828 CN\, Netherlands
CATEGORIES:Arnhem,Borrel,Donderdag,Trans
ATTACH;FMTTYPE=image/jpeg:https://www.cocmiddengelderland.nl/wp-content/uploads/2025/10/header-trans-80.jpg
END:VEVENT
BEGIN:VEVENT
DTSTART;TZID=Europe/Amsterdam:20260820T190000
DTEND;TZID=Europe/Amsterdam:20260820T230000
DTSTAMP:20260421T195439
CREATED:20260208T113532Z
LAST-MODIFIED:20260208T114607Z
UID:10002041-1787252400-1787266800@www.cocmiddengelderland.nl
SUMMARY:Transistor café-avond
DESCRIPTION:Kom gezellig een drankje doen en kletsen met andere trans mensen uit de community in Queercafé De Kurk. Inloop vanaf 19:00. Actuele informatie over onze activiteiten vind je op Bluesky of onze andere social media kanalen. \n\n\n\n📍We zien je graag de derde donderdagavond van de maand! 🤗💜
URL:https://www.cocmiddengelderland.nl/event/transistor-cafe-avond-4/2026-08-20/
LOCATION:De Kurk\, Steenstraat 68\, Arnhem\, 6828 CN\, Netherlands
CATEGORIES:Arnhem,Borrel,Donderdag,Trans
ATTACH;FMTTYPE=image/jpeg:https://www.cocmiddengelderland.nl/wp-content/uploads/2025/10/header-trans-80.jpg
END:VEVENT
BEGIN:VEVENT
DTSTART;TZID=Europe/Amsterdam:20290419T190000
DTEND;TZID=Europe/Amsterdam:20290419T230000
DTSTAMP:20260421T195439
CREATED:20260208T113532Z
LAST-MODIFIED:20260208T114607Z
UID:10002073-1871319600-1871334000@www.cocmiddengelderland.nl
SUMMARY:Transistor café-avond
DESCRIPTION:Kom gezellig een drankje doen en kletsen met andere trans mensen uit de community in Queercafé De Kurk. Inloop vanaf 19:00. Actuele informatie over onze activiteiten vind je op Bluesky of onze andere social media kanalen. \n\n\n\n📍We zien je graag de derde donderdagavond van de maand! 🤗💜
URL:https://www.cocmiddengelderland.nl/event/transistor-cafe-avond-4/2029-04-19/
LOCATION:De Kurk\, Steenstraat 68\, Arnhem\, 6828 CN\, Netherlands
CATEGORIES:Arnhem,Borrel,Donderdag,Trans
ATTACH;FMTTYPE=image/jpeg:https://www.cocmiddengelderland.nl/wp-content/uploads/2025/10/header-trans-80.jpg
END:VEVENT
BEGIN:VEVENT
DTSTART;TZID=Europe/Amsterdam:20270715T190000
DTEND;TZID=Europe/Amsterdam:20270715T230000
DTSTAMP:20260421T195439
CREATED:20260208T113532Z
LAST-MODIFIED:20260208T114607Z
UID:10002052-1815678000-1815692400@www.cocmiddengelderland.nl
SUMMARY:Transistor café-avond
DESCRIPTION:Kom gezellig een drankje doen en kletsen met andere trans mensen uit de community in Queercafé De Kurk. Inloop vanaf 19:00. Actuele informatie over onze activiteiten vind je op Bluesky of onze andere social media kanalen. \n\n\n\n📍We zien je graag de derde donderdagavond van de maand! 🤗💜
URL:https://www.cocmiddengelderland.nl/event/transistor-cafe-avond-4/2027-07-15/
LOCATION:De Kurk\, Steenstraat 68\, Arnhem\, 6828 CN\, Netherlands
CATEGORIES:Arnhem,Borrel,Donderdag,Trans
ATTACH;FMTTYPE=image/jpeg:https://www.cocmiddengelderland.nl/wp-content/uploads/2025/10/header-trans-80.jpg
END:VEVENT
BEGIN:VEVENT
DTSTART;TZID=Europe/Amsterdam:20300321T190000
DTEND;TZID=Europe/Amsterdam:20300321T230000
DTSTAMP:20260421T195439
CREATED:20260208T113532Z
LAST-MODIFIED:20260208T114607Z
UID:10002084-1900350000-1900364400@www.cocmiddengelderland.nl
SUMMARY:Transistor café-avond
DESCRIPTION:Kom gezellig een drankje doen en kletsen met andere trans mensen uit de community in Queercafé De Kurk. Inloop vanaf 19:00. Actuele informatie over onze activiteiten vind je op Bluesky of onze andere social media kanalen. \n\n\n\n📍We zien je graag de derde donderdagavond van de maand! 🤗💜
URL:https://www.cocmiddengelderland.nl/event/transistor-cafe-avond-4/2030-03-21/
LOCATION:De Kurk\, Steenstraat 68\, Arnhem\, 6828 CN\, Netherlands
CATEGORIES:Arnhem,Borrel,Donderdag,Trans
ATTACH;FMTTYPE=image/jpeg:https://www.cocmiddengelderland.nl/wp-content/uploads/2025/10/header-trans-80.jpg
END:VEVENT
BEGIN:VEVENT
DTSTART;TZID=Europe/Amsterdam:20280615T190000
DTEND;TZID=Europe/Amsterdam:20280615T230000
DTSTAMP:20260421T195439
CREATED:20260208T113532Z
LAST-MODIFIED:20260208T114607Z
UID:10002063-1844708400-1844722800@www.cocmiddengelderland.nl
SUMMARY:Transistor café-avond
DESCRIPTION:Kom gezellig een drankje doen en kletsen met andere trans mensen uit de community in Queercafé De Kurk. Inloop vanaf 19:00. Actuele informatie over onze activiteiten vind je op Bluesky of onze andere social media kanalen. \n\n\n\n📍We zien je graag de derde donderdagavond van de maand! 🤗💜
URL:https://www.cocmiddengelderland.nl/event/transistor-cafe-avond-4/2028-06-15/
LOCATION:De Kurk\, Steenstraat 68\, Arnhem\, 6828 CN\, Netherlands
CATEGORIES:Arnhem,Borrel,Donderdag,Trans
ATTACH;FMTTYPE=image/jpeg:https://www.cocmiddengelderland.nl/wp-content/uploads/2025/10/header-trans-80.jpg
END:VEVENT
BEGIN:VEVENT
DTSTART;TZID=Europe/Amsterdam:20260917T190000
DTEND;TZID=Europe/Amsterdam:20260917T230000
DTSTAMP:20260421T195439
CREATED:20260208T113532Z
LAST-MODIFIED:20260208T114607Z
UID:10002042-1789671600-1789686000@www.cocmiddengelderland.nl
SUMMARY:Transistor café-avond
DESCRIPTION:Kom gezellig een drankje doen en kletsen met andere trans mensen uit de community in Queercafé De Kurk. Inloop vanaf 19:00. Actuele informatie over onze activiteiten vind je op Bluesky of onze andere social media kanalen. \n\n\n\n📍We zien je graag de derde donderdagavond van de maand! 🤗💜
URL:https://www.cocmiddengelderland.nl/event/transistor-cafe-avond-4/2026-09-17/
LOCATION:De Kurk\, Steenstraat 68\, Arnhem\, 6828 CN\, Netherlands
CATEGORIES:Arnhem,Borrel,Donderdag,Trans
ATTACH;FMTTYPE=image/jpeg:https://www.cocmiddengelderland.nl/wp-content/uploads/2025/10/header-trans-80.jpg
END:VEVENT
BEGIN:VEVENT
DTSTART;TZID=Europe/Amsterdam:20290517T190000
DTEND;TZID=Europe/Amsterdam:20290517T230000
DTSTAMP:20260421T195439
CREATED:20260208T113532Z
LAST-MODIFIED:20260208T114607Z
UID:10002074-1873738800-1873753200@www.cocmiddengelderland.nl
SUMMARY:Transistor café-avond
DESCRIPTION:Kom gezellig een drankje doen en kletsen met andere trans mensen uit de community in Queercafé De Kurk. Inloop vanaf 19:00. Actuele informatie over onze activiteiten vind je op Bluesky of onze andere social media kanalen. \n\n\n\n📍We zien je graag de derde donderdagavond van de maand! 🤗💜
URL:https://www.cocmiddengelderland.nl/event/transistor-cafe-avond-4/2029-05-17/
LOCATION:De Kurk\, Steenstraat 68\, Arnhem\, 6828 CN\, Netherlands
CATEGORIES:Arnhem,Borrel,Donderdag,Trans
ATTACH;FMTTYPE=image/jpeg:https://www.cocmiddengelderland.nl/wp-content/uploads/2025/10/header-trans-80.jpg
END:VEVENT
BEGIN:VEVENT
DTSTART;TZID=Europe/Amsterdam:20270819T190000
DTEND;TZID=Europe/Amsterdam:20270819T230000
DTSTAMP:20260421T195439
CREATED:20260208T113532Z
LAST-MODIFIED:20260208T114607Z
UID:10002053-1818702000-1818716400@www.cocmiddengelderland.nl
SUMMARY:Transistor café-avond
DESCRIPTION:Kom gezellig een drankje doen en kletsen met andere trans mensen uit de community in Queercafé De Kurk. Inloop vanaf 19:00. Actuele informatie over onze activiteiten vind je op Bluesky of onze andere social media kanalen. \n\n\n\n📍We zien je graag de derde donderdagavond van de maand! 🤗💜
URL:https://www.cocmiddengelderland.nl/event/transistor-cafe-avond-4/2027-08-19/
LOCATION:De Kurk\, Steenstraat 68\, Arnhem\, 6828 CN\, Netherlands
CATEGORIES:Arnhem,Borrel,Donderdag,Trans
ATTACH;FMTTYPE=image/jpeg:https://www.cocmiddengelderland.nl/wp-content/uploads/2025/10/header-trans-80.jpg
END:VEVENT
BEGIN:VEVENT
DTSTART;TZID=Europe/Amsterdam:20300418T190000
DTEND;TZID=Europe/Amsterdam:20300418T230000
DTSTAMP:20260421T195439
CREATED:20260208T113532Z
LAST-MODIFIED:20260208T114607Z
UID:10002085-1902769200-1902783600@www.cocmiddengelderland.nl
SUMMARY:Transistor café-avond
DESCRIPTION:Kom gezellig een drankje doen en kletsen met andere trans mensen uit de community in Queercafé De Kurk. Inloop vanaf 19:00. Actuele informatie over onze activiteiten vind je op Bluesky of onze andere social media kanalen. \n\n\n\n📍We zien je graag de derde donderdagavond van de maand! 🤗💜
URL:https://www.cocmiddengelderland.nl/event/transistor-cafe-avond-4/2030-04-18/
LOCATION:De Kurk\, Steenstraat 68\, Arnhem\, 6828 CN\, Netherlands
CATEGORIES:Arnhem,Borrel,Donderdag,Trans
ATTACH;FMTTYPE=image/jpeg:https://www.cocmiddengelderland.nl/wp-content/uploads/2025/10/header-trans-80.jpg
END:VEVENT
BEGIN:VEVENT
DTSTART;TZID=Europe/Amsterdam:20280720T190000
DTEND;TZID=Europe/Amsterdam:20280720T230000
DTSTAMP:20260421T195439
CREATED:20260208T113532Z
LAST-MODIFIED:20260208T114607Z
UID:10002064-1847732400-1847746800@www.cocmiddengelderland.nl
SUMMARY:Transistor café-avond
DESCRIPTION:Kom gezellig een drankje doen en kletsen met andere trans mensen uit de community in Queercafé De Kurk. Inloop vanaf 19:00. Actuele informatie over onze activiteiten vind je op Bluesky of onze andere social media kanalen. \n\n\n\n📍We zien je graag de derde donderdagavond van de maand! 🤗💜
URL:https://www.cocmiddengelderland.nl/event/transistor-cafe-avond-4/2028-07-20/
LOCATION:De Kurk\, Steenstraat 68\, Arnhem\, 6828 CN\, Netherlands
CATEGORIES:Arnhem,Borrel,Donderdag,Trans
ATTACH;FMTTYPE=image/jpeg:https://www.cocmiddengelderland.nl/wp-content/uploads/2025/10/header-trans-80.jpg
END:VEVENT
BEGIN:VEVENT
DTSTART;TZID=Europe/Amsterdam:20290509T190000
DTEND;TZID=Europe/Amsterdam:20290509T193000
DTSTAMP:20260421T195439
CREATED:20260208T114953Z
LAST-MODIFIED:20260208T120253Z
UID:10002131-1873047600-1873049400@www.cocmiddengelderland.nl
SUMMARY:Transistor prikkelarme café-avond
DESCRIPTION:Kom gezellig een drankje doen en kletsen met andere trans mensen uit de community in Buurthuis De Lommerd. Inloop vanaf 19:00. Actuele informatie over onze activiteiten vind je op Bluesky of onze andere social media kanalen. \n\n\n\n📍Deze activiteit vindt iedere 3 maanden plaats! 🤗💜
URL:https://www.cocmiddengelderland.nl/event/transistor-prikkelarme-cafe-avond/2029-05-09/
LOCATION:Buurtcentrum de Lommerd\, Spijkerstraat 185a\, Arnhem\, 6828DC\, Netherlands
CATEGORIES:Arnhem,Trans,Woensdag
ATTACH;FMTTYPE=image/jpeg:https://www.cocmiddengelderland.nl/wp-content/uploads/2025/05/Middel-59-50.jpg
END:VEVENT
BEGIN:VEVENT
DTSTART;TZID=Europe/Amsterdam:20261111T190000
DTEND;TZID=Europe/Amsterdam:20261111T193000
DTSTAMP:20260421T195439
CREATED:20260208T114953Z
LAST-MODIFIED:20260208T120253Z
UID:10002121-1794423600-1794425400@www.cocmiddengelderland.nl
SUMMARY:Transistor prikkelarme café-avond
DESCRIPTION:Kom gezellig een drankje doen en kletsen met andere trans mensen uit de community in Buurthuis De Lommerd. Inloop vanaf 19:00. Actuele informatie over onze activiteiten vind je op Bluesky of onze andere social media kanalen. \n\n\n\n📍Deze activiteit vindt iedere 3 maanden plaats! 🤗💜
URL:https://www.cocmiddengelderland.nl/event/transistor-prikkelarme-cafe-avond/2026-11-11/
LOCATION:Buurtcentrum de Lommerd\, Spijkerstraat 185a\, Arnhem\, 6828DC\, Netherlands
CATEGORIES:Arnhem,Trans,Woensdag
ATTACH;FMTTYPE=image/jpeg:https://www.cocmiddengelderland.nl/wp-content/uploads/2025/05/Middel-59-50.jpg
END:VEVENT
BEGIN:VEVENT
DTSTART;TZID=Europe/Amsterdam:20290808T190000
DTEND;TZID=Europe/Amsterdam:20290808T193000
DTSTAMP:20260421T195439
CREATED:20260208T114953Z
LAST-MODIFIED:20260208T120253Z
UID:10002132-1880910000-1880911800@www.cocmiddengelderland.nl
SUMMARY:Transistor prikkelarme café-avond
DESCRIPTION:Kom gezellig een drankje doen en kletsen met andere trans mensen uit de community in Buurthuis De Lommerd. Inloop vanaf 19:00. Actuele informatie over onze activiteiten vind je op Bluesky of onze andere social media kanalen. \n\n\n\n📍Deze activiteit vindt iedere 3 maanden plaats! 🤗💜
URL:https://www.cocmiddengelderland.nl/event/transistor-prikkelarme-cafe-avond/2029-08-08/
LOCATION:Buurtcentrum de Lommerd\, Spijkerstraat 185a\, Arnhem\, 6828DC\, Netherlands
CATEGORIES:Arnhem,Trans,Woensdag
ATTACH;FMTTYPE=image/jpeg:https://www.cocmiddengelderland.nl/wp-content/uploads/2025/05/Middel-59-50.jpg
END:VEVENT
END:VCALENDAR